BEGIN:VCALENDAR
VERSION:2.0
PRODID:-//Durham Regional Assc of Realtors - ECPv6.15.16//NONSGML v1.0//EN
CALSCALE:GREGORIAN
METHOD:PUBLISH
X-ORIGINAL-URL:https://durhamrealtors.org
X-WR-CALDESC:Events for Durham Regional Assc of Realtors
REFRESH-INTERVAL;VALUE=DURATION:PT1H
X-Robots-Tag:noindex
X-PUBLISHED-TTL:PT1H
BEGIN:VTIMEZONE
TZID:America/New_York
BEGIN:DAYLIGHT
TZOFFSETFROM:-0500
TZOFFSETTO:-0400
TZNAME:EDT
DTSTART:20200308T070000
END:DAYLIGHT
BEGIN:STANDARD
TZOFFSETFROM:-0400
TZOFFSETTO:-0500
TZNAME:EST
DTSTART:20201101T060000
END:STANDARD
BEGIN:DAYLIGHT
TZOFFSETFROM:-0500
TZOFFSETTO:-0400
TZNAME:EDT
DTSTART:20210314T070000
END:DAYLIGHT
BEGIN:STANDARD
TZOFFSETFROM:-0400
TZOFFSETTO:-0500
TZNAME:EST
DTSTART:20211107T060000
END:STANDARD
BEGIN:DAYLIGHT
TZOFFSETFROM:-0500
TZOFFSETTO:-0400
TZNAME:EDT
DTSTART:20220313T070000
END:DAYLIGHT
BEGIN:STANDARD
TZOFFSETFROM:-0400
TZOFFSETTO:-0500
TZNAME:EST
DTSTART:20221106T060000
END:STANDARD
END:VTIMEZONE
BEGIN:VEVENT
DTSTART;TZID=America/New_York:20211026T083000
DTEND;TZID=America/New_York:20211026T163000
DTSTAMP:20260424T070348
CREATED:20210629T202231Z
LAST-MODIFIED:20210629T202231Z
UID:9689-1635237000-1635265800@durhamrealtors.org
SUMMARY:Post-Licensing Course 303 (NC Law\, Rules\, & Legal Concepts)
DESCRIPTION:Class Meets: Tue/Wed 10/26\, 10/27\, 11/2\, 11/3\, Exam 11/8 \nTopics addressed in this course include commercial real estate brokerage\, residential property management\, land use controls\, loan fraud\, license law issues and case studies\, fair housing\, establishing a brokerage firm\, and manufactured and modular homes. \nPrior to the start of class\, you can access required digital course materials at https://www.superiorschoolnc.com/superior-downloadable-pdfs/#post. \nA course description and copy of the course syllabus can be found at https://www.ncrec.gov/Pdfs/PostLicensing/SyllabusCC.pdf.
URL:https://durhamrealtors.org/event/post-licensing-course-303-nc-law-rules-legal-concepts/2021-10-26/
LOCATION:REALTOR® Square at DRAR\, 4236 University Drive\, Durham\, NC\, 27707\, United States
GEO:35.9626463;-78.9610398
X-APPLE-STRUCTURED-LOCATION;VALUE=URI;X-ADDRESS=REALTOR® Square at DRAR 4236 University Drive Durham NC 27707 United States;X-APPLE-RADIUS=500;X-TITLE=4236 University Drive:geo:-78.9610398,35.9626463
END:VEVENT
END:VCALENDAR