BEGIN:VCALENDAR
VERSION:2.0
PRODID:-//Durham Regional Assc of Realtors - ECPv6.15.16//NONSGML v1.0//EN
CALSCALE:GREGORIAN
METHOD:PUBLISH
X-ORIGINAL-URL:https://durhamrealtors.org
X-WR-CALDESC:Events for Durham Regional Assc of Realtors
REFRESH-INTERVAL;VALUE=DURATION:PT1H
X-Robots-Tag:noindex
X-PUBLISHED-TTL:PT1H
BEGIN:VTIMEZONE
TZID:America/New_York
BEGIN:DAYLIGHT
TZOFFSETFROM:-0500
TZOFFSETTO:-0400
TZNAME:EDT
DTSTART:20200308T070000
END:DAYLIGHT
BEGIN:STANDARD
TZOFFSETFROM:-0400
TZOFFSETTO:-0500
TZNAME:EST
DTSTART:20201101T060000
END:STANDARD
BEGIN:DAYLIGHT
TZOFFSETFROM:-0500
TZOFFSETTO:-0400
TZNAME:EDT
DTSTART:20210314T070000
END:DAYLIGHT
BEGIN:STANDARD
TZOFFSETFROM:-0400
TZOFFSETTO:-0500
TZNAME:EST
DTSTART:20211107T060000
END:STANDARD
BEGIN:DAYLIGHT
TZOFFSETFROM:-0500
TZOFFSETTO:-0400
TZNAME:EDT
DTSTART:20220313T070000
END:DAYLIGHT
BEGIN:STANDARD
TZOFFSETFROM:-0400
TZOFFSETTO:-0500
TZNAME:EST
DTSTART:20221106T060000
END:STANDARD
END:VTIMEZONE
BEGIN:VEVENT
DTSTART;TZID=America/New_York:20210907T083000
DTEND;TZID=America/New_York:20210907T163000
DTSTAMP:20260424T064424
CREATED:20210628T172618Z
LAST-MODIFIED:20210628T172618Z
UID:9678-1631003400-1631032200@durhamrealtors.org
SUMMARY:Pre-Licensing Class
DESCRIPTION:Class Meets in Person: Tuedays and Wednesdays: 9/7\, 9/8\, 9/14\, 9/15\, 9/21\, 9/22\, 9/28\, 9/29\, 10/5\, 10/6\, Exam 10/13 \nThis course meets the 75-hour pre-licensing curriculum requirement for real estate brokers as set forth by the state of North Carolina.\nThe course provides foundational knowledge on real property and contract law\, agency law and brokerage topics\, as well as other real estate-related topics important for the well-rounded professional\, including real estate financing\, appraisal\, calculations\, fair housing\, property management\, construction\, land use\, property insurance\, property tax\, real estate investment\, and more. It examines all relevant elements of North Carolina’s Real Estate License Law\, as well as other pertinent laws related to the practice of real estate in the state. Video\, case studies\, review of state-specific contracts and forms\, as well as the many opportunities for self-assessment\, prepare you for success on the state exam and in their new career. \n  \nCopy of the Syllabus: https://www.ncrec.gov/Forms/Education/Prelicense_Course_Syllabus.pdf \nSponsor Code: 5690 \nDRAR Certified Education Provider #1596
URL:https://durhamrealtors.org/event/pre-licensing-class/2021-09-07/
LOCATION:REALTOR® Square at DRAR\, 4236 University Drive\, Durham\, NC\, 27707\, United States
GEO:35.9626463;-78.9610398
X-APPLE-STRUCTURED-LOCATION;VALUE=URI;X-ADDRESS=REALTOR® Square at DRAR 4236 University Drive Durham NC 27707 United States;X-APPLE-RADIUS=500;X-TITLE=4236 University Drive:geo:-78.9610398,35.9626463
END:VEVENT
END:VCALENDAR