BEGIN:VCALENDAR
VERSION:2.0
PRODID:-//Durham Regional Assc of Realtors - ECPv6.15.16//NONSGML v1.0//EN
CALSCALE:GREGORIAN
METHOD:PUBLISH
X-ORIGINAL-URL:https://durhamrealtors.org
X-WR-CALDESC:Events for Durham Regional Assc of Realtors
REFRESH-INTERVAL;VALUE=DURATION:PT1H
X-Robots-Tag:noindex
X-PUBLISHED-TTL:PT1H
BEGIN:VTIMEZONE
TZID:America/New_York
BEGIN:DAYLIGHT
TZOFFSETFROM:-0500
TZOFFSETTO:-0400
TZNAME:EDT
DTSTART:20230312T070000
END:DAYLIGHT
BEGIN:STANDARD
TZOFFSETFROM:-0400
TZOFFSETTO:-0500
TZNAME:EST
DTSTART:20231105T060000
END:STANDARD
BEGIN:DAYLIGHT
TZOFFSETFROM:-0500
TZOFFSETTO:-0400
TZNAME:EDT
DTSTART:20240310T070000
END:DAYLIGHT
BEGIN:STANDARD
TZOFFSETFROM:-0400
TZOFFSETTO:-0500
TZNAME:EST
DTSTART:20241103T060000
END:STANDARD
BEGIN:DAYLIGHT
TZOFFSETFROM:-0500
TZOFFSETTO:-0400
TZNAME:EDT
DTSTART:20250309T070000
END:DAYLIGHT
BEGIN:STANDARD
TZOFFSETFROM:-0400
TZOFFSETTO:-0500
TZNAME:EST
DTSTART:20251102T060000
END:STANDARD
END:VTIMEZONE
BEGIN:VEVENT
DTSTART;TZID=America/New_York:20241121T113000
DTEND;TZID=America/New_York:20241121T133000
DTSTAMP:20260424T103110
CREATED:20240607T125437Z
LAST-MODIFIED:20241114T221855Z
UID:14012-1732188600-1732195800@durhamrealtors.org
SUMMARY:Holiday Luncheon & Installation of Officers
DESCRIPTION:Members Free\, No-Shows and Guests $35 (limit 1 guest) \nEvent is Full \nBring new or gently used clean coats and non-perishable food to benefit Urban Ministries of Durham and Second Mile Ministry at Grey Stone Church
URL:https://durhamrealtors.org/event/membership-luncheon-installation-of-officers-directors/
LOCATION:Hope Valley Country Club\, 3803 Dover Rd\, NC 27707\, Durham\, 27707\, United States
GEO:35.9470063;-78.9518792
X-APPLE-STRUCTURED-LOCATION;VALUE=URI;X-ADDRESS=Hope Valley Country Club 3803 Dover Rd NC 27707 Durham 27707 United States;X-APPLE-RADIUS=500;X-TITLE=3803 Dover Rd\, NC 27707:geo:-78.9518792,35.9470063
END:VEVENT
END:VCALENDAR