BEGIN:VCALENDAR
VERSION:2.0
PRODID:-//Durham Regional Assc of Realtors - ECPv6.15.16//NONSGML v1.0//EN
CALSCALE:GREGORIAN
METHOD:PUBLISH
X-ORIGINAL-URL:https://durhamrealtors.org
X-WR-CALDESC:Events for Durham Regional Assc of Realtors
REFRESH-INTERVAL;VALUE=DURATION:PT1H
X-Robots-Tag:noindex
X-PUBLISHED-TTL:PT1H
BEGIN:VTIMEZONE
TZID:America/New_York
BEGIN:DAYLIGHT
TZOFFSETFROM:-0500
TZOFFSETTO:-0400
TZNAME:EDT
DTSTART:20240310T070000
END:DAYLIGHT
BEGIN:STANDARD
TZOFFSETFROM:-0400
TZOFFSETTO:-0500
TZNAME:EST
DTSTART:20241103T060000
END:STANDARD
BEGIN:DAYLIGHT
TZOFFSETFROM:-0500
TZOFFSETTO:-0400
TZNAME:EDT
DTSTART:20250309T070000
END:DAYLIGHT
BEGIN:STANDARD
TZOFFSETFROM:-0400
TZOFFSETTO:-0500
TZNAME:EST
DTSTART:20251102T060000
END:STANDARD
BEGIN:DAYLIGHT
TZOFFSETFROM:-0500
TZOFFSETTO:-0400
TZNAME:EDT
DTSTART:20260308T070000
END:DAYLIGHT
BEGIN:STANDARD
TZOFFSETFROM:-0400
TZOFFSETTO:-0500
TZNAME:EST
DTSTART:20261101T060000
END:STANDARD
END:VTIMEZONE
BEGIN:VEVENT
DTSTART;TZID=America/New_York:20250305T093000
DTEND;TZID=America/New_York:20250305T103000
DTSTAMP:20260424T065149
CREATED:20250207T172438Z
LAST-MODIFIED:20250207T172438Z
UID:15057-1741167000-1741170600@durhamrealtors.org
SUMMARY:Executive Committee
DESCRIPTION:
URL:https://durhamrealtors.org/event/executive-committee/
LOCATION:REALTOR® Square at DRAR\, 4236 University Drive\, Durham\, NC\, 27707\, United States
GEO:35.9626463;-78.9610398
X-APPLE-STRUCTURED-LOCATION;VALUE=URI;X-ADDRESS=REALTOR® Square at DRAR 4236 University Drive Durham NC 27707 United States;X-APPLE-RADIUS=500;X-TITLE=4236 University Drive:geo:-78.9610398,35.9626463
END:VEVENT
BEGIN:VEVENT
DTSTART;TZID=America/New_York:20250305T150000
DTEND;TZID=America/New_York:20250305T160000
DTSTAMP:20260424T065149
CREATED:20250227T154457Z
LAST-MODIFIED:20250227T154457Z
UID:15111-1741186800-1741190400@durhamrealtors.org
SUMMARY:FREE Online Webinar by Zan Monroe: The 8 Skills You Need to Succeed
DESCRIPTION:Unlock your full potential with The 8 Skills You Need to Succeed! Join us for this free\, high-energy online webinar on March 5 at 3pm\, exclusively for DRAR members. You’ll gain powerful insights to elevate your business and get a sneak peek at the game-changing RECHARGE course. Don’t miss this opportunity to sharpen your skills—register now! \nREGISTER
URL:https://durhamrealtors.org/event/free-online-webinar-by-zan-monroe-the-8-skills-you-need-to-succeed/
LOCATION:ZOOM Webinar\, NC\, United States
END:VEVENT
END:VCALENDAR