BEGIN:VCALENDAR
VERSION:2.0
PRODID:-//Durham Regional Assc of Realtors - ECPv6.15.16//NONSGML v1.0//EN
CALSCALE:GREGORIAN
METHOD:PUBLISH
X-WR-CALNAME:Durham Regional Assc of Realtors
X-ORIGINAL-URL:https://durhamrealtors.org
X-WR-CALDESC:Events for Durham Regional Assc of Realtors
REFRESH-INTERVAL;VALUE=DURATION:PT1H
X-Robots-Tag:noindex
X-PUBLISHED-TTL:PT1H
BEGIN:VTIMEZONE
TZID:America/New_York
BEGIN:DAYLIGHT
TZOFFSETFROM:-0500
TZOFFSETTO:-0400
TZNAME:EDT
DTSTART:20240310T070000
END:DAYLIGHT
BEGIN:STANDARD
TZOFFSETFROM:-0400
TZOFFSETTO:-0500
TZNAME:EST
DTSTART:20241103T060000
END:STANDARD
BEGIN:DAYLIGHT
TZOFFSETFROM:-0500
TZOFFSETTO:-0400
TZNAME:EDT
DTSTART:20250309T070000
END:DAYLIGHT
BEGIN:STANDARD
TZOFFSETFROM:-0400
TZOFFSETTO:-0500
TZNAME:EST
DTSTART:20251102T060000
END:STANDARD
BEGIN:DAYLIGHT
TZOFFSETFROM:-0500
TZOFFSETTO:-0400
TZNAME:EDT
DTSTART:20260308T070000
END:DAYLIGHT
BEGIN:STANDARD
TZOFFSETFROM:-0400
TZOFFSETTO:-0500
TZNAME:EST
DTSTART:20261101T060000
END:STANDARD
END:VTIMEZONE
BEGIN:VEVENT
DTSTART;TZID=America/New_York:20250310T090000
DTEND;TZID=America/New_York:20250310T160000
DTSTAMP:20260424T052337
CREATED:20250218T152915Z
LAST-MODIFIED:20250218T152915Z
UID:15073-1741597200-1741622400@durhamrealtors.org
SUMMARY:Zan Monroe's RECHARGE! Event
DESCRIPTION:Did you know that 45% of REALTORS® fail in their first 3 years of business because they never learn the simple skills they need to succeed. Zan Monroe’s RECHARGE teaches you proven success skills and comes with a money-back guarantee! \nA 2-Day learning event designed for real estate agents who want to take their business to the next level. Hosted by Zan Monroe. \nCost: $300 \nREGISTER
URL:https://durhamrealtors.org/event/zan-monroes-recharge-event/2025-03-10/
LOCATION:REALTOR® Square at DRAR\, 4236 University Drive\, Durham\, NC\, 27707\, United States
GEO:35.9626463;-78.9610398
X-APPLE-STRUCTURED-LOCATION;VALUE=URI;X-ADDRESS=REALTOR® Square at DRAR 4236 University Drive Durham NC 27707 United States;X-APPLE-RADIUS=500;X-TITLE=4236 University Drive:geo:-78.9610398,35.9626463
END:VEVENT
BEGIN:VEVENT
DTSTART;TZID=America/New_York:20250310T113000
DTEND;TZID=America/New_York:20250310T130000
DTSTAMP:20260424T052337
CREATED:20250305T143514Z
LAST-MODIFIED:20250305T143514Z
UID:15131-1741606200-1741611600@durhamrealtors.org
SUMMARY:Kerr Lake Quarterly Luncheon
DESCRIPTION:This event was rescheduled from Wednesday\, March 5. If you were registered to attend that event\, you’re registered to attend this event. If you cannot attend on March 10\, please cancel with services@durhamrealtors.org. \nGuest Speaker: Mark Chamberlain\, Senior Mortgage Advisor\, Motto Mortgage \nTopics:\nWhy a lender partner can be critical to REALTORS® success\nNavigating the loan approval process with clients\nAccess to co-branding and creation of marketing materials
URL:https://durhamrealtors.org/event/kerr-lake-quarterly-luncheon-5/
LOCATION:Ribeyes Henderson\, 2002 Graham Avenue\, Henderson\, NC\, 27536\, United States
END:VEVENT
END:VCALENDAR