BEGIN:VCALENDAR
VERSION:2.0
PRODID:-//Durham Regional Assc of Realtors - ECPv6.15.16//NONSGML v1.0//EN
CALSCALE:GREGORIAN
METHOD:PUBLISH
X-ORIGINAL-URL:https://durhamrealtors.org
X-WR-CALDESC:Events for Durham Regional Assc of Realtors
REFRESH-INTERVAL;VALUE=DURATION:PT1H
X-Robots-Tag:noindex
X-PUBLISHED-TTL:PT1H
BEGIN:VTIMEZONE
TZID:America/New_York
BEGIN:DAYLIGHT
TZOFFSETFROM:-0500
TZOFFSETTO:-0400
TZNAME:EDT
DTSTART:20240310T070000
END:DAYLIGHT
BEGIN:STANDARD
TZOFFSETFROM:-0400
TZOFFSETTO:-0500
TZNAME:EST
DTSTART:20241103T060000
END:STANDARD
BEGIN:DAYLIGHT
TZOFFSETFROM:-0500
TZOFFSETTO:-0400
TZNAME:EDT
DTSTART:20250309T070000
END:DAYLIGHT
BEGIN:STANDARD
TZOFFSETFROM:-0400
TZOFFSETTO:-0500
TZNAME:EST
DTSTART:20251102T060000
END:STANDARD
BEGIN:DAYLIGHT
TZOFFSETFROM:-0500
TZOFFSETTO:-0400
TZNAME:EDT
DTSTART:20260308T070000
END:DAYLIGHT
BEGIN:STANDARD
TZOFFSETFROM:-0400
TZOFFSETTO:-0500
TZNAME:EST
DTSTART:20261101T060000
END:STANDARD
END:VTIMEZONE
BEGIN:VEVENT
DTSTART;TZID=America/New_York:20250313T083000
DTEND;TZID=America/New_York:20250313T123000
DTSTAMP:20260424T052642
CREATED:20250207T165248Z
LAST-MODIFIED:20250207T165314Z
UID:15032-1741854600-1741869000@durhamrealtors.org
SUMMARY:#9925: In-Person GENUP at DRAR
DESCRIPTION:Your Instructor: Chris Barnette \nRefreshments provided \nREGISTER \nTopics: \n\nEnvironmental Material Facts\nNCREC Frequently Asked Questions\nPermits\nEducation Update\nLaw and Rules Update
URL:https://durhamrealtors.org/event/9925-in-person-genup-at-drar/
LOCATION:REALTOR® Square at DRAR\, 4236 University Drive\, Durham\, NC\, 27707\, United States
GEO:35.9626463;-78.9610398
X-APPLE-STRUCTURED-LOCATION;VALUE=URI;X-ADDRESS=REALTOR® Square at DRAR 4236 University Drive Durham NC 27707 United States;X-APPLE-RADIUS=500;X-TITLE=4236 University Drive:geo:-78.9610398,35.9626463
END:VEVENT
BEGIN:VEVENT
DTSTART;TZID=America/New_York:20250313T133000
DTEND;TZID=America/New_York:20250313T173000
DTSTAMP:20260424T052642
CREATED:20250207T165056Z
LAST-MODIFIED:20250207T165407Z
UID:15030-1741872600-1741887000@durhamrealtors.org
SUMMARY:#1965: In-Person Killer Negotiations Continuing Education Course
DESCRIPTION:Consumer surveys have confirmed that one of the most valuable skills an agent can offer is guidance in the negotiation process. This course combines principles from Chris Voss’s “Never Split the Difference” and Sun Tzu’s “The Art of War” with insights from neuroscience. Join this engaging and enlightening discussion on the art of negotiation\, and learn how to master this fundamental aspect of real estate. \nIn-Person with Chris Barnette \nRegistration details coming soon
URL:https://durhamrealtors.org/event/1965-killer-negotiations-continuing-education-course/
LOCATION:REALTOR® Square at DRAR\, 4236 University Drive\, Durham\, NC\, 27707\, United States
GEO:35.9626463;-78.9610398
X-APPLE-STRUCTURED-LOCATION;VALUE=URI;X-ADDRESS=REALTOR® Square at DRAR 4236 University Drive Durham NC 27707 United States;X-APPLE-RADIUS=500;X-TITLE=4236 University Drive:geo:-78.9610398,35.9626463
END:VEVENT
END:VCALENDAR