BEGIN:VCALENDAR
VERSION:2.0
PRODID:-//Durham Regional Assc of Realtors - ECPv6.15.16//NONSGML v1.0//EN
CALSCALE:GREGORIAN
METHOD:PUBLISH
X-WR-CALNAME:Durham Regional Assc of Realtors
X-ORIGINAL-URL:https://durhamrealtors.org
X-WR-CALDESC:Events for Durham Regional Assc of Realtors
REFRESH-INTERVAL;VALUE=DURATION:PT1H
X-Robots-Tag:noindex
X-PUBLISHED-TTL:PT1H
BEGIN:VTIMEZONE
TZID:America/New_York
BEGIN:DAYLIGHT
TZOFFSETFROM:-0500
TZOFFSETTO:-0400
TZNAME:EDT
DTSTART:20240310T070000
END:DAYLIGHT
BEGIN:STANDARD
TZOFFSETFROM:-0400
TZOFFSETTO:-0500
TZNAME:EST
DTSTART:20241103T060000
END:STANDARD
BEGIN:DAYLIGHT
TZOFFSETFROM:-0500
TZOFFSETTO:-0400
TZNAME:EDT
DTSTART:20250309T070000
END:DAYLIGHT
BEGIN:STANDARD
TZOFFSETFROM:-0400
TZOFFSETTO:-0500
TZNAME:EST
DTSTART:20251102T060000
END:STANDARD
BEGIN:DAYLIGHT
TZOFFSETFROM:-0500
TZOFFSETTO:-0400
TZNAME:EDT
DTSTART:20260308T070000
END:DAYLIGHT
BEGIN:STANDARD
TZOFFSETFROM:-0400
TZOFFSETTO:-0500
TZNAME:EST
DTSTART:20261101T060000
END:STANDARD
END:VTIMEZONE
BEGIN:VEVENT
DTSTART;TZID=America/New_York:20250522T100000
DTEND;TZID=America/New_York:20250522T110000
DTSTAMP:20260424T014947
CREATED:20250127T134629Z
LAST-MODIFIED:20250411T142229Z
UID:14931-1747908000-1747911600@durhamrealtors.org
SUMMARY:Diversity\, Equity\, & Inclusion ( DEI) Committee - Guest Speaker: Hannah Chan
DESCRIPTION:In recognition of Asian American\, Native Hawaiian\, and Pacific Islander Heritage Month\, guest speaker Hannah Chan will discuss her call to give back—to honor those who paved the way\, to protect the industry that gave her a voice\, and to help create a future where every REALTOR®\, no matter their background\, has the opportunity to thrive and lead. \nAll DRAR members are invited to attend. \nREGISTER
URL:https://durhamrealtors.org/event/diversity-equity-inclusion-dei-committee-6/
LOCATION:REALTOR® Square at DRAR\, 4236 University Drive\, Durham\, NC\, 27707\, United States
GEO:35.9626463;-78.9610398
X-APPLE-STRUCTURED-LOCATION;VALUE=URI;X-ADDRESS=REALTOR® Square at DRAR 4236 University Drive Durham NC 27707 United States;X-APPLE-RADIUS=500;X-TITLE=4236 University Drive:geo:-78.9610398,35.9626463
END:VEVENT
END:VCALENDAR