BEGIN:VCALENDAR
VERSION:2.0
PRODID:-//Durham Regional Assc of Realtors - ECPv6.15.16//NONSGML v1.0//EN
CALSCALE:GREGORIAN
METHOD:PUBLISH
X-WR-CALNAME:Durham Regional Assc of Realtors
X-ORIGINAL-URL:https://durhamrealtors.org
X-WR-CALDESC:Events for Durham Regional Assc of Realtors
REFRESH-INTERVAL;VALUE=DURATION:PT1H
X-Robots-Tag:noindex
X-PUBLISHED-TTL:PT1H
BEGIN:VTIMEZONE
TZID:America/New_York
BEGIN:DAYLIGHT
TZOFFSETFROM:-0500
TZOFFSETTO:-0400
TZNAME:EDT
DTSTART:20240310T070000
END:DAYLIGHT
BEGIN:STANDARD
TZOFFSETFROM:-0400
TZOFFSETTO:-0500
TZNAME:EST
DTSTART:20241103T060000
END:STANDARD
BEGIN:DAYLIGHT
TZOFFSETFROM:-0500
TZOFFSETTO:-0400
TZNAME:EDT
DTSTART:20250309T070000
END:DAYLIGHT
BEGIN:STANDARD
TZOFFSETFROM:-0400
TZOFFSETTO:-0500
TZNAME:EST
DTSTART:20251102T060000
END:STANDARD
BEGIN:DAYLIGHT
TZOFFSETFROM:-0500
TZOFFSETTO:-0400
TZNAME:EDT
DTSTART:20260308T070000
END:DAYLIGHT
BEGIN:STANDARD
TZOFFSETFROM:-0400
TZOFFSETTO:-0500
TZNAME:EST
DTSTART:20261101T060000
END:STANDARD
END:VTIMEZONE
BEGIN:VEVENT
DTSTART;TZID=America/New_York:20251001T083000
DTEND;TZID=America/New_York:20251001T123000
DTSTAMP:20260423T195837
CREATED:20250820T145245Z
LAST-MODIFIED:20250820T145411Z
UID:15659-1759307400-1759321800@durhamrealtors.org
SUMMARY:Synchronous CE Elective Course: Radon and Real Estate in North Carolina
DESCRIPTION:FREE to all licensees! \n \nREGISTER \nPhillip Ray Gibson has served for 13 years as the North Carolina Radon Program Coordinator with the Division of Health Service Regulation\, Radiation Protection Section for the North Carolina Department of Health and Human Services. He leads statewide efforts in education and public awareness about the health risks of radon exposure. In addition to his work in environmental health\, Phillip is licensed by the North Carolina Real Estate Commission as a broker-in-charge\, combining his expertise in housing with his commitment to public well-being.
URL:https://durhamrealtors.org/event/synchronous-ce-elective-course-radon-and-real-estate-in-north-carolina/
LOCATION:ZOOM Webinar\, NC\, United States
END:VEVENT
END:VCALENDAR