BEGIN:VCALENDAR
VERSION:2.0
PRODID:-//Durham Regional Assc of Realtors - ECPv6.15.16//NONSGML v1.0//EN
CALSCALE:GREGORIAN
METHOD:PUBLISH
X-WR-CALNAME:Durham Regional Assc of Realtors
X-ORIGINAL-URL:https://durhamrealtors.org
X-WR-CALDESC:Events for Durham Regional Assc of Realtors
REFRESH-INTERVAL;VALUE=DURATION:PT1H
X-Robots-Tag:noindex
X-PUBLISHED-TTL:PT1H
BEGIN:VTIMEZONE
TZID:America/New_York
BEGIN:DAYLIGHT
TZOFFSETFROM:-0500
TZOFFSETTO:-0400
TZNAME:EDT
DTSTART:20250309T070000
END:DAYLIGHT
BEGIN:STANDARD
TZOFFSETFROM:-0400
TZOFFSETTO:-0500
TZNAME:EST
DTSTART:20251102T060000
END:STANDARD
BEGIN:DAYLIGHT
TZOFFSETFROM:-0500
TZOFFSETTO:-0400
TZNAME:EDT
DTSTART:20260308T070000
END:DAYLIGHT
BEGIN:STANDARD
TZOFFSETFROM:-0400
TZOFFSETTO:-0500
TZNAME:EST
DTSTART:20261101T060000
END:STANDARD
BEGIN:DAYLIGHT
TZOFFSETFROM:-0500
TZOFFSETTO:-0400
TZNAME:EDT
DTSTART:20270314T070000
END:DAYLIGHT
BEGIN:STANDARD
TZOFFSETFROM:-0400
TZOFFSETTO:-0500
TZNAME:EST
DTSTART:20271107T060000
END:STANDARD
END:VTIMEZONE
BEGIN:VEVENT
DTSTART;TZID=America/New_York:20260115T083000
DTEND;TZID=America/New_York:20260115T123000
DTSTAMP:20260423T135228
CREATED:20251119T174757Z
LAST-MODIFIED:20251120T170644Z
UID:15852-1768465800-1768480200@durhamrealtors.org
SUMMARY:#9926 General Update (GENUP)
DESCRIPTION:Topics:\n• Understanding the role of an Agent\n• A look at contemporary issues in Fair Housing\n• FAQs \nREGISTER
URL:https://durhamrealtors.org/event/9926-general-update-genup-2/
LOCATION:REALTOR® Square at DRAR\, 4236 University Drive\, Durham\, NC\, 27707\, United States
GEO:35.9626463;-78.9610398
X-APPLE-STRUCTURED-LOCATION;VALUE=URI;X-ADDRESS=REALTOR® Square at DRAR 4236 University Drive Durham NC 27707 United States;X-APPLE-RADIUS=500;X-TITLE=4236 University Drive:geo:-78.9610398,35.9626463
END:VEVENT
BEGIN:VEVENT
DTSTART;TZID=America/New_York:20260115T123000
DTEND;TZID=America/New_York:20260115T173000
DTSTAMP:20260423T135228
CREATED:20251119T175034Z
LAST-MODIFIED:20251120T170605Z
UID:15854-1768480200-1768498200@durhamrealtors.org
SUMMARY:#4090 Fair Housing Elective: A Look Back and a Path Forward
DESCRIPTION:This course meets the Fair Housing learning objective and minimum criteria established\nby NAR and provides 4 hours of NCREC CE elective credit. \nClick here to learn more about the Fair Housing requirement. \nREGISTER
URL:https://durhamrealtors.org/event/4090-fair-housing-elective-a-look-back-and-a-path-forward-2/
LOCATION:REALTOR® Square at DRAR\, 4236 University Drive\, Durham\, NC\, 27707\, United States
GEO:35.9626463;-78.9610398
X-APPLE-STRUCTURED-LOCATION;VALUE=URI;X-ADDRESS=REALTOR® Square at DRAR 4236 University Drive Durham NC 27707 United States;X-APPLE-RADIUS=500;X-TITLE=4236 University Drive:geo:-78.9610398,35.9626463
END:VEVENT
END:VCALENDAR