BEGIN:VCALENDAR
VERSION:2.0
PRODID:-//Durham Regional Assc of Realtors - ECPv6.15.16//NONSGML v1.0//EN
CALSCALE:GREGORIAN
METHOD:PUBLISH
X-ORIGINAL-URL:https://durhamrealtors.org
X-WR-CALDESC:Events for Durham Regional Assc of Realtors
REFRESH-INTERVAL;VALUE=DURATION:PT1H
X-Robots-Tag:noindex
X-PUBLISHED-TTL:PT1H
BEGIN:VTIMEZONE
TZID:America/New_York
BEGIN:DAYLIGHT
TZOFFSETFROM:-0500
TZOFFSETTO:-0400
TZNAME:EDT
DTSTART:20190310T070000
END:DAYLIGHT
BEGIN:STANDARD
TZOFFSETFROM:-0400
TZOFFSETTO:-0500
TZNAME:EST
DTSTART:20191103T060000
END:STANDARD
BEGIN:DAYLIGHT
TZOFFSETFROM:-0500
TZOFFSETTO:-0400
TZNAME:EDT
DTSTART:20200308T070000
END:DAYLIGHT
BEGIN:STANDARD
TZOFFSETFROM:-0400
TZOFFSETTO:-0500
TZNAME:EST
DTSTART:20201101T060000
END:STANDARD
BEGIN:DAYLIGHT
TZOFFSETFROM:-0500
TZOFFSETTO:-0400
TZNAME:EDT
DTSTART:20210314T070000
END:DAYLIGHT
BEGIN:STANDARD
TZOFFSETFROM:-0400
TZOFFSETTO:-0500
TZNAME:EST
DTSTART:20211107T060000
END:STANDARD
END:VTIMEZONE
BEGIN:VEVENT
DTSTART;TZID=America/New_York:20201008T133000
DTEND;TZID=America/New_York:20201008T173000
DTSTAMP:20260424T103539
CREATED:20200813T174246Z
LAST-MODIFIED:20200813T174246Z
UID:9558-1602163800-1602178200@durhamrealtors.org
SUMMARY:#3844 Ten Important Dance Moves for Property Managers
DESCRIPTION:Instructor: Mark Saunders via Zoom\nClick Here to Register\n \n#3844/ Ten Important Dance Moves for Property Managers\nCourse Sponsor:  #1547 REBAcademy\nTopics covered:  Charging Fees\, Utilizing Unlicensed Assistants\, Satellite Offices\, Handling Trust Money\, Septic Tank & Sewer Issues\, Public/Private Streets\, Underground Storage Tanks\, Property Inspections\, Insurance Issues\, Service & Comfort Animals
URL:https://durhamrealtors.org/event/3568-ten-important-dance-moves-for-property-managers/
LOCATION:ZOOM Webinar\, NC\, United States
CATEGORIES:Continuing Education
END:VEVENT
BEGIN:VEVENT
DTSTART;TZID=America/New_York:20200513T133000
DTEND;TZID=America/New_York:20200513T173000
DTSTAMP:20260424T103539
CREATED:20200305T161719Z
LAST-MODIFIED:20200305T161719Z
UID:9545-1589376600-1589391000@durhamrealtors.org
SUMMARY:#3592 Ethics in the Age of Distruption
DESCRIPTION: CLICK HERE TO REGISTER\n#3592 Ethics in the Age of Disruption\, 1:30 pm-  5:30 pm:  The Durham Regional Association of Realtors is proud and honored to provide a NEW Code of Ethics Course “ Ethics in the Age of Disruption”. \nThis course was created and designed to train and instruct REALTORS® on the practical application of the Code of Ethics and fulfills both the NCREC CE Elective requirement and the Realtor Triennial Ethics requirement.   The learning objectives include content on professional conduct\, courtesies\, business etiquette and real-life scenarios.  In the Age of Disruption where there are so many challenges to the professionalism of real estate licensees\, our only hope as a profession rests on how well we fulfill fiduciary duties\, our adherence to the Realtor Code of Ethics and the elevation of professionalism.
URL:https://durhamrealtors.org/event/ce-ethics-in-the-age-of-distruption/
LOCATION:ZOOM Webinar\, NC\, United States
CATEGORIES:Continuing Education
END:VEVENT
BEGIN:VEVENT
DTSTART;TZID=America/New_York:20200513T083000
DTEND;TZID=America/New_York:20200513T123000
DTSTAMP:20260424T103539
CREATED:20200305T161553Z
LAST-MODIFIED:20200305T161553Z
UID:9544-1589358600-1589373000@durhamrealtors.org
SUMMARY:2019-20 General Real Estate Update
DESCRIPTION:Instructor: Bill Gallagher #9920 General Real Estate Update\,  8:30 am – 12:30 pm:\nTopics include: 1. Competence of Licensees\, 2. Material Facts\, 3. Home Inspections\, 4. Wire Fraud\, 5. Law and Rule Updates\, 6. Licensing and Education \nCLICK HERE TO REGISTER \n*****************************\nInstructions if course delivered via WEB ZOOM: \nSeveral days before class you will receive an email with a ZOOM Registration Form that MUST be completed prior to the start of the on-line course. On the day of class\, you will be able log-in to the class by clicking on the link provided in the reminder email. \nClass will start promptly at 8:30am so plan to join at least 15 minutes prior to start time to make sure you have no connection issues. \nTHE NCREC ATTENDANCE RULES APPLY – so if you try to join more than 20 minutes after the start of the class\, you will not receive CE credit for the course and will be asked to reschedule. \n************************************************ \n 
URL:https://durhamrealtors.org/event/ce-general-real-estate-update-3/
LOCATION:ZOOM Webinar\, NC\, United States
CATEGORIES:Continuing Education
END:VEVENT
END:VCALENDAR