BEGIN:VCALENDAR
VERSION:2.0
PRODID:-//Durham Regional Assc of Realtors - ECPv6.15.16//NONSGML v1.0//EN
CALSCALE:GREGORIAN
METHOD:PUBLISH
X-WR-CALNAME:Durham Regional Assc of Realtors
X-ORIGINAL-URL:https://durhamrealtors.org
X-WR-CALDESC:Events for Durham Regional Assc of Realtors
REFRESH-INTERVAL;VALUE=DURATION:PT1H
X-Robots-Tag:noindex
X-PUBLISHED-TTL:PT1H
BEGIN:VTIMEZONE
TZID:America/New_York
BEGIN:DAYLIGHT
TZOFFSETFROM:-0500
TZOFFSETTO:-0400
TZNAME:EDT
DTSTART:20220313T070000
END:DAYLIGHT
BEGIN:STANDARD
TZOFFSETFROM:-0400
TZOFFSETTO:-0500
TZNAME:EST
DTSTART:20221106T060000
END:STANDARD
BEGIN:DAYLIGHT
TZOFFSETFROM:-0500
TZOFFSETTO:-0400
TZNAME:EDT
DTSTART:20230312T070000
END:DAYLIGHT
BEGIN:STANDARD
TZOFFSETFROM:-0400
TZOFFSETTO:-0500
TZNAME:EST
DTSTART:20231105T060000
END:STANDARD
BEGIN:DAYLIGHT
TZOFFSETFROM:-0500
TZOFFSETTO:-0400
TZNAME:EDT
DTSTART:20240310T070000
END:DAYLIGHT
BEGIN:STANDARD
TZOFFSETFROM:-0400
TZOFFSETTO:-0500
TZNAME:EST
DTSTART:20241103T060000
END:STANDARD
END:VTIMEZONE
BEGIN:VEVENT
DTSTART;TZID=America/New_York:20230906T120000
DTEND;TZID=America/New_York:20230906T133000
DTSTAMP:20260425T110116
CREATED:20230818T143622Z
LAST-MODIFIED:20230818T143622Z
UID:12948-1694001600-1694007000@durhamrealtors.org
SUMMARY:Kerr Lake Quarterly Luncheon
DESCRIPTION:REGISTER \nJoin Matt Fowler\, Executive Director of TMLS\, as he shares changes and updates. \n 
URL:https://durhamrealtors.org/event/kerr-lake-quarterly-luncheon-2/
LOCATION:Ribeyes Henderson\, 2002 Graham Avenue\, Henderson\, NC\, 27536\, United States
END:VEVENT
BEGIN:VEVENT
DTSTART;TZID=America/New_York:20230905T140000
DTEND;TZID=America/New_York:20230905T150000
DTSTAMP:20260425T110116
CREATED:20230103T142048Z
LAST-MODIFIED:20230901T183328Z
UID:11975-1693922400-1693926000@durhamrealtors.org
SUMMARY:CANCELED Property Management Meeting
DESCRIPTION:Interested in attending? \nPlease fill out the 2023 Committee Signup Sheet and email it to:  Services@durhamrealtors.org \nThe strength of the Durham Regional Association of REALTORS® is the involvement of its members. \nYour participation is welcomed and encouraged!
URL:https://durhamrealtors.org/event/property-management-meeting-2023-09-05/
LOCATION:REALTOR® Square at DRAR\, 4236 University Drive\, Durham\, NC\, 27707\, United States
GEO:35.9626463;-78.9610398
X-APPLE-STRUCTURED-LOCATION;VALUE=URI;X-ADDRESS=REALTOR® Square at DRAR 4236 University Drive Durham NC 27707 United States;X-APPLE-RADIUS=500;X-TITLE=4236 University Drive:geo:-78.9610398,35.9626463
END:VEVENT
BEGIN:VEVENT
DTSTART;TZID=America/New_York:20230904T100000
DTEND;TZID=America/New_York:20230904T110000
DTSTAMP:20260425T110116
CREATED:20230103T141421Z
LAST-MODIFIED:20230831T103210Z
UID:11934-1693821600-1693825200@durhamrealtors.org
SUMMARY:CANCELED Public Schools Committee Meeting - HOLIDAY
DESCRIPTION:Interested in attending? \nPlease fill out the 2023 Committee Signup Sheet and email it to:  Services@durhamrealtors.org \nThe strength of the Durham Regional Association of REALTORS® is the involvement of its members. \nYour participation is welcomed and encouraged!
URL:https://durhamrealtors.org/event/durham-public-schools-committee-meeting-5-2023-09-04/
LOCATION:REALTOR® Square at DRAR\, 4236 University Drive\, Durham\, NC\, 27707\, United States
GEO:35.9626463;-78.9610398
X-APPLE-STRUCTURED-LOCATION;VALUE=URI;X-ADDRESS=REALTOR® Square at DRAR 4236 University Drive Durham NC 27707 United States;X-APPLE-RADIUS=500;X-TITLE=4236 University Drive:geo:-78.9610398,35.9626463
END:VEVENT
BEGIN:VEVENT
DTSTART;VALUE=DATE:20230904
DTEND;VALUE=DATE:20230905
DTSTAMP:20260425T110116
CREATED:20230831T111916Z
LAST-MODIFIED:20230831T111916Z
UID:12979-1693785600-1693871999@durhamrealtors.org
SUMMARY:OFFICE CLOSED for Labor Day
DESCRIPTION:DRAR’s office will be closed today in observance of Labor Day. \nDRAR’s office will re-open tomorrow\, Tuesday\, Sept 5 at 8:30am
URL:https://durhamrealtors.org/event/office-closed-for-labor-day-2/
LOCATION:REALTOR® Square at DRAR\, 4236 University Drive\, Durham\, NC\, 27707\, United States
GEO:35.9626463;-78.9610398
X-APPLE-STRUCTURED-LOCATION;VALUE=URI;X-ADDRESS=REALTOR® Square at DRAR 4236 University Drive Durham NC 27707 United States;X-APPLE-RADIUS=500;X-TITLE=4236 University Drive:geo:-78.9610398,35.9626463
END:VEVENT
BEGIN:VEVENT
DTSTART;TZID=America/New_York:20230831T190000
DTEND;TZID=America/New_York:20230831T200000
DTSTAMP:20260425T110116
CREATED:20230605T102525Z
LAST-MODIFIED:20230605T102525Z
UID:12731-1693508400-1693512000@durhamrealtors.org
SUMMARY:Durham Comprehensive Plan Joint Public Hearing
DESCRIPTION:This meeting will be at City Council Chambers or via Zoom (details forthcoming) \nJoint City Council / Board of County Commissioners Public Hearing\nAfter the Planning Commission has completed their public hearings and voted on a recommendation for the Comprehensive Plan\, the City Council and the Board of County Commissioners will hold a joint public hearing on this project. \nThis joint public hearing will be held at a special meeting on Thursday\, August 31\, 2023 beginning at 7PM. The hearing will be held in the City Council Chambers located in City Hall at 101 City Hall Plaza\, Durham NC 27701. Participation will be possible in person or virtually through Zoom. An agenda and information on how to join the meeting will be posted here prior to the meeting. \nCity Council Adoption\nAfter the joint City/County public hearing\, the City Council will consider adoption at one of their regular meetings\, which are typically held on the first and third Monday of each month. Agendas for these meetings can be found here. \nBoard of County Commissioners Adoption\nAfter the joint City/County public hearing\, the Board of County Commissioners will consider adoption at one of their regular meetings which are typically held on the second and fourth Monday of each month. Agendas for these meetings can be found here.
URL:https://durhamrealtors.org/event/durham-comprehensive-plan-joint-public-hearing/
LOCATION:City Council Chambers\, 101 City Hall Plaza\, Durham\, NC\, United States
END:VEVENT
BEGIN:VEVENT
DTSTART;TZID=America/New_York:20230830T090000
DTEND;TZID=America/New_York:20230830T100000
DTSTAMP:20260425T110116
CREATED:20221230T141046Z
LAST-MODIFIED:20230718T135513Z
UID:11901-1693386000-1693389600@durhamrealtors.org
SUMMARY:Independent Brokerage Council (IBC)
DESCRIPTION:Is your brokerage a smaller\, non-franchise firm? \nThis Council will provide support\, networking\, and opportunities to exchange business savvy ideas with owners\, BICs\, and Principal Brokers of other small\, non-franchise firms. We will discuss current rule and industry changes\, and technology offerings from DRAR\, TMLS\, and our other partners. Members should be licensed and active real estate professionals of independent (non-national franchise) firms dedicated to the real estate industry\, and passionate about exploring new ways to learn and grow for their firm and brokers. \nAnnual Term: 1|1|23 – 12|31|23\nAnnual Dues: $ 50 per member – Dues will pay for refreshments and any costs associated with this group’s events.\nMONTHLY MEETINGS: Every 4th Wednesday\, 9-10am at DRAR with select industry speakers \nDOWNLOAD APPLICATION: CLICK HERE \nContact Justin Burleson\, IBC Chair\, for questions:  Justin@PremierAgentsNetwork.com
URL:https://durhamrealtors.org/event/independent-brokerage-council-ibc-8/
LOCATION:REALTOR® Square at DRAR\, 4236 University Drive\, Durham\, NC\, 27707\, United States
GEO:35.9626463;-78.9610398
X-APPLE-STRUCTURED-LOCATION;VALUE=URI;X-ADDRESS=REALTOR® Square at DRAR 4236 University Drive Durham NC 27707 United States;X-APPLE-RADIUS=500;X-TITLE=4236 University Drive:geo:-78.9610398,35.9626463
END:VEVENT
BEGIN:VEVENT
DTSTART;TZID=America/New_York:20230824T120000
DTEND;TZID=America/New_York:20230824T140000
DTSTAMP:20260425T110116
CREATED:20230804T150057Z
LAST-MODIFIED:20230804T150057Z
UID:12910-1692878400-1692885600@durhamrealtors.org
SUMMARY:Tribor: Lead Generation with Homes.com
DESCRIPTION:REGISTER $10 \nBrandon Riddick introduces the new Homes.com. No more confusion as to who the Listing Agent on a property is\, and no more bombarding calls from robo-dialers. \nSome of what will be covered: \n1. Proven strategy to get seller/buyer leads for FREE! \n2. New Agent/Consumer collaboration \n3. How agents will be able to save more time and make more money! \n4. Our plans to spend hundreds of millions to drive FREE leads to agents this year \n5. How agents can take advantage right now before everyone else!
URL:https://durhamrealtors.org/event/tribor-lead-generation-with-homes-com/
LOCATION:REALTOR® Square at DRAR\, 4236 University Drive\, Durham\, NC\, 27707\, United States
GEO:35.9626463;-78.9610398
X-APPLE-STRUCTURED-LOCATION;VALUE=URI;X-ADDRESS=REALTOR® Square at DRAR 4236 University Drive Durham NC 27707 United States;X-APPLE-RADIUS=500;X-TITLE=4236 University Drive:geo:-78.9610398,35.9626463
END:VEVENT
BEGIN:VEVENT
DTSTART;TZID=America/New_York:20230824T100000
DTEND;TZID=America/New_York:20230824T110000
DTSTAMP:20260425T110116
CREATED:20230103T141930Z
LAST-MODIFIED:20230714T113155Z
UID:11961-1692871200-1692874800@durhamrealtors.org
SUMMARY:Magda Esola\, Chair of NCR DEI
DESCRIPTION:  \nInterested in joining the DEI Committee? \nPlease fill out the 2023 Committee Signup Sheet and email it to:  Services@durhamrealtors.org \nThe strength of the Durham Regional Association of REALTORS® is the involvement of its members. \nYour participation is welcomed and encouraged!
URL:https://durhamrealtors.org/event/diversity-equity-inclusion-dei-meeting-2023-04-27-2023-08-24/
LOCATION:ZOOM Webinar\, NC\, United States
END:VEVENT
BEGIN:VEVENT
DTSTART;TZID=America/New_York:20230824T090000
DTEND;TZID=America/New_York:20230824T110000
DTSTAMP:20260425T110116
CREATED:20230818T120712Z
LAST-MODIFIED:20230818T120712Z
UID:12945-1692867600-1692874800@durhamrealtors.org
SUMMARY:Creedmoor Clean Up
DESCRIPTION:REGISTER \n108 E. Wilton Avenue\, Creedmoor\nfield next to the Community Center \nPlease come out for 2 hours – we have a bunch of debris on the backside of the court\, mostly small to medium limbs\, old concrete blocks (see photo)\, that need to be cleaned up before we install the fence and landscaping \nDRAR is using the Placemaking grant from NAR to transform public space in Creedmor into a multi-sport and event space. If you haven’t seen the press release on this\, CLICK HERE to read it. \nPart of this effort includes volunteers from DRAR to help clear the space. \n 
URL:https://durhamrealtors.org/event/creedmoor-clean-up/
LOCATION:108 E. Wilton Avenue\, 108 E. Wilton Avenue\, Creedmoor\, NC\, United States
END:VEVENT
BEGIN:VEVENT
DTSTART;TZID=America/New_York:20230823T130000
DTEND;TZID=America/New_York:20230823T140000
DTSTAMP:20260425T110116
CREATED:20230804T110742Z
LAST-MODIFIED:20230822T134052Z
UID:12904-1692795600-1692799200@durhamrealtors.org
SUMMARY:Union Home Mortgage: State of the Housing Industry
DESCRIPTION:REGISTER
URL:https://durhamrealtors.org/event/union-home-mortgage-state-of-the-housing-industry/
LOCATION:ZOOM Webinar\, NC\, United States
END:VEVENT
BEGIN:VEVENT
DTSTART;TZID=America/New_York:20230823T120000
DTEND;TZID=America/New_York:20230823T130000
DTSTAMP:20260425T110116
CREATED:20230808T125311Z
LAST-MODIFIED:20230808T125311Z
UID:12920-1692792000-1692795600@durhamrealtors.org
SUMMARY:NAHREP Raleigh-Durham via Zoom
DESCRIPTION:REGISTER
URL:https://durhamrealtors.org/event/nahrep-raleigh-durham-via-zoom/
LOCATION:ZOOM Webinar\, NC\, United States
END:VEVENT
BEGIN:VEVENT
DTSTART;TZID=America/New_York:20230821T130000
DTEND;TZID=America/New_York:20230821T140000
DTSTAMP:20260425T110116
CREATED:20230216T152731Z
LAST-MODIFIED:20230811T154549Z
UID:12289-1692622800-1692626400@durhamrealtors.org
SUMMARY:Legislative Committee Meeting
DESCRIPTION:Interested in attending? \nPlease fill out the 2023 Committee Signup Sheet and email it to:  Services@durhamrealtors.org \nThe strength of the Durham Regional Association of REALTORS® is the involvement of its members. \nYour participation is welcomed and encouraged!
URL:https://durhamrealtors.org/event/legislative-committee-meeting-3-2023-08-15/
LOCATION:REALTOR® Square at DRAR\, 4236 University Drive\, Durham\, NC\, 27707\, United States
GEO:35.9626463;-78.9610398
X-APPLE-STRUCTURED-LOCATION;VALUE=URI;X-ADDRESS=REALTOR® Square at DRAR 4236 University Drive Durham NC 27707 United States;X-APPLE-RADIUS=500;X-TITLE=4236 University Drive:geo:-78.9610398,35.9626463
END:VEVENT
BEGIN:VEVENT
DTSTART;TZID=America/New_York:20230821T100000
DTEND;TZID=America/New_York:20230821T110000
DTSTAMP:20260425T110116
CREATED:20230106T135244Z
LAST-MODIFIED:20230106T135244Z
UID:12061-1692612000-1692615600@durhamrealtors.org
SUMMARY:Free TMLS Chat: AUTOMATION
DESCRIPTION:Tips on setting up auto searches in Paragon\, Paragon Connect\, HomeSpotter\, Homesnap\, RPR \nREGISTER
URL:https://durhamrealtors.org/event/free-tmls-chat-automation-2/
LOCATION:ZOOM Webinar\, NC\, United States
ORGANIZER;CN="Triangle Multiple Listing Service":MAILTO:RachelW@TriangleMLS.com
END:VEVENT
BEGIN:VEVENT
DTSTART;VALUE=DATE:20230821
DTEND;VALUE=DATE:20230825
DTSTAMP:20260425T110116
CREATED:20230711T110604Z
LAST-MODIFIED:20230711T110604Z
UID:12834-1692576000-1692921599@durhamrealtors.org
SUMMARY:NC REALTORS® 2024 Officers - Online Election
DESCRIPTION:CLICK HERE FOR INFO \n\n2024 Officers\nFinance and Budget Committee members\nNAR Directors\nIssues Mobilization Committee member\n\nOnline Polls will be open 24 hours a day\, Eastern Standard Time\, from 12:00:01 am on Monday\, August 21\, 2023 to 11:59:59 pm on Thursday\, August 24\, 2023. \nThe electronic method of voting is the only means by which voters may vote in the annual election. Only REALTOR® members in good standing in the Association and Association Executives—who have provided NC REALTORS® with a valid email address—shall have the right to vote in any annual election.
URL:https://durhamrealtors.org/event/nc-realtors-2024-officers-online-election/
LOCATION:Online\, Durham\, NC\, United States
END:VEVENT
BEGIN:VEVENT
DTSTART;TZID=America/New_York:20230817T113000
DTEND;TZID=America/New_York:20230817T133000
DTSTAMP:20260425T110116
CREATED:20230626T113920Z
LAST-MODIFIED:20230811T141919Z
UID:12793-1692271800-1692279000@durhamrealtors.org
SUMMARY:Membership Luncheon with NCR President-Elect
DESCRIPTION:REGISTRATION HAS CLOSED
URL:https://durhamrealtors.org/event/membership-luncheon-with-ncr-president-elect/
LOCATION:Hope Valley Country Club\, 3803 Dover Rd\, NC 27707\, Durham\, 27707\, United States
GEO:35.9470063;-78.9518792
X-APPLE-STRUCTURED-LOCATION;VALUE=URI;X-ADDRESS=Hope Valley Country Club 3803 Dover Rd NC 27707 Durham 27707 United States;X-APPLE-RADIUS=500;X-TITLE=3803 Dover Rd\, NC 27707:geo:-78.9518792,35.9470063
END:VEVENT
BEGIN:VEVENT
DTSTART;TZID=America/New_York:20230816T093000
DTEND;TZID=America/New_York:20230816T103000
DTSTAMP:20260425T110116
CREATED:20230103T142820Z
LAST-MODIFIED:20230103T145355Z
UID:12003-1692178200-1692181800@durhamrealtors.org
SUMMARY:DRAR Board of Directors Meeting
DESCRIPTION:
URL:https://durhamrealtors.org/event/drar-board-of-directors-meeting-4-2023-08-09/
LOCATION:REALTOR® Square at DRAR\, 4236 University Drive\, Durham\, NC\, 27707\, United States
GEO:35.9626463;-78.9610398
X-APPLE-STRUCTURED-LOCATION;VALUE=URI;X-ADDRESS=REALTOR® Square at DRAR 4236 University Drive Durham NC 27707 United States;X-APPLE-RADIUS=500;X-TITLE=4236 University Drive:geo:-78.9610398,35.9626463
END:VEVENT
BEGIN:VEVENT
DTSTART;TZID=America/New_York:20230816T020000
DTEND;TZID=America/New_York:20230816T150000
DTSTAMP:20260425T110116
CREATED:20230804T110510Z
LAST-MODIFIED:20230804T110510Z
UID:12901-1692151200-1692198000@durhamrealtors.org
SUMMARY:Forewarn: Demo with Q&A via Webinar
DESCRIPTION:REGISTER \nFOREWARN was built around agent safety and identity verification\, it’s really the whole point of the platform. \nHowever\, FOREWARN is also a multi-dimensional tool that can be leveraged in other areas of your business to help you be a better REALTOR®. \nThe purpose of this webinar is to help REALTORS® gain a much better understanding of the platform along with going over some “Pro-Tips” to help get the gears turning in your head on other ways to leverage FOREWARN in your business.
URL:https://durhamrealtors.org/event/forewarn-demo-with-qa-via-webinar/
LOCATION:ZOOM Webinar\, NC\, United States
END:VEVENT
BEGIN:VEVENT
DTSTART;VALUE=DATE:20230816
DTEND;VALUE=DATE:20230817
DTSTAMP:20260425T110116
CREATED:20230816T145745Z
LAST-MODIFIED:20230816T145745Z
UID:12941-1692144000-1692230399@durhamrealtors.org
SUMMARY:DRAR OFFICE CLOSED TODAY
DESCRIPTION:Due to a power outage from last night’s storms\, DRAR’s phones and computers are down today. \nIf you need help\, please comment on the DRAR Facebook post about the power outage and someone will try to get back to you. CLICK HERE \nWe apologize for any inconvenience\, and thank you for your patience.
URL:https://durhamrealtors.org/event/drar-office-closed-today/
LOCATION:REALTOR® Square at DRAR\, 4236 University Drive\, Durham\, NC\, 27707\, United States
GEO:35.9626463;-78.9610398
X-APPLE-STRUCTURED-LOCATION;VALUE=URI;X-ADDRESS=REALTOR® Square at DRAR 4236 University Drive Durham NC 27707 United States;X-APPLE-RADIUS=500;X-TITLE=4236 University Drive:geo:-78.9610398,35.9626463
END:VEVENT
BEGIN:VEVENT
DTSTART;TZID=America/New_York:20230810T183000
DTEND;TZID=America/New_York:20230810T213000
DTSTAMP:20260425T110116
CREATED:20230710T112444Z
LAST-MODIFIED:20230710T112444Z
UID:12829-1691692200-1691703000@durhamrealtors.org
SUMMARY:TRIBOR REALTIST - Durham Bulls Game
DESCRIPTION:INFO & REGISTER – $25
URL:https://durhamrealtors.org/event/tribor-realtist-durham-bulls-game/
LOCATION:Durham Bulls Athletic Park\, 409 Blackwell St\, Durham\, NC\, 27701\, United States
END:VEVENT
BEGIN:VEVENT
DTSTART;TZID=America/New_York:20230810T130000
DTEND;TZID=America/New_York:20230810T140000
DTSTAMP:20260425T110116
CREATED:20230106T135123Z
LAST-MODIFIED:20230106T135123Z
UID:12059-1691672400-1691676000@durhamrealtors.org
SUMMARY:Free TMLS Chat: AUTOMATION
DESCRIPTION:Tips on setting up auto searches in Paragon\, Paragon Connect\, HomeSpotter\, Homesnap\, RPR \nREGISTER
URL:https://durhamrealtors.org/event/free-tmls-chat-automation/
LOCATION:ZOOM Webinar\, NC\, United States
ORGANIZER;CN="Triangle Multiple Listing Service":MAILTO:RachelW@TriangleMLS.com
END:VEVENT
BEGIN:VEVENT
DTSTART;TZID=America/New_York:20230810T090000
DTEND;TZID=America/New_York:20230810T170000
DTSTAMP:20260425T110116
CREATED:20230706T101351Z
LAST-MODIFIED:20230706T133130Z
UID:12823-1691658000-1691686800@durhamrealtors.org
SUMMARY:Commercial Side of Real Estate
DESCRIPTION:REGISTER \nCost: $49
URL:https://durhamrealtors.org/event/commercial-side-of-real-estate/
LOCATION:REALTOR® Square at DRAR\, 4236 University Drive\, Durham\, NC\, 27707\, United States
GEO:35.9626463;-78.9610398
X-APPLE-STRUCTURED-LOCATION;VALUE=URI;X-ADDRESS=REALTOR® Square at DRAR 4236 University Drive Durham NC 27707 United States;X-APPLE-RADIUS=500;X-TITLE=4236 University Drive:geo:-78.9610398,35.9626463
END:VEVENT
BEGIN:VEVENT
DTSTART;TZID=America/New_York:20230809T093000
DTEND;TZID=America/New_York:20230809T103000
DTSTAMP:20260425T110116
CREATED:20230103T142656Z
LAST-MODIFIED:20230103T145300Z
UID:11990-1691573400-1691577000@durhamrealtors.org
SUMMARY:DRAR Executive Committee Meeting
DESCRIPTION:
URL:https://durhamrealtors.org/event/drar-executive-committee-meeting-3-2023-08-02/
LOCATION:REALTOR® Square at DRAR\, 4236 University Drive\, Durham\, NC\, 27707\, United States
GEO:35.9626463;-78.9610398
X-APPLE-STRUCTURED-LOCATION;VALUE=URI;X-ADDRESS=REALTOR® Square at DRAR 4236 University Drive Durham NC 27707 United States;X-APPLE-RADIUS=500;X-TITLE=4236 University Drive:geo:-78.9610398,35.9626463
END:VEVENT
BEGIN:VEVENT
DTSTART;TZID=America/New_York:20230807T100000
DTEND;TZID=America/New_York:20230807T110000
DTSTAMP:20260425T110116
CREATED:20230103T141421Z
LAST-MODIFIED:20230811T154609Z
UID:11933-1691402400-1691406000@durhamrealtors.org
SUMMARY:Durham Public Schools Committee Meeting
DESCRIPTION:Interested in attending? \nPlease fill out the 2023 Committee Signup Sheet and email it to:  Services@durhamrealtors.org \nThe strength of the Durham Regional Association of REALTORS® is the involvement of its members. \nYour participation is welcomed and encouraged!
URL:https://durhamrealtors.org/event/durham-public-schools-committee-meeting-5-2023-08-07/
LOCATION:REALTOR® Square at DRAR\, 4236 University Drive\, Durham\, NC\, 27707\, United States
GEO:35.9626463;-78.9610398
X-APPLE-STRUCTURED-LOCATION;VALUE=URI;X-ADDRESS=REALTOR® Square at DRAR 4236 University Drive Durham NC 27707 United States;X-APPLE-RADIUS=500;X-TITLE=4236 University Drive:geo:-78.9610398,35.9626463
END:VEVENT
BEGIN:VEVENT
DTSTART;TZID=America/New_York:20230726T130000
DTEND;TZID=America/New_York:20230726T150000
DTSTAMP:20260425T110116
CREATED:20230706T101247Z
LAST-MODIFIED:20230706T132115Z
UID:12820-1690376400-1690383600@durhamrealtors.org
SUMMARY:Speaking the Language of Investors
DESCRIPTION:REGISTER
URL:https://durhamrealtors.org/event/speaking-the-language-of-investors/
LOCATION:ZOOM Webinar\, NC\, United States
ORGANIZER;CN="NCREA":MAILTO:info@thencrea.com
END:VEVENT
BEGIN:VEVENT
DTSTART;TZID=America/New_York:20230717T130000
DTEND;TZID=America/New_York:20230717T140000
DTSTAMP:20260425T110116
CREATED:20230531T095027Z
LAST-MODIFIED:20230531T095027Z
UID:12712-1689598800-1689602400@durhamrealtors.org
SUMMARY:NCR Mobile Monday - FORM CHANGES
DESCRIPTION:CLICK TO JOIN \nHave Questions on the  NC REALTORS® Forms Changes that Take Effect July 1\, 2023? \nAsk JOHN WAIT\, NCR General Counsel during NCR’s Mobile Monday’s FACEBOOK GROUP \nA list of the forms that changed and a detailed summary of those changes are available via these links: \nSummary of Residential Forms Changes \nSummary of Commercial Forms Changes \n 
URL:https://durhamrealtors.org/event/ncr-mobile-monday-form-changes/
LOCATION:ZOOM Webinar\, NC\, United States
END:VEVENT
BEGIN:VEVENT
DTSTART;TZID=America/New_York:20230713T084500
DTEND;TZID=America/New_York:20230713T111500
DTSTAMP:20260425T110116
CREATED:20221129T141518Z
LAST-MODIFIED:20230331T120423Z
UID:11805-1689237900-1689246900@durhamrealtors.org
SUMMARY:New Member Orientation
DESCRIPTION:8:45am:   Check In\, Sponsored Refreshments & Pictures\n9:00am:   Welcome\, Pathways to Professionalism and Getting Started\n9:30am:   Getting Acquainted with the REALTOR® Organization – Local & State\n10:15am:  Sponsor Intro\n10:20am:  Break\n10:30am:  Upcoming Events\n10:40am:  Website & Social Media\n10:50am:  COE and Oath\n11:00am:  Closing Comments\n11:15am:  End time (estimate)
URL:https://durhamrealtors.org/event/new-member-orientation-2-2023-07-06/
LOCATION:REALTOR® Square at DRAR\, 4236 University Drive\, Durham\, NC\, 27707\, United States
GEO:35.9626463;-78.9610398
X-APPLE-STRUCTURED-LOCATION;VALUE=URI;X-ADDRESS=REALTOR® Square at DRAR 4236 University Drive Durham NC 27707 United States;X-APPLE-RADIUS=500;X-TITLE=4236 University Drive:geo:-78.9610398,35.9626463
END:VEVENT
BEGIN:VEVENT
DTSTART;TZID=America/New_York:20230703T100000
DTEND;TZID=America/New_York:20230703T110000
DTSTAMP:20260425T110116
CREATED:20230103T141421Z
LAST-MODIFIED:20230602T123545Z
UID:11932-1688378400-1688382000@durhamrealtors.org
SUMMARY:NO Durham Public Schools Committee Meeting THIS MONTH
DESCRIPTION:The DPS Committee will not hold meetings in June or July\, and will resume in August. \nInterested in attending? \nPlease fill out the 2023 Committee Signup Sheet and email it to:  Services@durhamrealtors.org \nThe strength of the Durham Regional Association of REALTORS® is the involvement of its members. \nYour participation is welcomed and encouraged!
URL:https://durhamrealtors.org/event/durham-public-schools-committee-meeting-5-2023-07-03/
LOCATION:REALTOR® Square at DRAR\, 4236 University Drive\, Durham\, NC\, 27707\, United States
GEO:35.9626463;-78.9610398
X-APPLE-STRUCTURED-LOCATION;VALUE=URI;X-ADDRESS=REALTOR® Square at DRAR 4236 University Drive Durham NC 27707 United States;X-APPLE-RADIUS=500;X-TITLE=4236 University Drive:geo:-78.9610398,35.9626463
END:VEVENT
BEGIN:VEVENT
DTSTART;VALUE=DATE:20230703
DTEND;VALUE=DATE:20230705
DTSTAMP:20260425T110116
CREATED:20230627T105351Z
LAST-MODIFIED:20230627T105351Z
UID:12801-1688342400-1688515199@durhamrealtors.org
SUMMARY:OFFICE CLOSED HOLIDAY
DESCRIPTION:Happy Independence Day!
URL:https://durhamrealtors.org/event/office-closed-holiday-3/
LOCATION:REALTOR® Square at DRAR\, 4236 University Drive\, Durham\, NC\, 27707\, United States
GEO:35.9626463;-78.9610398
X-APPLE-STRUCTURED-LOCATION;VALUE=URI;X-ADDRESS=REALTOR® Square at DRAR 4236 University Drive Durham NC 27707 United States;X-APPLE-RADIUS=500;X-TITLE=4236 University Drive:geo:-78.9610398,35.9626463
END:VEVENT
BEGIN:VEVENT
DTSTART;VALUE=DATE:20230701
DTEND;VALUE=DATE:20230702
DTSTAMP:20260425T110116
CREATED:20230403T110150Z
LAST-MODIFIED:20230403T110150Z
UID:12474-1688169600-1688255999@durhamrealtors.org
SUMMARY:NC Privilege Tax Due
DESCRIPTION:PAY HERE \nNC Dept of Revenue
URL:https://durhamrealtors.org/event/nc-privilege-tax-due/
LOCATION:NC Dept of Revenue\, Durham\, NC\, United States
END:VEVENT
BEGIN:VEVENT
DTSTART;VALUE=DATE:20230630
DTEND;VALUE=DATE:20230701
DTSTAMP:20260425T110116
CREATED:20230403T105714Z
LAST-MODIFIED:20230403T105714Z
UID:12470-1688083200-1688169599@durhamrealtors.org
SUMMARY:License Renewal due by 11:59pm
DESCRIPTION:https://www.ncrec.gov/Home/Index \nBrokers must pay NCREC’s annual renewal fee due today or license will expire.
URL:https://durhamrealtors.org/event/license-renewal-due-by-1159pm/
LOCATION:NC Real Estate Commission\, 1313 Navaho Drive\, Raleigh\, 27609
END:VEVENT
END:VCALENDAR