BEGIN:VCALENDAR
VERSION:2.0
PRODID:-//Durham Regional Assc of Realtors - ECPv6.15.16//NONSGML v1.0//EN
CALSCALE:GREGORIAN
METHOD:PUBLISH
X-ORIGINAL-URL:https://durhamrealtors.org
X-WR-CALDESC:Events for Durham Regional Assc of Realtors
REFRESH-INTERVAL;VALUE=DURATION:PT1H
X-Robots-Tag:noindex
X-PUBLISHED-TTL:PT1H
BEGIN:VTIMEZONE
TZID:America/New_York
BEGIN:DAYLIGHT
TZOFFSETFROM:-0500
TZOFFSETTO:-0400
TZNAME:EDT
DTSTART:20250309T070000
END:DAYLIGHT
BEGIN:STANDARD
TZOFFSETFROM:-0400
TZOFFSETTO:-0500
TZNAME:EST
DTSTART:20251102T060000
END:STANDARD
BEGIN:DAYLIGHT
TZOFFSETFROM:-0500
TZOFFSETTO:-0400
TZNAME:EDT
DTSTART:20260308T070000
END:DAYLIGHT
BEGIN:STANDARD
TZOFFSETFROM:-0400
TZOFFSETTO:-0500
TZNAME:EST
DTSTART:20261101T060000
END:STANDARD
BEGIN:DAYLIGHT
TZOFFSETFROM:-0500
TZOFFSETTO:-0400
TZNAME:EDT
DTSTART:20270314T070000
END:DAYLIGHT
BEGIN:STANDARD
TZOFFSETFROM:-0400
TZOFFSETTO:-0500
TZNAME:EST
DTSTART:20271107T060000
END:STANDARD
END:VTIMEZONE
BEGIN:VEVENT
DTSTART;TZID=America/New_York:20260408T093000
DTEND;TZID=America/New_York:20260408T103000
DTSTAMP:20260423T124125
CREATED:20260318T154412Z
LAST-MODIFIED:20260318T154412Z
UID:16209-1775640600-1775644200@durhamrealtors.org
SUMMARY:Executive Committee Meeting
DESCRIPTION:
URL:https://durhamrealtors.org/event/executive-committee-meeting/
LOCATION:REALTOR® Square at DRAR\, 4236 University Drive\, Durham\, NC\, 27707\, United States
GEO:35.9626463;-78.9610398
X-APPLE-STRUCTURED-LOCATION;VALUE=URI;X-ADDRESS=REALTOR® Square at DRAR 4236 University Drive Durham NC 27707 United States;X-APPLE-RADIUS=500;X-TITLE=4236 University Drive:geo:-78.9610398,35.9626463
END:VEVENT
BEGIN:VEVENT
DTSTART;TZID=America/New_York:20260408T113000
DTEND;TZID=America/New_York:20260408T133000
DTSTAMP:20260423T124125
CREATED:20260318T154810Z
LAST-MODIFIED:20260406T114527Z
UID:16213-1775647800-1775655000@durhamrealtors.org
SUMMARY:Radon Gas in Real Estate Lunch & Learn
DESCRIPTION:REGISTRATION IS CLOSED \nLunch will be provided by Matthew Young at Young Insurance Group.
URL:https://durhamrealtors.org/event/radon-gas-in-real-estate-lunch-learn/
LOCATION:REALTOR® Square at DRAR\, 4236 University Drive\, Durham\, NC\, 27707\, United States
GEO:35.9626463;-78.9610398
X-APPLE-STRUCTURED-LOCATION;VALUE=URI;X-ADDRESS=REALTOR® Square at DRAR 4236 University Drive Durham NC 27707 United States;X-APPLE-RADIUS=500;X-TITLE=4236 University Drive:geo:-78.9610398,35.9626463
END:VEVENT
BEGIN:VEVENT
DTSTART;TZID=America/New_York:20260409T083000
DTEND;TZID=America/New_York:20260409T123000
DTSTAMP:20260423T124125
CREATED:20260318T155704Z
LAST-MODIFIED:20260318T155808Z
UID:16217-1775723400-1775737800@durhamrealtors.org
SUMMARY:#9926 GENUP Course
DESCRIPTION:Instructor: Alisha Deberry (Instructor #2270) \nTopics: \n\nUnderstanding the role of an Agent\nA look at contemporary issues in Fair Housing\nEducation Update\nLaws and Rules Update\nFAQs\n\nREGISTER
URL:https://durhamrealtors.org/event/9926-genup-course/
LOCATION:REALTOR® Square at DRAR\, 4236 University Drive\, Durham\, NC\, 27707\, United States
GEO:35.9626463;-78.9610398
X-APPLE-STRUCTURED-LOCATION;VALUE=URI;X-ADDRESS=REALTOR® Square at DRAR 4236 University Drive Durham NC 27707 United States;X-APPLE-RADIUS=500;X-TITLE=4236 University Drive:geo:-78.9610398,35.9626463
END:VEVENT
BEGIN:VEVENT
DTSTART;TZID=America/New_York:20260409T133000
DTEND;TZID=America/New_York:20260409T173000
DTSTAMP:20260423T124125
CREATED:20260211T121817Z
LAST-MODIFIED:20260211T121817Z
UID:16073-1775741400-1775755800@durhamrealtors.org
SUMMARY:Elective #4223 - Fair Housing Futures: Equity by Design in the Age of AI (In-Person)
DESCRIPTION:Instructor: Alisha Deberry (Instructor# 1596) \nIn-Person Course at DRAR \nParticipants will be awarded NCREC CE credit and 2 hours of Fair Housing training upon completion. The course is not a combined Ethics and Fair Housing offering. Ethics credit is not offered with this course. \nREGISTER \n 
URL:https://durhamrealtors.org/event/elective-4223-fair-housing-futures-equity-by-design-in-the-age-of-ai-in-person/
LOCATION:REALTOR® Square at DRAR\, 4236 University Drive\, Durham\, NC\, 27707\, United States
GEO:35.9626463;-78.9610398
X-APPLE-STRUCTURED-LOCATION;VALUE=URI;X-ADDRESS=REALTOR® Square at DRAR 4236 University Drive Durham NC 27707 United States;X-APPLE-RADIUS=500;X-TITLE=4236 University Drive:geo:-78.9610398,35.9626463
END:VEVENT
BEGIN:VEVENT
DTSTART;TZID=America/New_York:20260414T140000
DTEND;TZID=America/New_York:20260414T150000
DTSTAMP:20260423T124125
CREATED:20260303T133741Z
LAST-MODIFIED:20260303T133741Z
UID:16164-1776175200-1776178800@durhamrealtors.org
SUMMARY:Community Service Committee
DESCRIPTION:Interested in attending? \nClick here to learn more! \nThe strength of the Durham Regional Association of REALTORS® is the involvement of its members. \nYour participation is welcomed and encouraged!
URL:https://durhamrealtors.org/event/community-service-committee-16/
LOCATION:REALTOR® Square at DRAR\, 4236 University Drive\, Durham\, NC\, 27707\, United States
GEO:35.9626463;-78.9610398
X-APPLE-STRUCTURED-LOCATION;VALUE=URI;X-ADDRESS=REALTOR® Square at DRAR 4236 University Drive Durham NC 27707 United States;X-APPLE-RADIUS=500;X-TITLE=4236 University Drive:geo:-78.9610398,35.9626463
END:VEVENT
BEGIN:VEVENT
DTSTART;TZID=America/New_York:20260415T093000
DTEND;TZID=America/New_York:20260415T103000
DTSTAMP:20260423T124125
CREATED:20260318T155913Z
LAST-MODIFIED:20260318T155913Z
UID:16220-1776245400-1776249000@durhamrealtors.org
SUMMARY:Board of Directors Meeting
DESCRIPTION:
URL:https://durhamrealtors.org/event/board-of-directors-meeting/
LOCATION:REALTOR® Square at DRAR\, 4236 University Drive\, Durham\, NC\, 27707\, United States
GEO:35.9626463;-78.9610398
X-APPLE-STRUCTURED-LOCATION;VALUE=URI;X-ADDRESS=REALTOR® Square at DRAR 4236 University Drive Durham NC 27707 United States;X-APPLE-RADIUS=500;X-TITLE=4236 University Drive:geo:-78.9610398,35.9626463
END:VEVENT
BEGIN:VEVENT
DTSTART;TZID=America/New_York:20260416T113000
DTEND;TZID=America/New_York:20260416T133000
DTSTAMP:20260423T124125
CREATED:20260303T135644Z
LAST-MODIFIED:20260303T135644Z
UID:16173-1776339000-1776346200@durhamrealtors.org
SUMMARY:Fair Housing Membership Luncheon
DESCRIPTION:Featuring Autism Resource Specialist Cindy Martin as guest speaker. \nREGISTER
URL:https://durhamrealtors.org/event/fair-housing-membership-luncheon-2/
LOCATION:Croasdaile Country Club\, 3800 Farm Gate Ave\, Durham\, NC\, 27705\, United States
END:VEVENT
BEGIN:VEVENT
DTSTART;TZID=America/New_York:20260420T140000
DTEND;TZID=America/New_York:20260420T150000
DTSTAMP:20260423T124125
CREATED:20260303T134234Z
LAST-MODIFIED:20260303T134342Z
UID:16168-1776693600-1776697200@durhamrealtors.org
SUMMARY:Governmental Affairs/Legislative Committee/LPC
DESCRIPTION:Interested in attending? \nClick here to learn more! \nThe strength of the Durham Regional Association of REALTORS® is the involvement of its members. \nYour participation is welcomed and encouraged!
URL:https://durhamrealtors.org/event/governmental-affairs-legislative-committee/
LOCATION:REALTOR® Square at DRAR\, 4236 University Drive\, Durham\, NC\, 27707\, United States
GEO:35.9626463;-78.9610398
X-APPLE-STRUCTURED-LOCATION;VALUE=URI;X-ADDRESS=REALTOR® Square at DRAR 4236 University Drive Durham NC 27707 United States;X-APPLE-RADIUS=500;X-TITLE=4236 University Drive:geo:-78.9610398,35.9626463
END:VEVENT
BEGIN:VEVENT
DTSTART;TZID=America/New_York:20260423T100000
DTEND;TZID=America/New_York:20260423T110000
DTSTAMP:20260423T124125
CREATED:20260303T132648Z
LAST-MODIFIED:20260303T132648Z
UID:16162-1776938400-1776942000@durhamrealtors.org
SUMMARY:Diversity\, Equity & Inclusion Committee
DESCRIPTION:Interested in attending? \nClick here to learn more! \nThe strength of the Durham Regional Association of REALTORS® is the involvement of its members. \nYour participation is welcomed and encouraged!
URL:https://durhamrealtors.org/event/diversity-equity-inclusion-committee/
LOCATION:REALTOR® Square at DRAR\, 4236 University Drive\, Durham\, NC\, 27707\, United States
GEO:35.9626463;-78.9610398
X-APPLE-STRUCTURED-LOCATION;VALUE=URI;X-ADDRESS=REALTOR® Square at DRAR 4236 University Drive Durham NC 27707 United States;X-APPLE-RADIUS=500;X-TITLE=4236 University Drive:geo:-78.9610398,35.9626463
END:VEVENT
BEGIN:VEVENT
DTSTART;TZID=America/New_York:20260428T090000
DTEND;TZID=America/New_York:20260428T100000
DTSTAMP:20260423T124125
CREATED:20260318T160113Z
LAST-MODIFIED:20260318T160113Z
UID:16222-1777366800-1777370400@durhamrealtors.org
SUMMARY:Durham Public Schools Bus Driver Appreciation Breakfast
DESCRIPTION:
URL:https://durhamrealtors.org/event/durham-public-schools-bus-driver-appreciation-breakfast/
END:VEVENT
BEGIN:VEVENT
DTSTART;TZID=America/New_York:20260430T113000
DTEND;TZID=America/New_York:20260430T133000
DTSTAMP:20260423T124125
CREATED:20260318T160303Z
LAST-MODIFIED:20260318T160523Z
UID:16224-1777548600-1777555800@durhamrealtors.org
SUMMARY:YPN Lunch & Learn
DESCRIPTION:REGISTER \nLunch provided by Arnette Law Offices and Old Republic Title
URL:https://durhamrealtors.org/event/ypn-lunch-learn-3/
LOCATION:REALTOR® Square at DRAR\, 4236 University Drive\, Durham\, NC\, 27707\, United States
GEO:35.9626463;-78.9610398
X-APPLE-STRUCTURED-LOCATION;VALUE=URI;X-ADDRESS=REALTOR® Square at DRAR 4236 University Drive Durham NC 27707 United States;X-APPLE-RADIUS=500;X-TITLE=4236 University Drive:geo:-78.9610398,35.9626463
END:VEVENT
BEGIN:VEVENT
DTSTART;TZID=America/New_York:20260504T100000
DTEND;TZID=America/New_York:20260504T110000
DTSTAMP:20260423T124125
CREATED:20260402T121018Z
LAST-MODIFIED:20260402T121052Z
UID:16253-1777888800-1777892400@durhamrealtors.org
SUMMARY:Public Schools Committee
DESCRIPTION:Interested in attending? \nClick here to learn more! \nThe strength of the Durham Regional Association of REALTORS® is the involvement of its members. \nYour participation is welcomed and encouraged!
URL:https://durhamrealtors.org/event/public-schools-committee-17/
LOCATION:REALTOR® Square at DRAR\, 4236 University Drive\, Durham\, NC\, 27707\, United States
GEO:35.9626463;-78.9610398
X-APPLE-STRUCTURED-LOCATION;VALUE=URI;X-ADDRESS=REALTOR® Square at DRAR 4236 University Drive Durham NC 27707 United States;X-APPLE-RADIUS=500;X-TITLE=4236 University Drive:geo:-78.9610398,35.9626463
END:VEVENT
BEGIN:VEVENT
DTSTART;TZID=America/New_York:20260505T170000
DTEND;TZID=America/New_York:20260505T190000
DTSTAMP:20260423T124125
CREATED:20260318T160917Z
LAST-MODIFIED:20260422T153951Z
UID:16228-1778000400-1778007600@durhamrealtors.org
SUMMARY:RPAC Cinco de Mayo Fundraiser
DESCRIPTION:All DRAR REALTORS® are welcome to enjoy this joint event with NC REALTORS® RPAC! Dinner and a beverage are included with your $35 entry. \nREGISTER
URL:https://durhamrealtors.org/event/rpac-cinco-de-mayo-fundraiser/
LOCATION:REALTOR® Square at DRAR\, 4236 University Drive\, Durham\, NC\, 27707\, United States
GEO:35.9626463;-78.9610398
X-APPLE-STRUCTURED-LOCATION;VALUE=URI;X-ADDRESS=REALTOR® Square at DRAR 4236 University Drive Durham NC 27707 United States;X-APPLE-RADIUS=500;X-TITLE=4236 University Drive:geo:-78.9610398,35.9626463
END:VEVENT
BEGIN:VEVENT
DTSTART;TZID=America/New_York:20260506T083000
DTEND;TZID=America/New_York:20260506T123000
DTSTAMP:20260423T124125
CREATED:20260220T161920Z
LAST-MODIFIED:20260220T162254Z
UID:16125-1778056200-1778070600@durhamrealtors.org
SUMMARY:BIC Update (BICUP) #8826
DESCRIPTION:Instructor: Chris Barnette (Instructor #1373) \nTopics \n\n\n\nUnderstanding the role of an Agent\nA look at contemporary issues in Fair Housing\nFAQs\nGeneral information for becoming a BIC\nUnderstanding firm structure\nBIC best practices\n\nREGISTER
URL:https://durhamrealtors.org/event/bic-update-bicup-8826/
LOCATION:REALTOR® Square at DRAR\, 4236 University Drive\, Durham\, NC\, 27707\, United States
GEO:35.9626463;-78.9610398
X-APPLE-STRUCTURED-LOCATION;VALUE=URI;X-ADDRESS=REALTOR® Square at DRAR 4236 University Drive Durham NC 27707 United States;X-APPLE-RADIUS=500;X-TITLE=4236 University Drive:geo:-78.9610398,35.9626463
END:VEVENT
BEGIN:VEVENT
DTSTART;TZID=America/New_York:20260506T123000
DTEND;TZID=America/New_York:20260506T173000
DTSTAMP:20260423T124125
CREATED:20260220T162204Z
LAST-MODIFIED:20260220T162204Z
UID:16128-1778070600-1778088600@durhamrealtors.org
SUMMARY:Elective #1975 -  REALTORS® Code of Ethics: Our Promise to Professionalism
DESCRIPTION:Instructor: Chris Barnette (#1373) \nElective #1975 – REALTORS® Code of Ethics: Our Promise to Professionalism \n\nREALTORS are required to complete ethics training of not less than two hours and thirty minutes of training requirement every three years. This course meets the requirement for cycle 1/2022 – 12/2024 in addition to four hours of NCREC Elective Credit. Failure to complete the required periodic ethics training shall be considered a violation of membership duty. \nREGISTER
URL:https://durhamrealtors.org/event/elective-1975-realtors-code-of-ethics-our-promise-to-professionalism/
LOCATION:REALTOR® Square at DRAR\, 4236 University Drive\, Durham\, NC\, 27707\, United States
GEO:35.9626463;-78.9610398
X-APPLE-STRUCTURED-LOCATION;VALUE=URI;X-ADDRESS=REALTOR® Square at DRAR 4236 University Drive Durham NC 27707 United States;X-APPLE-RADIUS=500;X-TITLE=4236 University Drive:geo:-78.9610398,35.9626463
END:VEVENT
BEGIN:VEVENT
DTSTART;TZID=America/New_York:20260507T081500
DTEND;TZID=America/New_York:20260507T114500
DTSTAMP:20260423T124125
CREATED:20260402T121839Z
LAST-MODIFIED:20260402T121921Z
UID:16261-1778141700-1778154300@durhamrealtors.org
SUMMARY:New Member Orientation
DESCRIPTION:8:15am: Check In\, Sponsored Refreshments & Pictures\n9:00am: Welcome\, Pathways to Professionalism and Getting Started\n9:30am: Getting Acquainted with the REALTOR® Organization – Local & State\n10:15am: Sponsor Intro\n10:20am: Break\n10:30am: Upcoming Events\n10:40am: Website & Social Media\n10:50am: COE and Oath\n11:00am: Closing Comments\n11:15am: End time (estimate)
URL:https://durhamrealtors.org/event/new-member-orientation-31/
LOCATION:REALTOR® Square at DRAR\, 4236 University Drive\, Durham\, NC\, 27707\, United States
GEO:35.9626463;-78.9610398
X-APPLE-STRUCTURED-LOCATION;VALUE=URI;X-ADDRESS=REALTOR® Square at DRAR 4236 University Drive Durham NC 27707 United States;X-APPLE-RADIUS=500;X-TITLE=4236 University Drive:geo:-78.9610398,35.9626463
END:VEVENT
BEGIN:VEVENT
DTSTART;TZID=America/New_York:20260512T140000
DTEND;TZID=America/New_York:20260512T150000
DTSTAMP:20260423T124125
CREATED:20260402T121219Z
LAST-MODIFIED:20260402T121219Z
UID:16255-1778594400-1778598000@durhamrealtors.org
SUMMARY:Community Service Committee
DESCRIPTION:Interested in attending? \nClick here to learn more! \nThe strength of the Durham Regional Association of REALTORS® is the involvement of its members. \nYour participation is welcomed and encouraged!
URL:https://durhamrealtors.org/event/community-service-committee-17/
LOCATION:REALTOR® Square at DRAR\, 4236 University Drive\, Durham\, NC\, 27707\, United States
GEO:35.9626463;-78.9610398
X-APPLE-STRUCTURED-LOCATION;VALUE=URI;X-ADDRESS=REALTOR® Square at DRAR 4236 University Drive Durham NC 27707 United States;X-APPLE-RADIUS=500;X-TITLE=4236 University Drive:geo:-78.9610398,35.9626463
END:VEVENT
BEGIN:VEVENT
DTSTART;TZID=America/New_York:20260513T093000
DTEND;TZID=America/New_York:20260513T103000
DTSTAMP:20260423T124125
CREATED:20260402T121337Z
LAST-MODIFIED:20260402T121337Z
UID:16257-1778664600-1778668200@durhamrealtors.org
SUMMARY:Executive Committee
DESCRIPTION:
URL:https://durhamrealtors.org/event/executive-committee-13/
LOCATION:REALTOR® Square at DRAR\, 4236 University Drive\, Durham\, NC\, 27707\, United States
GEO:35.9626463;-78.9610398
X-APPLE-STRUCTURED-LOCATION;VALUE=URI;X-ADDRESS=REALTOR® Square at DRAR 4236 University Drive Durham NC 27707 United States;X-APPLE-RADIUS=500;X-TITLE=4236 University Drive:geo:-78.9610398,35.9626463
END:VEVENT
BEGIN:VEVENT
DTSTART;TZID=America/New_York:20260513T130000
DTEND;TZID=America/New_York:20260513T143000
DTSTAMP:20260423T124125
CREATED:20260422T153137Z
LAST-MODIFIED:20260422T153345Z
UID:16308-1778677200-1778682600@durhamrealtors.org
SUMMARY:Leadership Panel - From Local to National: Your Leadership Journey in Real Estate
DESCRIPTION:REGISTER
URL:https://durhamrealtors.org/event/leadership-panel-from-local-to-national-your-leadership-journey-in-real-estate/
LOCATION:REALTOR® Square at DRAR\, 4236 University Drive\, Durham\, NC\, 27707\, United States
GEO:35.9626463;-78.9610398
X-APPLE-STRUCTURED-LOCATION;VALUE=URI;X-ADDRESS=REALTOR® Square at DRAR 4236 University Drive Durham NC 27707 United States;X-APPLE-RADIUS=500;X-TITLE=4236 University Drive:geo:-78.9610398,35.9626463
END:VEVENT
BEGIN:VEVENT
DTSTART;TZID=America/New_York:20260514T100000
DTEND;TZID=America/New_York:20260514T113000
DTSTAMP:20260423T124125
CREATED:20260422T162551Z
LAST-MODIFIED:20260422T162551Z
UID:16318-1778752800-1778758200@durhamrealtors.org
SUMMARY:FlexMLS In-Person Trainings
DESCRIPTION:In-Person Flexmls Training: Coming May 14th!\nIn-person Flexmls training is coming to DRAR on May 14th\, 2026! Learn how to maximize your Flexmls experience in this interactive\, hands-on session. Feel free to bring your laptop and follow along during the training! \nYou have two sessions to choose from: \nAM Session: 10 AM – 11:30 AM  \nTopics include: \n\nThe Quick Search\nWorking with search results\nTips and customization\n\n🔗 Register here! https://tinyurl.com/y779fwxv  \nSeating is limited\, so register early! 
URL:https://durhamrealtors.org/event/flexmls-in-person-trainings/
LOCATION:REALTOR® Square at DRAR\, 4236 University Drive\, Durham\, NC\, 27707\, United States
GEO:35.9626463;-78.9610398
X-APPLE-STRUCTURED-LOCATION;VALUE=URI;X-ADDRESS=REALTOR® Square at DRAR 4236 University Drive Durham NC 27707 United States;X-APPLE-RADIUS=500;X-TITLE=4236 University Drive:geo:-78.9610398,35.9626463
END:VEVENT
BEGIN:VEVENT
DTSTART;TZID=America/New_York:20260514T130000
DTEND;TZID=America/New_York:20260514T143000
DTSTAMP:20260423T124125
CREATED:20260422T162853Z
LAST-MODIFIED:20260422T162951Z
UID:16321-1778763600-1778769000@durhamrealtors.org
SUMMARY:FlexMLS In-Person Training
DESCRIPTION:In-Person Flexmls Trainings: Coming May 14th!\nIn-person Flexmls training is coming to DRAR on May 14th\, 2026! Learn how to maximize your Flexmls experience in this interactive\, hands-on session. Feel free to bring your laptop and follow along during the training! \nYou have two sessions to choose from: \nPM Session: 1 – 2:30 PM \nTopics include: \n\nSubscriptions\, the portal\, and contact activity\nFlexmls Pro app\n\n🔗 Register here! https://tinyurl.com/37fr5hwu  \nSeating is limited\, so register early! 
URL:https://durhamrealtors.org/event/flexmls-in-person-training/
LOCATION:DRAR
END:VEVENT
BEGIN:VEVENT
DTSTART;TZID=America/New_York:20260518T140000
DTEND;TZID=America/New_York:20260518T150000
DTSTAMP:20260423T124125
CREATED:20260402T122156Z
LAST-MODIFIED:20260422T160017Z
UID:16264-1779112800-1779116400@durhamrealtors.org
SUMMARY:Frank Ward Speaker Series: Buying & Selling Floodplain Properties
DESCRIPTION:Guest speaker: Ken Carper\, Floodplain Manager/Administrator for the City-County of Durham \nHosted by the Governmental Affairs/Legislative Committee/LPC \nREGISTER
URL:https://durhamrealtors.org/event/frank-ward-speaker-series-flood-plan-rules-permits/
LOCATION:REALTOR® Square at DRAR\, 4236 University Drive\, Durham\, NC\, 27707\, United States
GEO:35.9626463;-78.9610398
X-APPLE-STRUCTURED-LOCATION;VALUE=URI;X-ADDRESS=REALTOR® Square at DRAR 4236 University Drive Durham NC 27707 United States;X-APPLE-RADIUS=500;X-TITLE=4236 University Drive:geo:-78.9610398,35.9626463
END:VEVENT
BEGIN:VEVENT
DTSTART;TZID=America/New_York:20260520T093000
DTEND;TZID=America/New_York:20260520T103000
DTSTAMP:20260423T124125
CREATED:20260402T121719Z
LAST-MODIFIED:20260402T121719Z
UID:16259-1779269400-1779273000@durhamrealtors.org
SUMMARY:Board of Directors
DESCRIPTION:Interested in attending? \nClick here to learn more! \nThe strength of the Durham Regional Association of REALTORS® is the involvement of its members. \nYour participation is welcomed and encouraged!
URL:https://durhamrealtors.org/event/board-of-directors-16/
LOCATION:REALTOR® Square at DRAR\, 4236 University Drive\, Durham\, NC\, 27707\, United States
GEO:35.9626463;-78.9610398
X-APPLE-STRUCTURED-LOCATION;VALUE=URI;X-ADDRESS=REALTOR® Square at DRAR 4236 University Drive Durham NC 27707 United States;X-APPLE-RADIUS=500;X-TITLE=4236 University Drive:geo:-78.9610398,35.9626463
END:VEVENT
BEGIN:VEVENT
DTSTART;TZID=America/New_York:20260520T110000
DTEND;TZID=America/New_York:20260520T170000
DTSTAMP:20260423T124125
CREATED:20260324T160332Z
LAST-MODIFIED:20260324T161350Z
UID:16245-1779274800-1779296400@durhamrealtors.org
SUMMARY:Institute for Luxury Home Marketing Livestream
DESCRIPTION:REGISTER
URL:https://durhamrealtors.org/event/institute-for-luxury-home-marketing-livestream/
LOCATION:Livestream
END:VEVENT
BEGIN:VEVENT
DTSTART;TZID=America/New_York:20260521T110000
DTEND;TZID=America/New_York:20260521T170000
DTSTAMP:20260423T124125
CREATED:20260324T160549Z
LAST-MODIFIED:20260324T160549Z
UID:16248-1779361200-1779382800@durhamrealtors.org
SUMMARY:Institute for Luxury Home Marketing Livestream
DESCRIPTION:REGISTER
URL:https://durhamrealtors.org/event/institute-for-luxury-home-marketing-livestream-2/
LOCATION:Livestream
END:VEVENT
BEGIN:VEVENT
DTSTART;TZID=America/New_York:20260527T100000
DTEND;TZID=America/New_York:20260527T110000
DTSTAMP:20260423T124125
CREATED:20260402T122711Z
LAST-MODIFIED:20260402T122711Z
UID:16268-1779876000-1779879600@durhamrealtors.org
SUMMARY:Independent Brokerage Council (IBC)
DESCRIPTION:Is your brokerage a smaller\, non-franchise firm? \nThis Council will provide support\, networking\, and opportunities to exchange business savvy ideas with owners\, BICs\, and Principal Brokers of other small\, non-franchise firms. We will discuss current rule and industry changes\, and technology offerings from DRAR\, TMLS\, and our other partners. Members should be licensed and active real estate professionals of independent (non-national franchise) firms dedicated to the real estate industry\, and passionate about exploring new ways to learn and grow for their firm and brokers. \nAnnual Term: 1|1|26 – 12|31|26\nAnnual Dues: $ 50 per member – Dues will pay for refreshments and any costs associated with this group’s events. \nBI-MONTHLY MEETINGS: Every 4th Wednesday\, 9-10am at DRAR with select industry speakers \nDOWNLOAD APPLICATION: CLICK HERE\nContact Justin Burleson\, IBC Chair\, for questions: Justin@PremierAgentsNetwork.com
URL:https://durhamrealtors.org/event/independent-brokerage-council-ibc-18/
LOCATION:REALTOR® Square at DRAR\, 4236 University Drive\, Durham\, NC\, 27707\, United States
GEO:35.9626463;-78.9610398
X-APPLE-STRUCTURED-LOCATION;VALUE=URI;X-ADDRESS=REALTOR® Square at DRAR 4236 University Drive Durham NC 27707 United States;X-APPLE-RADIUS=500;X-TITLE=4236 University Drive:geo:-78.9610398,35.9626463
END:VEVENT
BEGIN:VEVENT
DTSTART;TZID=America/New_York:20260528T100000
DTEND;TZID=America/New_York:20260528T110000
DTSTAMP:20260423T124125
CREATED:20260402T122442Z
LAST-MODIFIED:20260402T122442Z
UID:16266-1779962400-1779966000@durhamrealtors.org
SUMMARY:Diversity\, Equity\, & Inclusion Committee
DESCRIPTION:Interested in attending? \nClick here to learn more! \nThe strength of the Durham Regional Association of REALTORS® is the involvement of its members. \nYour participation is welcomed and encouraged!
URL:https://durhamrealtors.org/event/diversity-equity-inclusion-committee-2/
LOCATION:REALTOR® Square at DRAR\, 4236 University Drive\, Durham\, NC\, 27707\, United States
GEO:35.9626463;-78.9610398
X-APPLE-STRUCTURED-LOCATION;VALUE=URI;X-ADDRESS=REALTOR® Square at DRAR 4236 University Drive Durham NC 27707 United States;X-APPLE-RADIUS=500;X-TITLE=4236 University Drive:geo:-78.9610398,35.9626463
END:VEVENT
BEGIN:VEVENT
DTSTART;VALUE=DATE:20260601
DTEND;VALUE=DATE:20260605
DTSTAMP:20260423T124125
CREATED:20260318T161829Z
LAST-MODIFIED:20260318T161829Z
UID:16232-1780272000-1780617599@durhamrealtors.org
SUMMARY:NC REALTORS® Legislative Meetings
DESCRIPTION:
URL:https://durhamrealtors.org/event/nc-realtors-legislative-meetings/
END:VEVENT
BEGIN:VEVENT
DTSTART;VALUE=DATE:20260604
DTEND;VALUE=DATE:20260605
DTSTAMP:20260423T124125
CREATED:20260318T162032Z
LAST-MODIFIED:20260401T125901Z
UID:16234-1780531200-1780617599@durhamrealtors.org
SUMMARY:REALTOR® Volunteer Day
DESCRIPTION:“Sleep in Heavenly Peace” & Dinner for the Ronald McDonald House
URL:https://durhamrealtors.org/event/realtor-volunteer-day/
END:VEVENT
END:VCALENDAR