BEGIN:VCALENDAR
VERSION:2.0
PRODID:-//Durham Regional Assc of Realtors - ECPv6.15.16//NONSGML v1.0//EN
CALSCALE:GREGORIAN
METHOD:PUBLISH
X-WR-CALNAME:Durham Regional Assc of Realtors
X-ORIGINAL-URL:https://durhamrealtors.org
X-WR-CALDESC:Events for Durham Regional Assc of Realtors
REFRESH-INTERVAL;VALUE=DURATION:PT1H
X-Robots-Tag:noindex
X-PUBLISHED-TTL:PT1H
BEGIN:VTIMEZONE
TZID:America/New_York
BEGIN:DAYLIGHT
TZOFFSETFROM:-0500
TZOFFSETTO:-0400
TZNAME:EDT
DTSTART:20240310T070000
END:DAYLIGHT
BEGIN:STANDARD
TZOFFSETFROM:-0400
TZOFFSETTO:-0500
TZNAME:EST
DTSTART:20241103T060000
END:STANDARD
BEGIN:DAYLIGHT
TZOFFSETFROM:-0500
TZOFFSETTO:-0400
TZNAME:EDT
DTSTART:20250309T070000
END:DAYLIGHT
BEGIN:STANDARD
TZOFFSETFROM:-0400
TZOFFSETTO:-0500
TZNAME:EST
DTSTART:20251102T060000
END:STANDARD
BEGIN:DAYLIGHT
TZOFFSETFROM:-0500
TZOFFSETTO:-0400
TZNAME:EDT
DTSTART:20260308T070000
END:DAYLIGHT
BEGIN:STANDARD
TZOFFSETFROM:-0400
TZOFFSETTO:-0500
TZNAME:EST
DTSTART:20261101T060000
END:STANDARD
END:VTIMEZONE
BEGIN:VEVENT
DTSTART;TZID=America/New_York:20250616T140000
DTEND;TZID=America/New_York:20250616T150000
DTSTAMP:20260424T075032
CREATED:20250127T141952Z
LAST-MODIFIED:20250130T145456Z
UID:14959-1750082400-1750086000@durhamrealtors.org
SUMMARY:Governmental Affairs/ Legislative Committee
DESCRIPTION:Interested in attending? \nPlease fill out the 2025 Committee Sign Up Form \nThe strength of the Durham Regional Association of REALTORS® is the involvement of its members. \nYour participation is welcomed and encouraged!
URL:https://durhamrealtors.org/event/legislative-political-affairs-committee/
LOCATION:REALTOR® Square at DRAR\, 4236 University Drive\, Durham\, NC\, 27707\, United States
GEO:35.9626463;-78.9610398
X-APPLE-STRUCTURED-LOCATION;VALUE=URI;X-ADDRESS=REALTOR® Square at DRAR 4236 University Drive Durham NC 27707 United States;X-APPLE-RADIUS=500;X-TITLE=4236 University Drive:geo:-78.9610398,35.9626463
END:VEVENT
BEGIN:VEVENT
DTSTART;TZID=America/New_York:20250612T081500
DTEND;TZID=America/New_York:20250612T114500
DTSTAMP:20260424T075032
CREATED:20250127T143956Z
LAST-MODIFIED:20250127T143956Z
UID:14987-1749716100-1749728700@durhamrealtors.org
SUMMARY:New Member Orientation
DESCRIPTION:8:15am: Check In\, Sponsored Refreshments & Pictures\n9:00am: Welcome\, Pathways to Professionalism and Getting Started\n9:30am: Getting Acquainted with the REALTOR® Organization – Local & State\n10:15am: Sponsor Intro\n10:20am: Break\n10:30am: Upcoming Events\n10:40am: Website & Social Media\n10:50am: COE and Oath\n11:00am: Closing Comments\n11:15am: End time (estimate)
URL:https://durhamrealtors.org/event/new-member-orientation-20/
LOCATION:REALTOR® Square at DRAR\, 4236 University Drive\, Durham\, NC\, 27707\, United States
GEO:35.9626463;-78.9610398
X-APPLE-STRUCTURED-LOCATION;VALUE=URI;X-ADDRESS=REALTOR® Square at DRAR 4236 University Drive Durham NC 27707 United States;X-APPLE-RADIUS=500;X-TITLE=4236 University Drive:geo:-78.9610398,35.9626463
END:VEVENT
BEGIN:VEVENT
DTSTART;TZID=America/New_York:20250611T093000
DTEND;TZID=America/New_York:20250611T103000
DTSTAMP:20260424T075032
CREATED:20250404T143637Z
LAST-MODIFIED:20250404T143637Z
UID:15215-1749634200-1749637800@durhamrealtors.org
SUMMARY:Executive Committee
DESCRIPTION:
URL:https://durhamrealtors.org/event/executive-committee-4/
LOCATION:REALTOR® Square at DRAR\, 4236 University Drive\, Durham\, NC\, 27707\, United States
GEO:35.9626463;-78.9610398
X-APPLE-STRUCTURED-LOCATION;VALUE=URI;X-ADDRESS=REALTOR® Square at DRAR 4236 University Drive Durham NC 27707 United States;X-APPLE-RADIUS=500;X-TITLE=4236 University Drive:geo:-78.9610398,35.9626463
END:VEVENT
BEGIN:VEVENT
DTSTART;TZID=America/New_York:20250610T140000
DTEND;TZID=America/New_York:20250610T150000
DTSTAMP:20260424T075032
CREATED:20250127T140828Z
LAST-MODIFIED:20250127T140905Z
UID:14946-1749564000-1749567600@durhamrealtors.org
SUMMARY:Property Management Committee
DESCRIPTION:Interested in attending? \nPlease fill out the 2025 Committee Sign Up Form \nThe strength of the Durham Regional Association of REALTORS® is the involvement of its members. \nYour participation is welcomed and encouraged!
URL:https://durhamrealtors.org/event/property-management-committee-4/
LOCATION:REALTOR® Square at DRAR\, 4236 University Drive\, Durham\, NC\, 27707\, United States
GEO:35.9626463;-78.9610398
X-APPLE-STRUCTURED-LOCATION;VALUE=URI;X-ADDRESS=REALTOR® Square at DRAR 4236 University Drive Durham NC 27707 United States;X-APPLE-RADIUS=500;X-TITLE=4236 University Drive:geo:-78.9610398,35.9626463
END:VEVENT
BEGIN:VEVENT
DTSTART;TZID=America/New_York:20250609T100000
DTEND;TZID=America/New_York:20250609T110000
DTSTAMP:20260424T075032
CREATED:20250115T162303Z
LAST-MODIFIED:20250501T192507Z
UID:14804-1749463200-1749466800@durhamrealtors.org
SUMMARY:Public Schools Committee
DESCRIPTION:Interested in attending? \nPlease fill out the 2025 Committee Sign Up Form \nThe strength of the Durham Regional Association of REALTORS® is the involvement of its members. \nYour participation is welcomed and encouraged!
URL:https://durhamrealtors.org/event/public-schools-committee-7/
LOCATION:REALTOR® Square at DRAR\, 4236 University Drive\, Durham\, NC\, 27707\, United States
GEO:35.9626463;-78.9610398
X-APPLE-STRUCTURED-LOCATION;VALUE=URI;X-ADDRESS=REALTOR® Square at DRAR 4236 University Drive Durham NC 27707 United States;X-APPLE-RADIUS=500;X-TITLE=4236 University Drive:geo:-78.9610398,35.9626463
END:VEVENT
BEGIN:VEVENT
DTSTART;TZID=America/New_York:20250529T133000
DTEND;TZID=America/New_York:20250529T173000
DTSTAMP:20260424T075032
CREATED:20250428T152915Z
LAST-MODIFIED:20250428T153947Z
UID:15269-1748525400-1748539800@durhamrealtors.org
SUMMARY:Building Trust Elective Course
DESCRIPTION:#4094: (Elective) Building Trust – New Home Agents and General Brokerage \nInstructor: Chris Barnette \nThis course recognizes areas of conflict between New Home Agents and General Brokerage and offers win-win solutions. \nREGISTER \n 
URL:https://durhamrealtors.org/event/building-trust-elective-course/
LOCATION:REALTOR® Square at DRAR\, 4236 University Drive\, Durham\, NC\, 27707\, United States
GEO:35.9626463;-78.9610398
X-APPLE-STRUCTURED-LOCATION;VALUE=URI;X-ADDRESS=REALTOR® Square at DRAR 4236 University Drive Durham NC 27707 United States;X-APPLE-RADIUS=500;X-TITLE=4236 University Drive:geo:-78.9610398,35.9626463
END:VEVENT
BEGIN:VEVENT
DTSTART;TZID=America/New_York:20250528T090000
DTEND;TZID=America/New_York:20250528T100000
DTSTAMP:20260424T075032
CREATED:20250127T143210Z
LAST-MODIFIED:20250127T143210Z
UID:14975-1748422800-1748426400@durhamrealtors.org
SUMMARY:Independent Brokerage Council (IBC)
DESCRIPTION:Is your brokerage a smaller\, non-franchise firm? \nThis Council will provide support\, networking\, and opportunities to exchange business savvy ideas with owners\, BICs\, and Principal Brokers of other small\, non-franchise firms. We will discuss current rule and industry changes\, and technology offerings from DRAR\, TMLS\, and our other partners. Members should be licensed and active real estate professionals of independent (non-national franchise) firms dedicated to the real estate industry\, and passionate about exploring new ways to learn and grow for their firm and brokers. \nAnnual Term: 1|1|25 – 12|31|25\nAnnual Dues: $ 50 per member – Dues will pay for refreshments and any costs associated with this group’s events. \nBI-MONTHLY MEETINGS: Every 4th Wednesday\, 9-10am at DRAR with select industry speakers \nDOWNLOAD APPLICATION: CLICK HERE\nContact Justin Burleson\, IBC Chair\, for questions: Justin@PremierAgentsNetwork.com
URL:https://durhamrealtors.org/event/independent-brokerage-council-ibc-12/
LOCATION:REALTOR® Square at DRAR\, 4236 University Drive\, Durham\, NC\, 27707\, United States
GEO:35.9626463;-78.9610398
X-APPLE-STRUCTURED-LOCATION;VALUE=URI;X-ADDRESS=REALTOR® Square at DRAR 4236 University Drive Durham NC 27707 United States;X-APPLE-RADIUS=500;X-TITLE=4236 University Drive:geo:-78.9610398,35.9626463
END:VEVENT
BEGIN:VEVENT
DTSTART;TZID=America/New_York:20250522T100000
DTEND;TZID=America/New_York:20250522T110000
DTSTAMP:20260424T075032
CREATED:20250127T134629Z
LAST-MODIFIED:20250411T142229Z
UID:14931-1747908000-1747911600@durhamrealtors.org
SUMMARY:Diversity\, Equity\, & Inclusion ( DEI) Committee - Guest Speaker: Hannah Chan
DESCRIPTION:In recognition of Asian American\, Native Hawaiian\, and Pacific Islander Heritage Month\, guest speaker Hannah Chan will discuss her call to give back—to honor those who paved the way\, to protect the industry that gave her a voice\, and to help create a future where every REALTOR®\, no matter their background\, has the opportunity to thrive and lead. \nAll DRAR members are invited to attend. \nREGISTER
URL:https://durhamrealtors.org/event/diversity-equity-inclusion-dei-committee-6/
LOCATION:REALTOR® Square at DRAR\, 4236 University Drive\, Durham\, NC\, 27707\, United States
GEO:35.9626463;-78.9610398
X-APPLE-STRUCTURED-LOCATION;VALUE=URI;X-ADDRESS=REALTOR® Square at DRAR 4236 University Drive Durham NC 27707 United States;X-APPLE-RADIUS=500;X-TITLE=4236 University Drive:geo:-78.9610398,35.9626463
END:VEVENT
BEGIN:VEVENT
DTSTART;TZID=America/New_York:20250521T133000
DTEND;TZID=America/New_York:20250521T173000
DTSTAMP:20260424T075032
CREATED:20250227T173003Z
LAST-MODIFIED:20250227T173041Z
UID:15120-1747834200-1747848600@durhamrealtors.org
SUMMARY:#8825 In-Person BICUP CE Course at DRAR
DESCRIPTION:Your Instructor: Bill Gallagher \nRefreshments provided \nREGISTER \nTopics: \n\nEnvironmental Material Facts\nNCREC FAQs\nPermits\nEducation Update\nLaw & Rules Updates\nBIC Responsibility
URL:https://durhamrealtors.org/event/8825-in-person-bicup-ce-course-at-drar/
LOCATION:REALTOR® Square at DRAR\, 4236 University Drive\, Durham\, NC\, 27707\, United States
GEO:35.9626463;-78.9610398
X-APPLE-STRUCTURED-LOCATION;VALUE=URI;X-ADDRESS=REALTOR® Square at DRAR 4236 University Drive Durham NC 27707 United States;X-APPLE-RADIUS=500;X-TITLE=4236 University Drive:geo:-78.9610398,35.9626463
END:VEVENT
BEGIN:VEVENT
DTSTART;TZID=America/New_York:20250521T083000
DTEND;TZID=America/New_York:20250521T123000
DTSTAMP:20260424T075032
CREATED:20250227T172631Z
LAST-MODIFIED:20250227T172631Z
UID:15117-1747816200-1747830600@durhamrealtors.org
SUMMARY:#9925 In-Person GENUP at DRAR
DESCRIPTION:Your Instructor: Bill Gallagher \nRefreshments provided \nREGISTER \nTopics: \n\nEnvironmental Material Facts\nNCREC Frequently Asked Questions\nPermits\nEducation Update\nLaw and Rules Update
URL:https://durhamrealtors.org/event/9925-in-person-genup-at-drar-2/
LOCATION:REALTOR® Square at DRAR\, 4236 University Drive\, Durham\, NC\, 27707\, United States
GEO:35.9626463;-78.9610398
X-APPLE-STRUCTURED-LOCATION;VALUE=URI;X-ADDRESS=REALTOR® Square at DRAR 4236 University Drive Durham NC 27707 United States;X-APPLE-RADIUS=500;X-TITLE=4236 University Drive:geo:-78.9610398,35.9626463
END:VEVENT
BEGIN:VEVENT
DTSTART;TZID=America/New_York:20250519T140000
DTEND;TZID=America/New_York:20250519T150000
DTSTAMP:20260424T075032
CREATED:20250127T141849Z
LAST-MODIFIED:20250130T145517Z
UID:14957-1747663200-1747666800@durhamrealtors.org
SUMMARY:Governmental Affairs/ Legislative Committee
DESCRIPTION:Interested in attending? \nPlease fill out the 2025 Committee Sign Up Form \nThe strength of the Durham Regional Association of REALTORS® is the involvement of its members. \nYour participation is welcomed and encouraged!
URL:https://durhamrealtors.org/event/legislative-political-affairs/
LOCATION:REALTOR® Square at DRAR\, 4236 University Drive\, Durham\, NC\, 27707\, United States
GEO:35.9626463;-78.9610398
X-APPLE-STRUCTURED-LOCATION;VALUE=URI;X-ADDRESS=REALTOR® Square at DRAR 4236 University Drive Durham NC 27707 United States;X-APPLE-RADIUS=500;X-TITLE=4236 University Drive:geo:-78.9610398,35.9626463
END:VEVENT
BEGIN:VEVENT
DTSTART;TZID=America/New_York:20250515T113000
DTEND;TZID=America/New_York:20250515T133000
DTSTAMP:20260424T075032
CREATED:20250312T144147Z
LAST-MODIFIED:20250512T192350Z
UID:15138-1747308600-1747315800@durhamrealtors.org
SUMMARY:DRAR Membership Luncheon & Tour at Twinleaf Townes
DESCRIPTION:Membership luncheon and tour of Twinleaf Townes\, 3-4 bedroom townhomes that feature interior designs by celebrity home design expert\, Bobby Berk\, showcasing the best of affordable luxury in Chapel Hill. \nRegistration is closed
URL:https://durhamrealtors.org/event/drar-membership-luncheon-tour-at-twinleaf-townes/
LOCATION:Twinleaf Townes\, 1012 Zelkova Lane\, Chapel Hill\, 27517\, United States
END:VEVENT
BEGIN:VEVENT
DTSTART;TZID=America/New_York:20250514T093000
DTEND;TZID=America/New_York:20250514T103000
DTSTAMP:20260424T075032
CREATED:20250207T171101Z
LAST-MODIFIED:20250207T171855Z
UID:15041-1747215000-1747218600@durhamrealtors.org
SUMMARY:Board of Directors
DESCRIPTION:
URL:https://durhamrealtors.org/event/board-of-directors-5/
LOCATION:REALTOR® Square at DRAR\, 4236 University Drive\, Durham\, NC\, 27707\, United States
GEO:35.9626463;-78.9610398
X-APPLE-STRUCTURED-LOCATION;VALUE=URI;X-ADDRESS=REALTOR® Square at DRAR 4236 University Drive Durham NC 27707 United States;X-APPLE-RADIUS=500;X-TITLE=4236 University Drive:geo:-78.9610398,35.9626463
END:VEVENT
BEGIN:VEVENT
DTSTART;TZID=America/New_York:20250513T150000
DTEND;TZID=America/New_York:20250513T160000
DTSTAMP:20260424T075032
CREATED:20250115T164501Z
LAST-MODIFIED:20250115T164501Z
UID:14823-1747148400-1747152000@durhamrealtors.org
SUMMARY:Community Service Committee
DESCRIPTION:Interested in attending? \nPlease fill out the 2025 Committee Sign Up Form \nThe strength of the Durham Regional Association of REALTORS® is the involvement of its members. \nYour participation is welcomed and encouraged!
URL:https://durhamrealtors.org/event/community-service-committee-5/
LOCATION:REALTOR® Square at DRAR\, 4236 University Drive\, Durham\, NC\, 27707\, United States
GEO:35.9626463;-78.9610398
X-APPLE-STRUCTURED-LOCATION;VALUE=URI;X-ADDRESS=REALTOR® Square at DRAR 4236 University Drive Durham NC 27707 United States;X-APPLE-RADIUS=500;X-TITLE=4236 University Drive:geo:-78.9610398,35.9626463
END:VEVENT
BEGIN:VEVENT
DTSTART;TZID=America/New_York:20250507T093000
DTEND;TZID=America/New_York:20250507T103000
DTSTAMP:20260424T075032
CREATED:20250404T143558Z
LAST-MODIFIED:20250404T143558Z
UID:15213-1746610200-1746613800@durhamrealtors.org
SUMMARY:Executive Committee
DESCRIPTION:
URL:https://durhamrealtors.org/event/executive-committee-3/
LOCATION:REALTOR® Square at DRAR\, 4236 University Drive\, Durham\, NC\, 27707\, United States
GEO:35.9626463;-78.9610398
X-APPLE-STRUCTURED-LOCATION;VALUE=URI;X-ADDRESS=REALTOR® Square at DRAR 4236 University Drive Durham NC 27707 United States;X-APPLE-RADIUS=500;X-TITLE=4236 University Drive:geo:-78.9610398,35.9626463
END:VEVENT
BEGIN:VEVENT
DTSTART;TZID=America/New_York:20250506T113000
DTEND;TZID=America/New_York:20250506T133000
DTSTAMP:20260424T075032
CREATED:20250418T085642Z
LAST-MODIFIED:20250418T085642Z
UID:15253-1746531000-1746538200@durhamrealtors.org
SUMMARY:Triangle Mortgage Lenders Association (TMLA) Lunch & Learn
DESCRIPTION:This panel of lending specialists will share empowering tips for REALTORS® to thrive in a shifting market. \nREGISTER
URL:https://durhamrealtors.org/event/triangle-mortgage-lenders-association-tmla-lunch-learn/
LOCATION:REALTOR® Square at DRAR\, 4236 University Drive\, Durham\, NC\, 27707\, United States
GEO:35.9626463;-78.9610398
X-APPLE-STRUCTURED-LOCATION;VALUE=URI;X-ADDRESS=REALTOR® Square at DRAR 4236 University Drive Durham NC 27707 United States;X-APPLE-RADIUS=500;X-TITLE=4236 University Drive:geo:-78.9610398,35.9626463
END:VEVENT
BEGIN:VEVENT
DTSTART;TZID=America/New_York:20250505T100000
DTEND;TZID=America/New_York:20250505T110000
DTSTAMP:20260424T075032
CREATED:20250115T162202Z
LAST-MODIFIED:20250115T162202Z
UID:14802-1746439200-1746442800@durhamrealtors.org
SUMMARY:Public Schools Committee
DESCRIPTION:Interested in attending? \nPlease fill out the 2025 Committee Sign Up Form \nThe strength of the Durham Regional Association of REALTORS® is the involvement of its members. \nYour participation is welcomed and encouraged!
URL:https://durhamrealtors.org/event/public-schools-committee-6/
LOCATION:REALTOR® Square at DRAR\, 4236 University Drive\, Durham\, NC\, 27707\, United States
GEO:35.9626463;-78.9610398
X-APPLE-STRUCTURED-LOCATION;VALUE=URI;X-ADDRESS=REALTOR® Square at DRAR 4236 University Drive Durham NC 27707 United States;X-APPLE-RADIUS=500;X-TITLE=4236 University Drive:geo:-78.9610398,35.9626463
END:VEVENT
BEGIN:VEVENT
DTSTART;TZID=America/New_York:20250501T081500
DTEND;TZID=America/New_York:20250501T114500
DTSTAMP:20260424T075032
CREATED:20250127T143907Z
LAST-MODIFIED:20250127T143907Z
UID:14985-1746087300-1746099900@durhamrealtors.org
SUMMARY:New Member Orientation
DESCRIPTION:8:15am: Check In\, Sponsored Refreshments & Pictures\n9:00am: Welcome\, Pathways to Professionalism and Getting Started\n9:30am: Getting Acquainted with the REALTOR® Organization – Local & State\n10:15am: Sponsor Intro\n10:20am: Break\n10:30am: Upcoming Events\n10:40am: Website & Social Media\n10:50am: COE and Oath\n11:00am: Closing Comments\n11:15am: End time (estimate)
URL:https://durhamrealtors.org/event/new-member-orientation-19/
LOCATION:REALTOR® Square at DRAR\, 4236 University Drive\, Durham\, NC\, 27707\, United States
GEO:35.9626463;-78.9610398
X-APPLE-STRUCTURED-LOCATION;VALUE=URI;X-ADDRESS=REALTOR® Square at DRAR 4236 University Drive Durham NC 27707 United States;X-APPLE-RADIUS=500;X-TITLE=4236 University Drive:geo:-78.9610398,35.9626463
END:VEVENT
BEGIN:VEVENT
DTSTART;TZID=America/New_York:20250430T130000
DTEND;TZID=America/New_York:20250430T150000
DTSTAMP:20260424T075032
CREATED:20250312T143613Z
LAST-MODIFIED:20250312T143613Z
UID:15136-1746018000-1746025200@durhamrealtors.org
SUMMARY:Realtors Property Resource® (RPR) Training
DESCRIPTION:Realtors Property Resource® (RPR) delivers on-the-go access to an all-encompassing real estate platform that provides property data\, tools\, and reports exclusively to REALTORS® at no additional cost. Join us for an exclusive training designed to help you leverage RPR’s most powerful tools to grow your business! \nREGISTER
URL:https://durhamrealtors.org/event/realtors-property-resource-rpr-training/
LOCATION:REALTOR® Square at DRAR\, 4236 University Drive\, Durham\, NC\, 27707\, United States
GEO:35.9626463;-78.9610398
X-APPLE-STRUCTURED-LOCATION;VALUE=URI;X-ADDRESS=REALTOR® Square at DRAR 4236 University Drive Durham NC 27707 United States;X-APPLE-RADIUS=500;X-TITLE=4236 University Drive:geo:-78.9610398,35.9626463
END:VEVENT
BEGIN:VEVENT
DTSTART;TZID=America/New_York:20250424T113000
DTEND;TZID=America/New_York:20250424T133000
DTSTAMP:20260424T075032
CREATED:20250312T143355Z
LAST-MODIFIED:20250312T143355Z
UID:15134-1745494200-1745501400@durhamrealtors.org
SUMMARY:Fair Housing Membership Luncheon
DESCRIPTION:Featuring Guest Speaker: Jason Scott\, NC REALTORS® DEI Committee Chair \nREGISTER
URL:https://durhamrealtors.org/event/fair-housing-membership-luncheon/
LOCATION:Croasdaile Country Club\, 3800 Farm Gate Ave\, Durham\, NC\, 27705\, United States
END:VEVENT
BEGIN:VEVENT
DTSTART;TZID=America/New_York:20250423T120000
DTEND;TZID=America/New_York:20250423T140000
DTSTAMP:20260424T075032
CREATED:20250414T182354Z
LAST-MODIFIED:20250414T182354Z
UID:15249-1745409600-1745416800@durhamrealtors.org
SUMMARY:YPN Lunch & Learn: Building and Growing a Business
DESCRIPTION:Learn how to manage your money\, grow your business\, and secure long-term wealth. \nGuest speaker: Pamela J. Bradford\, Regional VP Primerica & Financial Coach \nDeadline to register is Thursday\, April 17. \nREGISTER
URL:https://durhamrealtors.org/event/ypn-lunch-learn-building-and-growing-a-business/
LOCATION:REALTOR® Square at DRAR\, 4236 University Drive\, Durham\, NC\, 27707\, United States
GEO:35.9626463;-78.9610398
X-APPLE-STRUCTURED-LOCATION;VALUE=URI;X-ADDRESS=REALTOR® Square at DRAR 4236 University Drive Durham NC 27707 United States;X-APPLE-RADIUS=500;X-TITLE=4236 University Drive:geo:-78.9610398,35.9626463
END:VEVENT
BEGIN:VEVENT
DTSTART;TZID=America/New_York:20250423T090000
DTEND;TZID=America/New_York:20250423T100000
DTSTAMP:20260424T075032
CREATED:20250418T090119Z
LAST-MODIFIED:20250418T090325Z
UID:15255-1745398800-1745402400@durhamrealtors.org
SUMMARY:Independent Brokerage Council (IBC) Meeting
DESCRIPTION:This Council will provide support\, networking\, and opportunities to exchange business savvy ideas with owners\, BICs\, and Principal Brokers of other small\, non-franchise firms. We will discuss current rule and industry changes\, and technology offerings from DRAR\, TMLS\, and our other partners. Members should be licensed and active real estate professionals of independent (non-national franchise) firms dedicated to the real estate industry\, and passionate about exploring new ways to learn and grow for their firm and brokers. \nAnnual Term: 1|1|25 – 12|31|25\nAnnual Dues: $ 50 per member – Dues will pay for refreshments and any costs associated with this group’s events. \nBI-MONTHLY MEETINGS: Every 4th Wednesday\, 9-10am at DRAR with select industry speakers \nDOWNLOAD APPLICATION: CLICK HERE\nContact Justin Burleson\, IBC Chair\, for questions: Justin@PremierAgentsNetwork.com
URL:https://durhamrealtors.org/event/independent-brokerage-council-ibc-meeting/
LOCATION:REALTOR® Square at DRAR\, 4236 University Drive\, Durham\, NC\, 27707\, United States
GEO:35.9626463;-78.9610398
X-APPLE-STRUCTURED-LOCATION;VALUE=URI;X-ADDRESS=REALTOR® Square at DRAR 4236 University Drive Durham NC 27707 United States;X-APPLE-RADIUS=500;X-TITLE=4236 University Drive:geo:-78.9610398,35.9626463
END:VEVENT
BEGIN:VEVENT
DTSTART;TZID=America/New_York:20250422T133000
DTEND;TZID=America/New_York:20250422T173000
DTSTAMP:20260424T075032
CREATED:20250227T172403Z
LAST-MODIFIED:20250227T172403Z
UID:15115-1745328600-1745343000@durhamrealtors.org
SUMMARY:#4094 In-Person CE Course: Building Trust - New Homes and General Brokerage
DESCRIPTION:Instructor: Chris Barnette \nThis course recognizes areas of conflict between New Home Agents and General Brokerage and offers win-win solutions. \nREGISTER \n  \n 
URL:https://durhamrealtors.org/event/4094-in-person-ce-course-building-trust-new-homes-and-general-brokerage/
LOCATION:REALTOR® Square at DRAR\, 4236 University Drive\, Durham\, NC\, 27707\, United States
GEO:35.9626463;-78.9610398
X-APPLE-STRUCTURED-LOCATION;VALUE=URI;X-ADDRESS=REALTOR® Square at DRAR 4236 University Drive Durham NC 27707 United States;X-APPLE-RADIUS=500;X-TITLE=4236 University Drive:geo:-78.9610398,35.9626463
END:VEVENT
BEGIN:VEVENT
DTSTART;TZID=America/New_York:20250422T083000
DTEND;TZID=America/New_York:20250422T123000
DTSTAMP:20260424T075032
CREATED:20250227T155353Z
LAST-MODIFIED:20250227T173123Z
UID:15113-1745310600-1745325000@durhamrealtors.org
SUMMARY:#8825 BICUP In-Person @DRAR
DESCRIPTION:Your Instructor: Nicolle Mercer \nRefreshments provided \nREGISTER \nTopics: \n\nEnvironmental Material Facts\nNCREC FAQs\nPermits\nEducation Update\nLaw & Rules Updates\nBIC Responsibility
URL:https://durhamrealtors.org/event/8825-bicup-in-person-drar-5/
LOCATION:REALTOR® Square at DRAR\, 4236 University Drive\, Durham\, NC\, 27707\, United States
GEO:35.9626463;-78.9610398
X-APPLE-STRUCTURED-LOCATION;VALUE=URI;X-ADDRESS=REALTOR® Square at DRAR 4236 University Drive Durham NC 27707 United States;X-APPLE-RADIUS=500;X-TITLE=4236 University Drive:geo:-78.9610398,35.9626463
END:VEVENT
BEGIN:VEVENT
DTSTART;TZID=America/New_York:20250421T140000
DTEND;TZID=America/New_York:20250421T150000
DTSTAMP:20260424T075032
CREATED:20250127T141652Z
LAST-MODIFIED:20250130T145537Z
UID:14954-1745244000-1745247600@durhamrealtors.org
SUMMARY:Governmental Affairs/ Legislative Committee
DESCRIPTION:Interested in attending? \nPlease fill out the 2025 Committee Sign Up Form \nThe strength of the Durham Regional Association of REALTORS® is the involvement of its members. \nYour participation is welcomed and encouraged!
URL:https://durhamrealtors.org/event/government-affairs-legislative-committee/
LOCATION:REALTOR® Square at DRAR\, 4236 University Drive\, Durham\, NC\, 27707\, United States
GEO:35.9626463;-78.9610398
X-APPLE-STRUCTURED-LOCATION;VALUE=URI;X-ADDRESS=REALTOR® Square at DRAR 4236 University Drive Durham NC 27707 United States;X-APPLE-RADIUS=500;X-TITLE=4236 University Drive:geo:-78.9610398,35.9626463
END:VEVENT
BEGIN:VEVENT
DTSTART;VALUE=DATE:20250418
DTEND;VALUE=DATE:20250419
DTSTAMP:20260424T075032
CREATED:20250411T143504Z
LAST-MODIFIED:20250411T143504Z
UID:15247-1744934400-1745020799@durhamrealtors.org
SUMMARY:DRAR Office Closed for Good Friday
DESCRIPTION:
URL:https://durhamrealtors.org/event/drar-office-closed-for-good-friday/
LOCATION:REALTOR® Square at DRAR\, 4236 University Drive\, Durham\, NC\, 27707\, United States
GEO:35.9626463;-78.9610398
X-APPLE-STRUCTURED-LOCATION;VALUE=URI;X-ADDRESS=REALTOR® Square at DRAR 4236 University Drive Durham NC 27707 United States;X-APPLE-RADIUS=500;X-TITLE=4236 University Drive:geo:-78.9610398,35.9626463
END:VEVENT
BEGIN:VEVENT
DTSTART;TZID=America/New_York:20250416T093000
DTEND;TZID=America/New_York:20250416T103000
DTSTAMP:20260424T075032
CREATED:20250207T171022Z
LAST-MODIFIED:20250207T171022Z
UID:15039-1744795800-1744799400@durhamrealtors.org
SUMMARY:Board of Directors
DESCRIPTION:
URL:https://durhamrealtors.org/event/board-of-directors-4/
LOCATION:REALTOR® Square at DRAR\, 4236 University Drive\, Durham\, NC\, 27707\, United States
GEO:35.9626463;-78.9610398
X-APPLE-STRUCTURED-LOCATION;VALUE=URI;X-ADDRESS=REALTOR® Square at DRAR 4236 University Drive Durham NC 27707 United States;X-APPLE-RADIUS=500;X-TITLE=4236 University Drive:geo:-78.9610398,35.9626463
END:VEVENT
BEGIN:VEVENT
DTSTART;TZID=America/New_York:20250415T150000
DTEND;TZID=America/New_York:20250415T160000
DTSTAMP:20260424T075032
CREATED:20250115T164404Z
LAST-MODIFIED:20250115T164404Z
UID:14821-1744729200-1744732800@durhamrealtors.org
SUMMARY:Community Service Committee
DESCRIPTION:Interested in attending? \nPlease fill out the 2025 Committee Sign Up Form \nThe strength of the Durham Regional Association of REALTORS® is the involvement of its members. \nYour participation is welcomed and encouraged!
URL:https://durhamrealtors.org/event/community-service-committee-4/
LOCATION:REALTOR® Square at DRAR\, 4236 University Drive\, Durham\, NC\, 27707\, United States
GEO:35.9626463;-78.9610398
X-APPLE-STRUCTURED-LOCATION;VALUE=URI;X-ADDRESS=REALTOR® Square at DRAR 4236 University Drive Durham NC 27707 United States;X-APPLE-RADIUS=500;X-TITLE=4236 University Drive:geo:-78.9610398,35.9626463
END:VEVENT
BEGIN:VEVENT
DTSTART;TZID=America/New_York:20250410T150000
DTEND;TZID=America/New_York:20250410T160000
DTSTAMP:20260424T075032
CREATED:20250207T172515Z
LAST-MODIFIED:20250320T162555Z
UID:15059-1744297200-1744300800@durhamrealtors.org
SUMMARY:Executive Committee
DESCRIPTION:
URL:https://durhamrealtors.org/event/executive-committee-2/
LOCATION:REALTOR® Square at DRAR\, 4236 University Drive\, Durham\, NC\, 27707\, United States
GEO:35.9626463;-78.9610398
X-APPLE-STRUCTURED-LOCATION;VALUE=URI;X-ADDRESS=REALTOR® Square at DRAR 4236 University Drive Durham NC 27707 United States;X-APPLE-RADIUS=500;X-TITLE=4236 University Drive:geo:-78.9610398,35.9626463
END:VEVENT
BEGIN:VEVENT
DTSTART;TZID=America/New_York:20250410T081500
DTEND;TZID=America/New_York:20250410T114500
DTSTAMP:20260424T075032
CREATED:20250127T143743Z
LAST-MODIFIED:20250127T143743Z
UID:14983-1744272900-1744285500@durhamrealtors.org
SUMMARY:New Member Orientation
DESCRIPTION:8:15am: Check In\, Sponsored Refreshments & Pictures\n9:00am: Welcome\, Pathways to Professionalism and Getting Started\n9:30am: Getting Acquainted with the REALTOR® Organization – Local & State\n10:15am: Sponsor Intro\n10:20am: Break\n10:30am: Upcoming Events\n10:40am: Website & Social Media\n10:50am: COE and Oath\n11:00am: Closing Comments\n11:15am: End time (estimate)
URL:https://durhamrealtors.org/event/new-member-orientation-18/
LOCATION:REALTOR® Square at DRAR\, 4236 University Drive\, Durham\, NC\, 27707\, United States
GEO:35.9626463;-78.9610398
X-APPLE-STRUCTURED-LOCATION;VALUE=URI;X-ADDRESS=REALTOR® Square at DRAR 4236 University Drive Durham NC 27707 United States;X-APPLE-RADIUS=500;X-TITLE=4236 University Drive:geo:-78.9610398,35.9626463
END:VEVENT
END:VCALENDAR