BEGIN:VCALENDAR
VERSION:2.0
PRODID:-//Durham Regional Assc of Realtors - ECPv6.15.16//NONSGML v1.0//EN
CALSCALE:GREGORIAN
METHOD:PUBLISH
X-WR-CALNAME:Durham Regional Assc of Realtors
X-ORIGINAL-URL:https://durhamrealtors.org
X-WR-CALDESC:Events for Durham Regional Assc of Realtors
REFRESH-INTERVAL;VALUE=DURATION:PT1H
X-Robots-Tag:noindex
X-PUBLISHED-TTL:PT1H
BEGIN:VTIMEZONE
TZID:America/New_York
BEGIN:DAYLIGHT
TZOFFSETFROM:-0500
TZOFFSETTO:-0400
TZNAME:EDT
DTSTART:20220313T070000
END:DAYLIGHT
BEGIN:STANDARD
TZOFFSETFROM:-0400
TZOFFSETTO:-0500
TZNAME:EST
DTSTART:20221106T060000
END:STANDARD
BEGIN:DAYLIGHT
TZOFFSETFROM:-0500
TZOFFSETTO:-0400
TZNAME:EDT
DTSTART:20230312T070000
END:DAYLIGHT
BEGIN:STANDARD
TZOFFSETFROM:-0400
TZOFFSETTO:-0500
TZNAME:EST
DTSTART:20231105T060000
END:STANDARD
BEGIN:DAYLIGHT
TZOFFSETFROM:-0500
TZOFFSETTO:-0400
TZNAME:EDT
DTSTART:20240310T070000
END:DAYLIGHT
BEGIN:STANDARD
TZOFFSETFROM:-0400
TZOFFSETTO:-0500
TZNAME:EST
DTSTART:20241103T060000
END:STANDARD
END:VTIMEZONE
BEGIN:VEVENT
DTSTART;TZID=America/New_York:20231206T120000
DTEND;TZID=America/New_York:20231206T140000
DTSTAMP:20260425T115337
CREATED:20231121T140320Z
LAST-MODIFIED:20231201T151747Z
UID:13211-1701864000-1701871200@durhamrealtors.org
SUMMARY:Kerr Lake Quarterly Luncheon
DESCRIPTION:Registration has Closed. \nGuest: Mayor Bobby Wheeler\, Creedmoor \nThe $7\,500 Placemaking grant will be presented \nKL 2023 ROTY announced \nLunch is complimentary for DRAR members only
URL:https://durhamrealtors.org/event/kerr-lake-quarterly-luncheon-3/
LOCATION:Ribeyes Henderson\, 2002 Graham Avenue\, Henderson\, NC\, 27536\, United States
END:VEVENT
BEGIN:VEVENT
DTSTART;TZID=America/New_York:20231206T093000
DTEND;TZID=America/New_York:20231206T103000
DTSTAMP:20260425T115337
CREATED:20230103T142656Z
LAST-MODIFIED:20230103T145040Z
UID:11994-1701855000-1701858600@durhamrealtors.org
SUMMARY:DRAR Executive Committee Meeting
DESCRIPTION:
URL:https://durhamrealtors.org/event/drar-executive-committee-meeting-3-2023-12-06/
LOCATION:REALTOR® Square at DRAR\, 4236 University Drive\, Durham\, NC\, 27707\, United States
GEO:35.9626463;-78.9610398
X-APPLE-STRUCTURED-LOCATION;VALUE=URI;X-ADDRESS=REALTOR® Square at DRAR 4236 University Drive Durham NC 27707 United States;X-APPLE-RADIUS=500;X-TITLE=4236 University Drive:geo:-78.9610398,35.9626463
END:VEVENT
BEGIN:VEVENT
DTSTART;TZID=America/New_York:20231205T140000
DTEND;TZID=America/New_York:20231205T150000
DTSTAMP:20260425T115337
CREATED:20230103T142048Z
LAST-MODIFIED:20230502T230428Z
UID:11978-1701784800-1701788400@durhamrealtors.org
SUMMARY:Property Management Meeting
DESCRIPTION:Interested in attending? \nPlease fill out the 2023 Committee Signup Sheet and email it to:  Services@durhamrealtors.org \nThe strength of the Durham Regional Association of REALTORS® is the involvement of its members. \nYour participation is welcomed and encouraged!
URL:https://durhamrealtors.org/event/property-management-meeting-2023-12-05/
LOCATION:REALTOR® Square at DRAR\, 4236 University Drive\, Durham\, NC\, 27707\, United States
GEO:35.9626463;-78.9610398
X-APPLE-STRUCTURED-LOCATION;VALUE=URI;X-ADDRESS=REALTOR® Square at DRAR 4236 University Drive Durham NC 27707 United States;X-APPLE-RADIUS=500;X-TITLE=4236 University Drive:geo:-78.9610398,35.9626463
END:VEVENT
BEGIN:VEVENT
DTSTART;TZID=America/New_York:20231204T100000
DTEND;TZID=America/New_York:20231204T110000
DTSTAMP:20260425T115337
CREATED:20230103T141421Z
LAST-MODIFIED:20230831T103045Z
UID:11936-1701684000-1701687600@durhamrealtors.org
SUMMARY:Public Schools Committee Meeting
DESCRIPTION:Interested in attending? \nPlease fill out the 2023 Committee Signup Sheet and email it to:  Services@durhamrealtors.org \nThe strength of the Durham Regional Association of REALTORS® is the involvement of its members. \nYour participation is welcomed and encouraged!
URL:https://durhamrealtors.org/event/durham-public-schools-committee-meeting-5-2023-12-04/
LOCATION:REALTOR® Square at DRAR\, 4236 University Drive\, Durham\, NC\, 27707\, United States
GEO:35.9626463;-78.9610398
X-APPLE-STRUCTURED-LOCATION;VALUE=URI;X-ADDRESS=REALTOR® Square at DRAR 4236 University Drive Durham NC 27707 United States;X-APPLE-RADIUS=500;X-TITLE=4236 University Drive:geo:-78.9610398,35.9626463
END:VEVENT
BEGIN:VEVENT
DTSTART;TZID=America/New_York:20231130T110000
DTEND;TZID=America/New_York:20231130T120000
DTSTAMP:20260425T115337
CREATED:20231027T115401Z
LAST-MODIFIED:20231030T120240Z
UID:13149-1701342000-1701345600@durhamrealtors.org
SUMMARY:Forewarn Training via Zoom
DESCRIPTION:REGISTER \nThe FOREWARN application gives an agent the ability to safely verify prospects (while not being exposed to any protected class information) with instant insight (within seconds) on a prospective client using only a phone number!  Don’t have a phone number… you can also search by name. \nInstantly verify: \n\nIdentity (first name\, last name\, alias\, and age)\nPhone numbers (residential and mobile history)\nAddress history (rental\, ownership\, and associated addresses)\nFinancial indicators (bankruptcy\, lien\, judgement\, and foreclosure history)\nProperty records (nationwide property ownership history)\nCriminal records (nationwide criminal history search)\n\nVerifying unknown prospects in FOREWARN is not only critical for your agents’ personal safety and efficiency\, but also for potential fraud detection and prevention. \n 
URL:https://durhamrealtors.org/event/forewarn-training-via-zoom/
LOCATION:ZOOM Webinar\, NC\, United States
END:VEVENT
BEGIN:VEVENT
DTSTART;TZID=America/New_York:20231129T130000
DTEND;TZID=America/New_York:20231129T140000
DTSTAMP:20260425T115337
CREATED:20231024T115302Z
LAST-MODIFIED:20231024T115302Z
UID:13144-1701262800-1701266400@durhamrealtors.org
SUMMARY:AI in Real Estate
DESCRIPTION:REGISTER \n\n\nLearn how to leverage AI to optimize your listings\, automate your marketing strategies\, and enhance your customer relations. Unlock the full potential of AI to not only stay ahead of the curve but also significantly improve your profitability while helping you achieve a work-life balance.\nKey Takeaways:\n● Understanding the impact of AI on the real estate market\n● Practical strategies for implementing AI in your marketing efforts\n● Techniques for automating mundane tasks\, freeing you to focus on relationship-building\n● Best practices for data-driven decision-making to maximize profitability\n● Real-world case studies showcasing successful AI applications in real estate\n● How you can incorporate AI into your personal life?
URL:https://durhamrealtors.org/event/ai-in-real-estate/
LOCATION:ZOOM Webinar\, NC\, United States
END:VEVENT
BEGIN:VEVENT
DTSTART;TZID=America/New_York:20231127T111500
DTEND;TZID=America/New_York:20231127T133000
DTSTAMP:20260425T115337
CREATED:20230519T114445Z
LAST-MODIFIED:20231109T201612Z
UID:12637-1701083700-1701091800@durhamrealtors.org
SUMMARY:Membership Holiday Luncheon WAITLIST ONLY
DESCRIPTION:This event is AT CAPACITY. To be placed on the waitlist email Services@DurhamRealtors.org \nInstallation of 2024 Officers & Directors\nAnnual fundraising food & coat drive\nGuest Speaker:  Lawrence Yun\, Chief Economist & SVP at NAR to share 2024 real estate forecast
URL:https://durhamrealtors.org/event/membership-holiday-luncheon-2/
LOCATION:Washington Duke Inn & Golf Club\,  3001 Cameron Blvd\, Durham\, NC\, 27705\, United States
GEO:35.9933038;-78.9484094
X-APPLE-STRUCTURED-LOCATION;VALUE=URI;X-ADDRESS=Washington Duke Inn & Golf Club  3001 Cameron Blvd Durham NC 27705 United States;X-APPLE-RADIUS=500;X-TITLE=3001 Cameron Blvd:geo:-78.9484094,35.9933038
END:VEVENT
BEGIN:VEVENT
DTSTART;VALUE=DATE:20231127
DTEND;VALUE=DATE:20231130
DTSTAMP:20260425T115337
CREATED:20231013T122253Z
LAST-MODIFIED:20231013T122253Z
UID:13091-1701043200-1701302399@durhamrealtors.org
SUMMARY:TMLS System Rollout
DESCRIPTION:
URL:https://durhamrealtors.org/event/tmls-system-rollout/
LOCATION:Triangle Multiple Listing Service\, 111 Realtors Way\, Cary\, NC\, 27513\, United States
ORGANIZER;CN="Triangle Multiple Listing Service":MAILTO:RachelW@TriangleMLS.com
END:VEVENT
BEGIN:VEVENT
DTSTART;VALUE=DATE:20231124
DTEND;VALUE=DATE:20231125
DTSTAMP:20260425T115337
CREATED:20231109T144247Z
LAST-MODIFIED:20231109T144247Z
UID:13182-1700784000-1700870399@durhamrealtors.org
SUMMARY:Deadline for Kerr Lake ROTY nominations
DESCRIPTION:
URL:https://durhamrealtors.org/event/deadline-for-kerr-lake-roty-nominations/
LOCATION:REALTOR® Square at DRAR\, 4236 University Drive\, Durham\, NC\, 27707\, United States
GEO:35.9626463;-78.9610398
X-APPLE-STRUCTURED-LOCATION;VALUE=URI;X-ADDRESS=REALTOR® Square at DRAR 4236 University Drive Durham NC 27707 United States;X-APPLE-RADIUS=500;X-TITLE=4236 University Drive:geo:-78.9610398,35.9626463
END:VEVENT
BEGIN:VEVENT
DTSTART;TZID=America/New_York:20231123T100000
DTEND;TZID=America/New_York:20231123T110000
DTSTAMP:20260425T115337
CREATED:20230103T141930Z
LAST-MODIFIED:20231120T154722Z
UID:11964-1700733600-1700737200@durhamrealtors.org
SUMMARY:CANCELED: Diversity\, Equity\, & Inclusion (DEI) Meeting
DESCRIPTION:Interested in attending? \nPlease fill out the 2023 Committee Signup Sheet and email it to:  Services@durhamrealtors.org \nThe strength of the Durham Regional Association of REALTORS® is the involvement of its members. \nYour participation is welcomed and encouraged!
URL:https://durhamrealtors.org/event/diversity-equity-inclusion-dei-meeting-2023-04-27-2023-11-23/
LOCATION:ZOOM Webinar\, NC\, United States
END:VEVENT
BEGIN:VEVENT
DTSTART;VALUE=DATE:20231123
DTEND;VALUE=DATE:20231125
DTSTAMP:20260425T115337
CREATED:20231120T154445Z
LAST-MODIFIED:20231120T154445Z
UID:13208-1700697600-1700870399@durhamrealtors.org
SUMMARY:OFFICE CLOSED for the Holiday
DESCRIPTION:We wish you a Happy Thanksgiving weekend!
URL:https://durhamrealtors.org/event/office-closed-for-the-holiday-3/
LOCATION:REALTOR® Square at DRAR\, 4236 University Drive\, Durham\, NC\, 27707\, United States
GEO:35.9626463;-78.9610398
X-APPLE-STRUCTURED-LOCATION;VALUE=URI;X-ADDRESS=REALTOR® Square at DRAR 4236 University Drive Durham NC 27707 United States;X-APPLE-RADIUS=500;X-TITLE=4236 University Drive:geo:-78.9610398,35.9626463
END:VEVENT
BEGIN:VEVENT
DTSTART;TZID=America/New_York:20231120T130000
DTEND;TZID=America/New_York:20231120T160000
DTSTAMP:20260425T115337
CREATED:20231108T143116Z
LAST-MODIFIED:20231108T143116Z
UID:13178-1700485200-1700496000@durhamrealtors.org
SUMMARY:Pick Up Reserved Pie
DESCRIPTION:
URL:https://durhamrealtors.org/event/pick-up-reserved-pie/
LOCATION:REALTOR® Square at DRAR\, 4236 University Drive\, Durham\, NC\, 27707\, United States
GEO:35.9626463;-78.9610398
X-APPLE-STRUCTURED-LOCATION;VALUE=URI;X-ADDRESS=REALTOR® Square at DRAR 4236 University Drive Durham NC 27707 United States;X-APPLE-RADIUS=500;X-TITLE=4236 University Drive:geo:-78.9610398,35.9626463
END:VEVENT
BEGIN:VEVENT
DTSTART;TZID=America/New_York:20231120T090000
DTEND;TZID=America/New_York:20231120T100000
DTSTAMP:20260425T115337
CREATED:20231120T124238Z
LAST-MODIFIED:20231120T124238Z
UID:13205-1700470800-1700474400@durhamrealtors.org
SUMMARY:OCHAR: Leigh Brown Town Hall re: NAR (Zoom)
DESCRIPTION:REGISTER
URL:https://durhamrealtors.org/event/ochar-leigh-brown-town-hall-re-nar-zoom/
LOCATION:ZOOM Webinar\, NC\, United States
END:VEVENT
BEGIN:VEVENT
DTSTART;VALUE=DATE:20231117
DTEND;VALUE=DATE:20231118
DTSTAMP:20260425T115337
CREATED:20231108T143036Z
LAST-MODIFIED:20231108T143036Z
UID:13175-1700179200-1700265599@durhamrealtors.org
SUMMARY:Deadline to reserve pie from UHM
DESCRIPTION:
URL:https://durhamrealtors.org/event/deadline-to-reserve-pie-from-uhm/
LOCATION:REALTOR® Square at DRAR\, 4236 University Drive\, Durham\, NC\, 27707\, United States
GEO:35.9626463;-78.9610398
X-APPLE-STRUCTURED-LOCATION;VALUE=URI;X-ADDRESS=REALTOR® Square at DRAR 4236 University Drive Durham NC 27707 United States;X-APPLE-RADIUS=500;X-TITLE=4236 University Drive:geo:-78.9610398,35.9626463
END:VEVENT
BEGIN:VEVENT
DTSTART;TZID=America/New_York:20231114T140000
DTEND;TZID=America/New_York:20231114T150000
DTSTAMP:20260425T115337
CREATED:20230103T142048Z
LAST-MODIFIED:20231011T141137Z
UID:11977-1699970400-1699974000@durhamrealtors.org
SUMMARY:Property Management Mtg: ADAM STALLINGS guest speaker
DESCRIPTION:Guest Speaker:  Adam Stallings\, Attorney from Martin & Gifford. Topic: Managing Trust Accounts: Navigating A Successful NCREC Audit. \nInterested in attending? \nPlease fill out the 2023 Committee Signup Sheet and email it to:  Services@durhamrealtors.org \nThe strength of the Durham Regional Association of REALTORS® is the involvement of its members. \nYour participation is welcomed and encouraged!
URL:https://durhamrealtors.org/event/property-management-meeting-2023-11-07/
LOCATION:REALTOR® Square at DRAR\, 4236 University Drive\, Durham\, NC\, 27707\, United States
GEO:35.9626463;-78.9610398
X-APPLE-STRUCTURED-LOCATION;VALUE=URI;X-ADDRESS=REALTOR® Square at DRAR 4236 University Drive Durham NC 27707 United States;X-APPLE-RADIUS=500;X-TITLE=4236 University Drive:geo:-78.9610398,35.9626463
END:VEVENT
BEGIN:VEVENT
DTSTART;VALUE=DATE:20231110
DTEND;VALUE=DATE:20231111
DTSTAMP:20260425T115337
CREATED:20231103T141157Z
LAST-MODIFIED:20231103T141157Z
UID:13165-1699574400-1699660799@durhamrealtors.org
SUMMARY:Veterans Day
DESCRIPTION:DRAR’s Office will be open.
URL:https://durhamrealtors.org/event/veterans-day/
LOCATION:REALTOR® Square at DRAR\, 4236 University Drive\, Durham\, NC\, 27707\, United States
GEO:35.9626463;-78.9610398
X-APPLE-STRUCTURED-LOCATION;VALUE=URI;X-ADDRESS=REALTOR® Square at DRAR 4236 University Drive Durham NC 27707 United States;X-APPLE-RADIUS=500;X-TITLE=4236 University Drive:geo:-78.9610398,35.9626463
END:VEVENT
BEGIN:VEVENT
DTSTART;TZID=America/New_York:20231108T130000
DTEND;TZID=America/New_York:20231108T140000
DTSTAMP:20260425T115337
CREATED:20231103T154213Z
LAST-MODIFIED:20231103T154213Z
UID:13171-1699448400-1699452000@durhamrealtors.org
SUMMARY:TMLS Front End Choice Training
DESCRIPTION:MORE INFO
URL:https://durhamrealtors.org/event/tmls-front-end-choice-training-2/
LOCATION:ZOOM Webinar\, NC\, United States
ORGANIZER;CN="Triangle Multiple Listing Service":MAILTO:RachelW@TriangleMLS.com
END:VEVENT
BEGIN:VEVENT
DTSTART;TZID=America/New_York:20231107T063000
DTEND;TZID=America/New_York:20231107T193000
DTSTAMP:20260425T115337
CREATED:20231024T112508Z
LAST-MODIFIED:20231103T141410Z
UID:13140-1699338600-1699385400@durhamrealtors.org
SUMMARY:Municipal Election Day\, Durham
DESCRIPTION:Vote for: \n\nDurham Mayor\n\n\n3 Councils-at-Large\n\nFor info CLICK HERE
URL:https://durhamrealtors.org/event/municipal-election-day/
LOCATION:Durham Polling Place\, Durham\, NC\, United States
END:VEVENT
BEGIN:VEVENT
DTSTART;TZID=America/New_York:20231106T110000
DTEND;TZID=America/New_York:20231106T120000
DTSTAMP:20260425T115337
CREATED:20231103T154103Z
LAST-MODIFIED:20231103T154103Z
UID:13169-1699268400-1699272000@durhamrealtors.org
SUMMARY:TMLS Front End Choice Training
DESCRIPTION:CLICK HERE
URL:https://durhamrealtors.org/event/tmls-front-end-choice-training/
LOCATION:ZOOM Webinar\, NC\, United States
ORGANIZER;CN="Triangle Multiple Listing Service":MAILTO:RachelW@TriangleMLS.com
END:VEVENT
BEGIN:VEVENT
DTSTART;TZID=America/New_York:20231106T100000
DTEND;TZID=America/New_York:20231106T110000
DTSTAMP:20260425T115337
CREATED:20231004T124302Z
LAST-MODIFIED:20231103T141249Z
UID:13071-1699264800-1699268400@durhamrealtors.org
SUMMARY:Matt Sears\, Durham Public Schools Update @ DRAR
DESCRIPTION:REGISTER \nRegistration link is an email to: Services@DurhamRealtors.org \nJoin Matt Sears\, Chief of Partnerships\, Durham Public Schools Foundation \nAgenda:  Redistricting | Data Updates | Showcase of Schools Nov 18 | Q&A
URL:https://durhamrealtors.org/event/matt-sears-durham-public-schools-update-drar/
LOCATION:REALTOR® Square at DRAR\, 4236 University Drive\, Durham\, NC\, 27707\, United States
GEO:35.9626463;-78.9610398
X-APPLE-STRUCTURED-LOCATION;VALUE=URI;X-ADDRESS=REALTOR® Square at DRAR 4236 University Drive Durham NC 27707 United States;X-APPLE-RADIUS=500;X-TITLE=4236 University Drive:geo:-78.9610398,35.9626463
END:VEVENT
BEGIN:VEVENT
DTSTART;TZID=America/New_York:20231106T100000
DTEND;TZID=America/New_York:20231106T110000
DTSTAMP:20260425T115337
CREATED:20230103T141421Z
LAST-MODIFIED:20230831T103119Z
UID:11928-1699264800-1699268400@durhamrealtors.org
SUMMARY:Public Schools Committee Meeting
DESCRIPTION:Interested in attending? \nPlease fill out the 2023 Committee Signup Sheet and email it to:  Services@durhamrealtors.org \nThe strength of the Durham Regional Association of REALTORS® is the involvement of its members. \nYour participation is welcomed and encouraged!
URL:https://durhamrealtors.org/event/durham-public-schools-committee-meeting-5-2023-11-06/
LOCATION:REALTOR® Square at DRAR\, 4236 University Drive\, Durham\, NC\, 27707\, United States
GEO:35.9626463;-78.9610398
X-APPLE-STRUCTURED-LOCATION;VALUE=URI;X-ADDRESS=REALTOR® Square at DRAR 4236 University Drive Durham NC 27707 United States;X-APPLE-RADIUS=500;X-TITLE=4236 University Drive:geo:-78.9610398,35.9626463
END:VEVENT
BEGIN:VEVENT
DTSTART;TZID=America/New_York:20231101T133000
DTEND;TZID=America/New_York:20231101T173000
DTSTAMP:20260425T115337
CREATED:20230901T114057Z
LAST-MODIFIED:20230901T114057Z
UID:12990-1698845400-1698859800@durhamrealtors.org
SUMMARY:#3217: And The Court Said (In-Person) CE @ DRAR
DESCRIPTION:REGISTER \nThe 4-hour CE Elective course is a great risk management learning system for real estate brokers because it allows brokers to learn from the trials of fellow N.C. brokers.  This course incorporates a lot of discussion and thinking\, as well as negotiations with fellow classmates to determine what each [of you] think the N.C. court said. \n​Each case in this course is based upon a recent N.C. Court of Appeals decision involving a real estate transaction. \n \nInstructor: Chris Barnette\n* Teaching since 2005; currently a BIC in Apex.\n* Learned from top instructors\, such as Tom Mangum\, George Bell\, Kim Frye\, Bill Gallagher\n* Formed the Go School of Real Estate \, one of NC’s top RE schools \nNOTE: This class will be taught IN PERSON at 4236 University Drive\, Durham NC. \nThis course is a 4-hour NCREC-approved ELECTIVE COURSE\, which must be completed by June 10\, 2024 along with either the BICUP (if a BIC or BIC-Eligible\,) or the General Update (GENUP) if a general broker. \n\nNCREC ATTENDANCE RULES APPLY – attendees who are not present more than 20 minutes will not receive CE credit for the course and will be asked to reschedule. \nCANCELLATION POLICY:  There will be no refunds; however\, you may transfer to another upcoming course subject to space availability\, if notice is given at least 48 hours prior to scheduled class. A $15.00 re-scheduling fee will be charged\, subject to class availability. \n\nDurham Regional Association of REALTORS® is the North Carolina Real Estate Commission’s Education Provider #1596
URL:https://durhamrealtors.org/event/3217-and-the-court-said-in-person-ce-drar/
LOCATION:REALTOR® Square at DRAR\, 4236 University Drive\, Durham\, NC\, 27707\, United States
GEO:35.9626463;-78.9610398
X-APPLE-STRUCTURED-LOCATION;VALUE=URI;X-ADDRESS=REALTOR® Square at DRAR 4236 University Drive Durham NC 27707 United States;X-APPLE-RADIUS=500;X-TITLE=4236 University Drive:geo:-78.9610398,35.9626463
END:VEVENT
BEGIN:VEVENT
DTSTART;TZID=America/New_York:20231101T083000
DTEND;TZID=America/New_York:20231101T123000
DTSTAMP:20260425T115337
CREATED:20230901T112559Z
LAST-MODIFIED:20231016T235426Z
UID:12986-1698827400-1698841800@durhamrealtors.org
SUMMARY:#8824:  BICUP (In-Person) @ DRAR
DESCRIPTION:REGISTER \n2023-2024 Topics: NCREC Top Complaints | NCREC FAQs | Challenges of a Changing Market | Law & Rules Updates | Licensing & Education | BIC Responsibilities – includes compliance warnings \n \nInstructor: Chris Barnette \n\n\n\nTeaching since 2005; currently a BIC in Apex.\nLearned from top instructors\, such as Tom Mangum\, George Bell\, Kim Frye\, Bill Gallagher\nFormed the Go School of Real Estate \, one of NC’s top RE schools\n\nThis course will take place in-person at DRAR’s office: 4236 University Drive\, Durham\, North Carolina 27707 (919) 403-2117 \n\n\nThis 2023-2024 BICUP COURSE must be completed by June 10\, 2024.  If you are NOT a BIC or BIC-Eligible\, you will not receive credit for this BICUP course. General Brokers must take the General Update (GENUP) course #9924 along with a 4-hour CE elective. \nCANCELLATION POLICY:  There will be no refunds; however\, you may transfer to another upcoming course subject to space availability\, if notice is given at least 48 hours prior to scheduled class. A $15.00 re-scheduling fee will be charged\, subject to class availability. \nDurham Regional Association of REALTORS® is the North Carolina Real Estate Commission’s Education Provider #1596
URL:https://durhamrealtors.org/event/8824-bicup-in-person-drar/
LOCATION:REALTOR® Square at DRAR\, 4236 University Drive\, Durham\, NC\, 27707\, United States
GEO:35.9626463;-78.9610398
X-APPLE-STRUCTURED-LOCATION;VALUE=URI;X-ADDRESS=REALTOR® Square at DRAR 4236 University Drive Durham NC 27707 United States;X-APPLE-RADIUS=500;X-TITLE=4236 University Drive:geo:-78.9610398,35.9626463
END:VEVENT
BEGIN:VEVENT
DTSTART;TZID=America/New_York:20231026T100000
DTEND;TZID=America/New_York:20231026T183000
DTSTAMP:20260425T115337
CREATED:20231018T110900Z
LAST-MODIFIED:20231018T110900Z
UID:13122-1698314400-1698345000@durhamrealtors.org
SUMMARY:Henderson Transportation Update
DESCRIPTION:
URL:https://durhamrealtors.org/event/henderson-transportation-update/
LOCATION:Henderson Commissioner’s Room\, 122 Young Street\, Henderson\, NC\, 27536\, United States
END:VEVENT
BEGIN:VEVENT
DTSTART;TZID=America/New_York:20231024T140000
DTEND;TZID=America/New_York:20231024T150000
DTSTAMP:20260425T115337
CREATED:20230818T150536Z
LAST-MODIFIED:20230929T172421Z
UID:12950-1698156000-1698159600@durhamrealtors.org
SUMMARY:BIC Quarterly Update
DESCRIPTION:REGISTER\nGuest Speaker:  Tony Harrington\, NCR 2023 President
URL:https://durhamrealtors.org/event/bic-quarterly-update/
LOCATION:REALTOR® Square at DRAR\, 4236 University Drive\, Durham\, NC\, 27707\, United States
GEO:35.9626463;-78.9610398
X-APPLE-STRUCTURED-LOCATION;VALUE=URI;X-ADDRESS=REALTOR® Square at DRAR 4236 University Drive Durham NC 27707 United States;X-APPLE-RADIUS=500;X-TITLE=4236 University Drive:geo:-78.9610398,35.9626463
END:VEVENT
BEGIN:VEVENT
DTSTART;TZID=America/New_York:20231024T140000
DTEND;TZID=America/New_York:20231024T150000
DTSTAMP:20260425T115337
CREATED:20221230T141247Z
LAST-MODIFIED:20230929T172358Z
UID:11907-1698156000-1698159600@durhamrealtors.org
SUMMARY:Independent Brokerage Council (IBC)
DESCRIPTION:This meeting will be part of the BIC Quarterly Meeting with Tony Harrington \n  \nIs your brokerage a smaller\, non-franchise firm? \nThis Council will provide support\, networking\, and opportunities to exchange business savvy ideas with owners\, BICs\, and Principal Brokers of other small\, non-franchise firms. We will discuss current rule and industry changes\, and technology offerings from DRAR\, TMLS\, and our other partners. Members should be licensed and active real estate professionals of independent (non-national franchise) firms dedicated to the real estate industry\, and passionate about exploring new ways to learn and grow for their firm and brokers. \nAnnual Term: 1|1|23 – 12|31|23\nAnnual Dues: $ 50 per member – Dues will pay for refreshments and any costs associated with this group’s events.\nMONTHLY MEETINGS: Every 4th Wednesday\, 9-10am at DRAR with select industry speakers \nDOWNLOAD APPLICATION: CLICK HERE \nContact Justin Burleson\, IBC Chair\, for questions:  Justin@PremierAgentsNetwork.com
URL:https://durhamrealtors.org/event/independent-brokerage-council-ibc-11/
LOCATION:REALTOR® Square at DRAR\, 4236 University Drive\, Durham\, NC\, 27707\, United States
GEO:35.9626463;-78.9610398
X-APPLE-STRUCTURED-LOCATION;VALUE=URI;X-ADDRESS=REALTOR® Square at DRAR 4236 University Drive Durham NC 27707 United States;X-APPLE-RADIUS=500;X-TITLE=4236 University Drive:geo:-78.9610398,35.9626463
END:VEVENT
BEGIN:VEVENT
DTSTART;TZID=America/New_York:20231024T090000
DTEND;TZID=America/New_York:20231024T120000
DTSTAMP:20260425T115337
CREATED:20231013T122049Z
LAST-MODIFIED:20231013T122049Z
UID:13089-1698138000-1698148800@durhamrealtors.org
SUMMARY:Creedmoor Volunteers
DESCRIPTION:108 E. Wilton Avenue\, Creedmoor \nREGISTER \nPlease help out – we’ll be installing 8x8x12 to 20′ landscaping boarders at the activity field.   We got a ton of work done a few months ago and all of the volunteers were greatly appreciated.  Thanks for your help\, and I hope to see you there! \nDRAR is using the Placemaking grant from NAR to transform public space in Creedmor into a multi-sport and event space. If you haven’t seen the press release on this\, CLICK HERE to read it. Part of this effort includes volunteers from DRAR to help clear the space.
URL:https://durhamrealtors.org/event/creedmoor-volunteers/
LOCATION:108 E. Wilton Avenue\, 108 E. Wilton Avenue\, Creedmoor\, NC\, United States
END:VEVENT
BEGIN:VEVENT
DTSTART;TZID=America/New_York:20231019T170000
DTEND;TZID=America/New_York:20231019T190000
DTSTAMP:20260425T115337
CREATED:20231013T122834Z
LAST-MODIFIED:20231013T122854Z
UID:13094-1697734800-1697742000@durhamrealtors.org
SUMMARY:Mayoral Speak Easy @ Triangle Club
DESCRIPTION:REGISTER – $20 for DRAR members using discount code: \n  \n 
URL:https://durhamrealtors.org/event/mayoral-speak-easy/
LOCATION:PNC Triangle Club at DBAP\, 409 Blackwell St\, Durham\, NC\, 27701\, United States
END:VEVENT
BEGIN:VEVENT
DTSTART;TZID=America/New_York:20231017T150000
DTEND;TZID=America/New_York:20231017T160000
DTSTAMP:20260425T115337
CREATED:20230216T152731Z
LAST-MODIFIED:20231010T120540Z
UID:12291-1697554800-1697558400@durhamrealtors.org
SUMMARY:CANCELED: Legislative Committee Meeting
DESCRIPTION:Interested in attending? \nPlease fill out the 2023 Committee Signup Sheet and email it to:  Services@durhamrealtors.org \nThe strength of the Durham Regional Association of REALTORS® is the involvement of its members. \nYour participation is welcomed and encouraged!
URL:https://durhamrealtors.org/event/legislative-committee-meeting-3-2023-10-17/
LOCATION:REALTOR® Square at DRAR\, 4236 University Drive\, Durham\, NC\, 27707\, United States
GEO:35.9626463;-78.9610398
X-APPLE-STRUCTURED-LOCATION;VALUE=URI;X-ADDRESS=REALTOR® Square at DRAR 4236 University Drive Durham NC 27707 United States;X-APPLE-RADIUS=500;X-TITLE=4236 University Drive:geo:-78.9610398,35.9626463
END:VEVENT
BEGIN:VEVENT
DTSTART;TZID=America/New_York:20231017T100000
DTEND;TZID=America/New_York:20231017T190000
DTSTAMP:20260425T115337
CREATED:20231013T123619Z
LAST-MODIFIED:20231013T123619Z
UID:13101-1697536800-1697569200@durhamrealtors.org
SUMMARY:Granville Transportation Forum
DESCRIPTION:
URL:https://durhamrealtors.org/event/granville-transportation-forum/
LOCATION:Granville County Expo Center\, 4185 US-15\, Oxford\, NC\, 27565\, United States
END:VEVENT
END:VCALENDAR