BEGIN:VCALENDAR
VERSION:2.0
PRODID:-//Durham Regional Assc of Realtors - ECPv6.15.16//NONSGML v1.0//EN
CALSCALE:GREGORIAN
METHOD:PUBLISH
X-WR-CALNAME:Durham Regional Assc of Realtors
X-ORIGINAL-URL:https://durhamrealtors.org
X-WR-CALDESC:Events for Durham Regional Assc of Realtors
REFRESH-INTERVAL;VALUE=DURATION:PT1H
X-Robots-Tag:noindex
X-PUBLISHED-TTL:PT1H
BEGIN:VTIMEZONE
TZID:America/New_York
BEGIN:DAYLIGHT
TZOFFSETFROM:-0500
TZOFFSETTO:-0400
TZNAME:EDT
DTSTART:20240310T070000
END:DAYLIGHT
BEGIN:STANDARD
TZOFFSETFROM:-0400
TZOFFSETTO:-0500
TZNAME:EST
DTSTART:20241103T060000
END:STANDARD
BEGIN:DAYLIGHT
TZOFFSETFROM:-0500
TZOFFSETTO:-0400
TZNAME:EDT
DTSTART:20250309T070000
END:DAYLIGHT
BEGIN:STANDARD
TZOFFSETFROM:-0400
TZOFFSETTO:-0500
TZNAME:EST
DTSTART:20251102T060000
END:STANDARD
BEGIN:DAYLIGHT
TZOFFSETFROM:-0500
TZOFFSETTO:-0400
TZNAME:EDT
DTSTART:20260308T070000
END:DAYLIGHT
BEGIN:STANDARD
TZOFFSETFROM:-0400
TZOFFSETTO:-0500
TZNAME:EST
DTSTART:20261101T060000
END:STANDARD
END:VTIMEZONE
BEGIN:VEVENT
DTSTART;TZID=America/New_York:20250227T100000
DTEND;TZID=America/New_York:20250227T110000
DTSTAMP:20260424T105342
CREATED:20241231T161215Z
LAST-MODIFIED:20241231T161215Z
UID:14734-1740650400-1740654000@durhamrealtors.org
SUMMARY:Diversity\, Equity\, & Inclusion (DEI) Committee
DESCRIPTION:Interested in attending? Please fill out the 2025 Committee Sign Up Form. \nThe strength of the Durham Regional Association of REALTORS® is the involvement of its members. Your participation is welcomed and encouraged!
URL:https://durhamrealtors.org/event/diversity-equity-inclusion-dei-committee-3/
LOCATION:REALTOR® Square at DRAR\, 4236 University Drive\, Durham\, NC\, 27707\, United States
GEO:35.9626463;-78.9610398
X-APPLE-STRUCTURED-LOCATION;VALUE=URI;X-ADDRESS=REALTOR® Square at DRAR 4236 University Drive Durham NC 27707 United States;X-APPLE-RADIUS=500;X-TITLE=4236 University Drive:geo:-78.9610398,35.9626463
END:VEVENT
BEGIN:VEVENT
DTSTART;TZID=America/New_York:20250225T100000
DTEND;TZID=America/New_York:20250225T143000
DTSTAMP:20260424T105342
CREATED:20241231T162948Z
LAST-MODIFIED:20241231T162948Z
UID:14746-1740477600-1740493800@durhamrealtors.org
SUMMARY:Dr. Anthony S. Lewis\, DPS Superintendent
DESCRIPTION:Schedule for the Day: \n10 a.m. – Meet at the Staff Development Center and board the bus \n10:30 a.m. – Tour of the new Northern High School. Tour will end in the culinary kitchen\, where you will pick up boxed lunches made by the students. \n11:45 a.m. – Lunch at Lucas Middle School \n12:15 p.m. – Program with Dr. Anthony S. Lewis\, Superintendent \n1:15 p.m. – Tour of Lucas Middle School \n2:30 p.m. – Arrive back at the Staff Development Center \nREGISTER
URL:https://durhamrealtors.org/event/dr-anthony-s-lewis-dps-superintendent/
LOCATION:DPS Staff Development Center\, 2107 Hillandale Road\, Durham\, NC\, 27705\, United States
GEO:36.0359411;-78.9368494
X-APPLE-STRUCTURED-LOCATION;VALUE=URI;X-ADDRESS=DPS Staff Development Center 2107 Hillandale Road Durham NC 27705 United States;X-APPLE-RADIUS=500;X-TITLE=2107 Hillandale Road:geo:-78.9368494,36.0359411
END:VEVENT
BEGIN:VEVENT
DTSTART;TZID=America/New_York:20250219T093000
DTEND;TZID=America/New_York:20250219T103000
DTSTAMP:20260424T105342
CREATED:20241231T160021Z
LAST-MODIFIED:20241231T160021Z
UID:14724-1739957400-1739961000@durhamrealtors.org
SUMMARY:Board of Directors
DESCRIPTION:
URL:https://durhamrealtors.org/event/board-of-directors-2/
LOCATION:REALTOR® Square at DRAR\, 4236 University Drive\, Durham\, NC\, 27707\, United States
GEO:35.9626463;-78.9610398
X-APPLE-STRUCTURED-LOCATION;VALUE=URI;X-ADDRESS=REALTOR® Square at DRAR 4236 University Drive Durham NC 27707 United States;X-APPLE-RADIUS=500;X-TITLE=4236 University Drive:geo:-78.9610398,35.9626463
END:VEVENT
BEGIN:VEVENT
DTSTART;TZID=America/New_York:20250218T190000
DTEND;TZID=America/New_York:20250218T200000
DTSTAMP:20260424T105342
CREATED:20250127T120432Z
LAST-MODIFIED:20250127T120432Z
UID:14920-1739905200-1739908800@durhamrealtors.org
SUMMARY:Community Home Trust: Free Film Screening
DESCRIPTION:Free Screening of “Land\, Trust\, and Resilience: The Road to Staying Home”\nLearn how tenants in five homes advocated for their houses to be safe\, healthy\, and permanently affordable through Community Home Trust. \nTickets are free but required \nGet Tickets
URL:https://durhamrealtors.org/event/community-home-trust-free-film-screening/
LOCATION:The Carolina Theatre\, 309 West Morgan Street\, Durham\, 27701\, United States
END:VEVENT
BEGIN:VEVENT
DTSTART;TZID=America/New_York:20250218T160000
DTEND;TZID=America/New_York:20250218T180000
DTSTAMP:20260424T105342
CREATED:20241231T162609Z
LAST-MODIFIED:20250130T154647Z
UID:14743-1739894400-1739901600@durhamrealtors.org
SUMMARY:REALTOR® New Home Expo Happy Hour Event
DESCRIPTION:This event is hosted by the Home Builders Association of Durham\, Orange\, and Chatham Counties \n(Registration information coming soon) \n  \n 
URL:https://durhamrealtors.org/event/realtor-new-home-expo-happy-hour-event/
LOCATION:Sheraton Chapel Hill\, One Europa Drive\, Chapel Hill\, NC\, 27517\, United States
END:VEVENT
BEGIN:VEVENT
DTSTART;TZID=America/New_York:20250217T140000
DTEND;TZID=America/New_York:20250217T150000
DTSTAMP:20260424T105342
CREATED:20241231T161540Z
LAST-MODIFIED:20250130T145614Z
UID:14738-1739800800-1739804400@durhamrealtors.org
SUMMARY:Governmental Affairs/Legislative Committee
DESCRIPTION:Interested in attending? \nPlease fill out the 2025 Committee Sign Up Form \nThe strength of the Durham Regional Association of REALTORS® is the involvement of its members. \nYour participation is welcomed and encouraged!
URL:https://durhamrealtors.org/event/legislative-committee-2/
LOCATION:REALTOR® Square at DRAR\, 4236 University Drive\, Durham\, NC\, 27707\, United States
GEO:35.9626463;-78.9610398
X-APPLE-STRUCTURED-LOCATION;VALUE=URI;X-ADDRESS=REALTOR® Square at DRAR 4236 University Drive Durham NC 27707 United States;X-APPLE-RADIUS=500;X-TITLE=4236 University Drive:geo:-78.9610398,35.9626463
END:VEVENT
BEGIN:VEVENT
DTSTART;TZID=America/New_York:20250213T133000
DTEND;TZID=America/New_York:20250213T173000
DTSTAMP:20260424T105342
CREATED:20241217T171131Z
LAST-MODIFIED:20241217T171131Z
UID:14641-1739453400-1739467800@durhamrealtors.org
SUMMARY:#8825 BICUP In-Person @DRAR
DESCRIPTION:Your Instructor: Chris Barnette \nRefreshments provided \nREGISTER \nTopics: \n\nEnvironmental Material Facts\nNCREC FAQs\nPermits\nEducation Update\nLaw & Rules Updates\nBIC Responsibility and Supervision
URL:https://durhamrealtors.org/event/8825-bicup-in-person-drar-4/
LOCATION:REALTOR® Square at DRAR\, 4236 University Drive\, Durham\, NC\, 27707\, United States
GEO:35.9626463;-78.9610398
X-APPLE-STRUCTURED-LOCATION;VALUE=URI;X-ADDRESS=REALTOR® Square at DRAR 4236 University Drive Durham NC 27707 United States;X-APPLE-RADIUS=500;X-TITLE=4236 University Drive:geo:-78.9610398,35.9626463
END:VEVENT
BEGIN:VEVENT
DTSTART;TZID=America/New_York:20250213T083000
DTEND;TZID=America/New_York:20250213T123000
DTSTAMP:20260424T105342
CREATED:20250130T154329Z
LAST-MODIFIED:20250130T154329Z
UID:15021-1739435400-1739449800@durhamrealtors.org
SUMMARY:#4090: In-Person - Fair Housing Elective Course: A Look Back and a Path Forward
DESCRIPTION:Effective January 1\, 2025\, through December 31\, 2027\, each REALTOR® member is required to complete Fair Housing training of not less that two hours of instructional time. \nThis course meets the Fair Housing learning objective and minimum criteria established by NAR and provides 4 hours of NCREC CE elective credit. \nClick here to learn more about the Fair Housing requirement. \nCOURSE REGISTRATION 
URL:https://durhamrealtors.org/event/4090-in-person-fair-housing-elective-course-a-look-back-and-a-path-forward/
LOCATION:REALTOR® Square at DRAR\, 4236 University Drive\, Durham\, NC\, 27707\, United States
GEO:35.9626463;-78.9610398
X-APPLE-STRUCTURED-LOCATION;VALUE=URI;X-ADDRESS=REALTOR® Square at DRAR 4236 University Drive Durham NC 27707 United States;X-APPLE-RADIUS=500;X-TITLE=4236 University Drive:geo:-78.9610398,35.9626463
END:VEVENT
BEGIN:VEVENT
DTSTART;TZID=America/New_York:20250212T150000
DTEND;TZID=America/New_York:20250212T160000
DTSTAMP:20260424T105342
CREATED:20241231T162037Z
LAST-MODIFIED:20250128T150255Z
UID:14741-1739372400-1739376000@durhamrealtors.org
SUMMARY:Property Management Committee
DESCRIPTION:Interested in attending? \nPlease fill out the 2025 Committee Sign Up Form \nThe strength of the Durham Regional Association of REALTORS® is the involvement of its members. \nYour participation is welcomed and encouraged!
URL:https://durhamrealtors.org/event/property-management-committee-2/
LOCATION:REALTOR® Square at DRAR\, 4236 University Drive\, Durham\, NC\, 27707\, United States
GEO:35.9626463;-78.9610398
X-APPLE-STRUCTURED-LOCATION;VALUE=URI;X-ADDRESS=REALTOR® Square at DRAR 4236 University Drive Durham NC 27707 United States;X-APPLE-RADIUS=500;X-TITLE=4236 University Drive:geo:-78.9610398,35.9626463
END:VEVENT
BEGIN:VEVENT
DTSTART;TZID=America/New_York:20250212T113000
DTEND;TZID=America/New_York:20250212T130000
DTSTAMP:20260424T105342
CREATED:20241211T144818Z
LAST-MODIFIED:20250203T162607Z
UID:14622-1739359800-1739365200@durhamrealtors.org
SUMMARY:DRAR Annual Awards Luncheon
DESCRIPTION:Deadline to register to attend is Wednesday\, February 5.  \nIf you were registered to attend the January 22 event\, your registration applies for this new date. If you registered previously but cannot attend on February 12\, please email services@durhamrealtors.org by February 5 to cancel. If you were not registered for January 22 but can attend on February 12\, click here to REGISTER. \nMembers FREE / Guest $35 (max 1 guest)
URL:https://durhamrealtors.org/event/drar-annual-awards-luncheon-4/
LOCATION:Hope Valley Country Club\, 3803 Dover Rd\, NC 27707\, Durham\, 27707\, United States
GEO:35.9470063;-78.9518792
X-APPLE-STRUCTURED-LOCATION;VALUE=URI;X-ADDRESS=Hope Valley Country Club 3803 Dover Rd NC 27707 Durham 27707 United States;X-APPLE-RADIUS=500;X-TITLE=3803 Dover Rd\, NC 27707:geo:-78.9518792,35.9470063
END:VEVENT
BEGIN:VEVENT
DTSTART;TZID=America/New_York:20250212T090000
DTEND;TZID=America/New_York:20250212T100000
DTSTAMP:20260424T105342
CREATED:20241231T154609Z
LAST-MODIFIED:20250207T172601Z
UID:14712-1739350800-1739354400@durhamrealtors.org
SUMMARY:DRAR Executive Committee Meeting
DESCRIPTION:
URL:https://durhamrealtors.org/event/drar-executive-committee-meeting-16/
LOCATION:REALTOR® Square at DRAR\, 4236 University Drive\, Durham\, NC\, 27707\, United States
GEO:35.9626463;-78.9610398
X-APPLE-STRUCTURED-LOCATION;VALUE=URI;X-ADDRESS=REALTOR® Square at DRAR 4236 University Drive Durham NC 27707 United States;X-APPLE-RADIUS=500;X-TITLE=4236 University Drive:geo:-78.9610398,35.9626463
END:VEVENT
BEGIN:VEVENT
DTSTART;TZID=America/New_York:20250211T150000
DTEND;TZID=America/New_York:20250211T160000
DTSTAMP:20260424T105342
CREATED:20241231T155639Z
LAST-MODIFIED:20241231T155639Z
UID:14718-1739286000-1739289600@durhamrealtors.org
SUMMARY:Community Service Committee
DESCRIPTION:Interested in attending? \nPlease fill out the 2025 Committee Sign Up Form \nThe strength of the Durham Regional Association of REALTORS® is the involvement of its members. \nYour participation is welcomed and encouraged!
URL:https://durhamrealtors.org/event/community-service-committee-2/
LOCATION:REALTOR® Square at DRAR\, 4236 University Drive\, Durham\, NC\, 27707\, United States
GEO:35.9626463;-78.9610398
X-APPLE-STRUCTURED-LOCATION;VALUE=URI;X-ADDRESS=REALTOR® Square at DRAR 4236 University Drive Durham NC 27707 United States;X-APPLE-RADIUS=500;X-TITLE=4236 University Drive:geo:-78.9610398,35.9626463
END:VEVENT
BEGIN:VEVENT
DTSTART;TZID=America/New_York:20250210T140000
DTEND;TZID=America/New_York:20250210T150000
DTSTAMP:20260424T105342
CREATED:20241231T154355Z
LAST-MODIFIED:20250124T165249Z
UID:14708-1739196000-1739199600@durhamrealtors.org
SUMMARY:Public Schools Committee
DESCRIPTION:Interested in attending? \nPlease fill out the 2025 Committee Sign Up Form \nThe strength of the Durham Regional Association of REALTORS® is the involvement of its members. \nYour participation is welcomed and encouraged!
URL:https://durhamrealtors.org/event/public-schools-committee-3/
LOCATION:REALTOR® Square at DRAR\, 4236 University Drive\, Durham\, NC\, 27707\, United States
GEO:35.9626463;-78.9610398
X-APPLE-STRUCTURED-LOCATION;VALUE=URI;X-ADDRESS=REALTOR® Square at DRAR 4236 University Drive Durham NC 27707 United States;X-APPLE-RADIUS=500;X-TITLE=4236 University Drive:geo:-78.9610398,35.9626463
END:VEVENT
BEGIN:VEVENT
DTSTART;TZID=America/New_York:20250206T081500
DTEND;TZID=America/New_York:20250206T113000
DTSTAMP:20260424T105342
CREATED:20241231T153950Z
LAST-MODIFIED:20241231T153950Z
UID:14702-1738829700-1738841400@durhamrealtors.org
SUMMARY:New Member Orientation
DESCRIPTION:8:15am: Check In\, Sponsored Refreshments & Pictures\n9:00am: Welcome\, Pathways to Professionalism and Getting Started\n9:30am: Getting Acquainted with the REALTOR® Organization – Local & State\n10:15am: Sponsor Intro\n10:20am: Break\n10:30am: Upcoming Events\n10:40am: Website & Social Media\n10:50am: COE and Oath\n11:00am: Closing Comments\n11:15am: End time (estimate)
URL:https://durhamrealtors.org/event/new-member-orientation-16/
LOCATION:REALTOR® Square at DRAR\, 4236 University Drive\, Durham\, NC\, 27707\, United States
GEO:35.9626463;-78.9610398
X-APPLE-STRUCTURED-LOCATION;VALUE=URI;X-ADDRESS=REALTOR® Square at DRAR 4236 University Drive Durham NC 27707 United States;X-APPLE-RADIUS=500;X-TITLE=4236 University Drive:geo:-78.9610398,35.9626463
END:VEVENT
BEGIN:VEVENT
DTSTART;VALUE=DATE:20250201
DTEND;VALUE=DATE:20250202
DTSTAMP:20260424T105342
CREATED:20250109T223223Z
LAST-MODIFIED:20250109T223223Z
UID:14777-1738368000-1738454399@durhamrealtors.org
SUMMARY:Black History Month
DESCRIPTION:
URL:https://durhamrealtors.org/event/black-history-month-2/
LOCATION:REALTOR® Square at DRAR\, 4236 University Drive\, Durham\, NC\, 27707\, United States
GEO:35.9626463;-78.9610398
X-APPLE-STRUCTURED-LOCATION;VALUE=URI;X-ADDRESS=REALTOR® Square at DRAR 4236 University Drive Durham NC 27707 United States;X-APPLE-RADIUS=500;X-TITLE=4236 University Drive:geo:-78.9610398,35.9626463
END:VEVENT
BEGIN:VEVENT
DTSTART;VALUE=DATE:20250127
DTEND;VALUE=DATE:20250201
DTSTAMP:20260424T105342
CREATED:20250109T222503Z
LAST-MODIFIED:20250109T222503Z
UID:14774-1737936000-1738367999@durhamrealtors.org
SUMMARY:NCR Vision Quest
DESCRIPTION:
URL:https://durhamrealtors.org/event/ncr-vision-quest-2/
LOCATION:Marriott Winston-Salem/Benton Convention Center\, Winston-Salem\, United States
END:VEVENT
BEGIN:VEVENT
DTSTART;TZID=America/New_York:20250123T100000
DTEND;TZID=America/New_York:20250123T110000
DTSTAMP:20260424T105342
CREATED:20241231T161013Z
LAST-MODIFIED:20241231T161013Z
UID:14731-1737626400-1737630000@durhamrealtors.org
SUMMARY:Diversity\, Equity\, & Inclusion (DEI) Committee
DESCRIPTION:Interested in attending? Please fill out the 2025 Committee Sign Up Form. \nThe strength of the Durham Regional Association of REALTORS® is the involvement of its members. Your participation is welcomed and encouraged!
URL:https://durhamrealtors.org/event/diversity-equity-inclusion-dei-committee-2/
LOCATION:REALTOR® Square at DRAR\, 4236 University Drive\, Durham\, NC\, 27707\, United States
GEO:35.9626463;-78.9610398
X-APPLE-STRUCTURED-LOCATION;VALUE=URI;X-ADDRESS=REALTOR® Square at DRAR 4236 University Drive Durham NC 27707 United States;X-APPLE-RADIUS=500;X-TITLE=4236 University Drive:geo:-78.9610398,35.9626463
END:VEVENT
BEGIN:VEVENT
DTSTART;TZID=America/New_York:20250122T090000
DTEND;TZID=America/New_York:20250122T100000
DTSTAMP:20260424T105342
CREATED:20241231T160637Z
LAST-MODIFIED:20241231T170359Z
UID:14728-1737536400-1737540000@durhamrealtors.org
SUMMARY:Independent Brokerage Council
DESCRIPTION:Is your brokerage a smaller\, non-franchise firm? \nThis Council will provide support\, networking\, and opportunities to exchange business savvy ideas with owners\, BICs\, and Principal Brokers of other small\, non-franchise firms. We will discuss current rule and industry changes\, and technology offerings from DRAR\, TMLS\, and our other partners. Members should be licensed and active real estate professionals of independent (non-national franchise) firms dedicated to the real estate industry\, and passionate about exploring new ways to learn and grow for their firm and brokers. \nAnnual Term: 1|1|25 – 12|31|25\nAnnual Dues: $ 50 per member – Dues will pay for refreshments and any costs associated with this group’s events. \nBI-MONTHLY MEETINGS: Every 4th Wednesday\, 9-10am at DRAR with select industry speakers \nDOWNLOAD APPLICATION: CLICK HERE\nContact Justin Burleson\, IBC Chair\, for questions: Justin@PremierAgentsNetwork.com
URL:https://durhamrealtors.org/event/independent-brokerage-council-2/
LOCATION:REALTOR® Square at DRAR\, 4236 University Drive\, Durham\, NC\, 27707\, United States
GEO:35.9626463;-78.9610398
X-APPLE-STRUCTURED-LOCATION;VALUE=URI;X-ADDRESS=REALTOR® Square at DRAR 4236 University Drive Durham NC 27707 United States;X-APPLE-RADIUS=500;X-TITLE=4236 University Drive:geo:-78.9610398,35.9626463
END:VEVENT
BEGIN:VEVENT
DTSTART;VALUE=DATE:20250120
DTEND;VALUE=DATE:20250121
DTSTAMP:20260424T105342
CREATED:20241231T160133Z
LAST-MODIFIED:20241231T160133Z
UID:14726-1737331200-1737417599@durhamrealtors.org
SUMMARY:DRAR Office Closed for Martin Luther King\, Jr Day
DESCRIPTION:
URL:https://durhamrealtors.org/event/drar-office-closed-for-martin-luther-king-jr-day/
LOCATION:REALTOR® Square at DRAR\, 4236 University Drive\, Durham\, NC\, 27707\, United States
GEO:35.9626463;-78.9610398
X-APPLE-STRUCTURED-LOCATION;VALUE=URI;X-ADDRESS=REALTOR® Square at DRAR 4236 University Drive Durham NC 27707 United States;X-APPLE-RADIUS=500;X-TITLE=4236 University Drive:geo:-78.9610398,35.9626463
END:VEVENT
BEGIN:VEVENT
DTSTART;TZID=America/New_York:20250117T140000
DTEND;TZID=America/New_York:20250117T160000
DTSTAMP:20260424T105342
CREATED:20250116T152706Z
LAST-MODIFIED:20250116T152706Z
UID:14858-1737122400-1737129600@durhamrealtors.org
SUMMARY:YPN Meet & Greet
DESCRIPTION:All DRAR members who joined between January 2024 – January 2025 and all New Agent/Young Professionals Network Committee members are invited to this year’s New Agent/YPN Kickoff! \nREGISTER \nSponsored by Branche Associates \n 
URL:https://durhamrealtors.org/event/ypn-meet-greet/
LOCATION:REALTOR® Square at DRAR\, 4236 University Drive\, Durham\, NC\, 27707\, United States
GEO:35.9626463;-78.9610398
X-APPLE-STRUCTURED-LOCATION;VALUE=URI;X-ADDRESS=REALTOR® Square at DRAR 4236 University Drive Durham NC 27707 United States;X-APPLE-RADIUS=500;X-TITLE=4236 University Drive:geo:-78.9610398,35.9626463
END:VEVENT
BEGIN:VEVENT
DTSTART;TZID=America/New_York:20250116T133000
DTEND;TZID=America/New_York:20250116T143000
DTSTAMP:20260424T105342
CREATED:20241231T161427Z
LAST-MODIFIED:20250109T215802Z
UID:14736-1737034200-1737037800@durhamrealtors.org
SUMMARY:Governmental Affairs/Legislative Committee
DESCRIPTION:Interested in attending? \nPlease fill out the 2025 Committee Sign Up Form \nThe strength of the Durham Regional Association of REALTORS® is the involvement of its members. \nYour participation is welcomed and encouraged!
URL:https://durhamrealtors.org/event/legislative-committee/
LOCATION:REALTOR® Square at DRAR\, 4236 University Drive\, Durham\, NC\, 27707\, United States
GEO:35.9626463;-78.9610398
X-APPLE-STRUCTURED-LOCATION;VALUE=URI;X-ADDRESS=REALTOR® Square at DRAR 4236 University Drive Durham NC 27707 United States;X-APPLE-RADIUS=500;X-TITLE=4236 University Drive:geo:-78.9610398,35.9626463
END:VEVENT
BEGIN:VEVENT
DTSTART;TZID=America/New_York:20250115T093000
DTEND;TZID=America/New_York:20250115T103000
DTSTAMP:20260424T105342
CREATED:20241231T155931Z
LAST-MODIFIED:20241231T155931Z
UID:14722-1736933400-1736937000@durhamrealtors.org
SUMMARY:Board of Directors
DESCRIPTION:
URL:https://durhamrealtors.org/event/board-of-directors/
LOCATION:REALTOR® Square at DRAR\, 4236 University Drive\, Durham\, NC\, 27707\, United States
GEO:35.9626463;-78.9610398
X-APPLE-STRUCTURED-LOCATION;VALUE=URI;X-ADDRESS=REALTOR® Square at DRAR 4236 University Drive Durham NC 27707 United States;X-APPLE-RADIUS=500;X-TITLE=4236 University Drive:geo:-78.9610398,35.9626463
END:VEVENT
BEGIN:VEVENT
DTSTART;TZID=America/New_York:20250114T150000
DTEND;TZID=America/New_York:20250114T160000
DTSTAMP:20260424T105342
CREATED:20241231T155537Z
LAST-MODIFIED:20241231T155537Z
UID:14716-1736866800-1736870400@durhamrealtors.org
SUMMARY:Community Service Committee
DESCRIPTION:Interested in attending? \nPlease fill out the 2025 Committee Sign Up Form \nThe strength of the Durham Regional Association of REALTORS® is the involvement of its members. \nYour participation is welcomed and encouraged!
URL:https://durhamrealtors.org/event/community-service-committee/
LOCATION:REALTOR® Square at DRAR\, 4236 University Drive\, Durham\, NC\, 27707\, United States
GEO:35.9626463;-78.9610398
X-APPLE-STRUCTURED-LOCATION;VALUE=URI;X-ADDRESS=REALTOR® Square at DRAR 4236 University Drive Durham NC 27707 United States;X-APPLE-RADIUS=500;X-TITLE=4236 University Drive:geo:-78.9610398,35.9626463
END:VEVENT
BEGIN:VEVENT
DTSTART;TZID=America/New_York:20250112T130000
DTEND;TZID=America/New_York:20250112T160000
DTSTAMP:20260424T105342
CREATED:20250109T185522Z
LAST-MODIFIED:20250109T185522Z
UID:14765-1736686800-1736697600@durhamrealtors.org
SUMMARY:Book Harvest's 14th Annual Dream Big Book Drive & Community Celebration
DESCRIPTION:The Public Schools Committee encourages all members to join in this year’s MLK Jr. Book Drive and Celebration. The event is part book drive\, part volunteer event\, part community partner fair\, part festival\, and all party and fun! \nFind out more at BookHarvest.org/DreamBig. \n 
URL:https://durhamrealtors.org/event/book-harvests-14th-annual-dream-big-book-drive-community-celebration/
LOCATION:Golden Belt\, 800 Taylor Street\, Durham\, NC\, 27701\, United States
END:VEVENT
BEGIN:VEVENT
DTSTART;TZID=America/New_York:20250110T084500
DTEND;TZID=America/New_York:20250110T124500
DTSTAMP:20260424T105342
CREATED:20241231T155128Z
LAST-MODIFIED:20241231T155128Z
UID:14714-1736498700-1736513100@durhamrealtors.org
SUMMARY:Blueprint to Millions for Real Estate Agents event
DESCRIPTION:This in-person FREE event is presented by ClubWealth \nREGISTER
URL:https://durhamrealtors.org/event/blueprint-to-millions-for-real-estate-agents-event/
LOCATION:REALTOR® Square at DRAR\, 4236 University Drive\, Durham\, NC\, 27707\, United States
GEO:35.9626463;-78.9610398
X-APPLE-STRUCTURED-LOCATION;VALUE=URI;X-ADDRESS=REALTOR® Square at DRAR 4236 University Drive Durham NC 27707 United States;X-APPLE-RADIUS=500;X-TITLE=4236 University Drive:geo:-78.9610398,35.9626463
END:VEVENT
BEGIN:VEVENT
DTSTART;TZID=America/New_York:20250109T133000
DTEND;TZID=America/New_York:20250109T173000
DTSTAMP:20260424T105342
CREATED:20241217T170736Z
LAST-MODIFIED:20241223T142937Z
UID:14639-1736429400-1736443800@durhamrealtors.org
SUMMARY:#8825 In-Person BICUP @DRAR
DESCRIPTION:Your Instructor: Chris Barnette \nRefreshments provided \nREGISTER \nTopics: \n\nEnvironmental Material Facts\nNCREC FAQs\nPermits\nEducation Update\nLaw & Rules Updates\nBIC Responsibility and Supervision
URL:https://durhamrealtors.org/event/8825-in-person-bicup-drar/
LOCATION:REALTOR® Square at DRAR\, 4236 University Drive\, Durham\, NC\, 27707\, United States
GEO:35.9626463;-78.9610398
X-APPLE-STRUCTURED-LOCATION;VALUE=URI;X-ADDRESS=REALTOR® Square at DRAR 4236 University Drive Durham NC 27707 United States;X-APPLE-RADIUS=500;X-TITLE=4236 University Drive:geo:-78.9610398,35.9626463
END:VEVENT
BEGIN:VEVENT
DTSTART;TZID=America/New_York:20250109T083000
DTEND;TZID=America/New_York:20250109T123000
DTSTAMP:20260424T105342
CREATED:20241217T170501Z
LAST-MODIFIED:20241223T143712Z
UID:14637-1736411400-1736425800@durhamrealtors.org
SUMMARY:#9925 In-Person GenUp @DRAR
DESCRIPTION:Your Instructor: Chris Barnette \nRefreshments provided \nREGISTER \nTopics: \n\nEnvironmental Material Facts\nNCREC Frequently Asked Questions\nPermits\nEducation Update\nLaw and Rules Update
URL:https://durhamrealtors.org/event/9925-in-person-genup-drar/
LOCATION:REALTOR® Square at DRAR\, 4236 University Drive\, Durham\, NC\, 27707\, United States
GEO:35.9626463;-78.9610398
X-APPLE-STRUCTURED-LOCATION;VALUE=URI;X-ADDRESS=REALTOR® Square at DRAR 4236 University Drive Durham NC 27707 United States;X-APPLE-RADIUS=500;X-TITLE=4236 University Drive:geo:-78.9610398,35.9626463
END:VEVENT
BEGIN:VEVENT
DTSTART;TZID=America/New_York:20250108T093000
DTEND;TZID=America/New_York:20250108T103000
DTSTAMP:20260424T105342
CREATED:20241231T154526Z
LAST-MODIFIED:20241231T154526Z
UID:14710-1736328600-1736332200@durhamrealtors.org
SUMMARY:DRAR Executive Committee Meeting
DESCRIPTION:
URL:https://durhamrealtors.org/event/drar-executive-committee-meeting-15/
LOCATION:REALTOR® Square at DRAR\, 4236 University Drive\, Durham\, NC\, 27707\, United States
GEO:35.9626463;-78.9610398
X-APPLE-STRUCTURED-LOCATION;VALUE=URI;X-ADDRESS=REALTOR® Square at DRAR 4236 University Drive Durham NC 27707 United States;X-APPLE-RADIUS=500;X-TITLE=4236 University Drive:geo:-78.9610398,35.9626463
END:VEVENT
BEGIN:VEVENT
DTSTART;TZID=America/New_York:20250106T100000
DTEND;TZID=America/New_York:20250106T110000
DTSTAMP:20260424T105342
CREATED:20241231T154256Z
LAST-MODIFIED:20241231T155832Z
UID:14706-1736157600-1736161200@durhamrealtors.org
SUMMARY:Public Schools Committee
DESCRIPTION:Interested in attending? \nPlease fill out the 2025 Committee Sign Up Form \nThe strength of the Durham Regional Association of REALTORS® is the involvement of its members. \nYour participation is welcomed and encouraged!
URL:https://durhamrealtors.org/event/public-schools-committee-2/
LOCATION:REALTOR® Square at DRAR\, 4236 University Drive\, Durham\, NC\, 27707\, United States
GEO:35.9626463;-78.9610398
X-APPLE-STRUCTURED-LOCATION;VALUE=URI;X-ADDRESS=REALTOR® Square at DRAR 4236 University Drive Durham NC 27707 United States;X-APPLE-RADIUS=500;X-TITLE=4236 University Drive:geo:-78.9610398,35.9626463
END:VEVENT
BEGIN:VEVENT
DTSTART;TZID=America/New_York:20250102T081500
DTEND;TZID=America/New_York:20250102T113000
DTSTAMP:20260424T105342
CREATED:20241231T153850Z
LAST-MODIFIED:20241231T153850Z
UID:14700-1735805700-1735817400@durhamrealtors.org
SUMMARY:New Member Orientation
DESCRIPTION:8:15am: Check In\, Sponsored Refreshments & Pictures\n9:00am: Welcome\, Pathways to Professionalism and Getting Started\n9:30am: Getting Acquainted with the REALTOR® Organization – Local & State\n10:15am: Sponsor Intro\n10:20am: Break\n10:30am: Upcoming Events\n10:40am: Website & Social Media\n10:50am: COE and Oath\n11:00am: Closing Comments\n11:15am: End time (estimate)
URL:https://durhamrealtors.org/event/new-member-orientation-15/
LOCATION:REALTOR® Square at DRAR\, 4236 University Drive\, Durham\, NC\, 27707\, United States
GEO:35.9626463;-78.9610398
X-APPLE-STRUCTURED-LOCATION;VALUE=URI;X-ADDRESS=REALTOR® Square at DRAR 4236 University Drive Durham NC 27707 United States;X-APPLE-RADIUS=500;X-TITLE=4236 University Drive:geo:-78.9610398,35.9626463
END:VEVENT
END:VCALENDAR