BEGIN:VCALENDAR
VERSION:2.0
PRODID:-//Durham Regional Assc of Realtors - ECPv6.15.16//NONSGML v1.0//EN
CALSCALE:GREGORIAN
METHOD:PUBLISH
X-WR-CALNAME:Durham Regional Assc of Realtors
X-ORIGINAL-URL:https://durhamrealtors.org
X-WR-CALDESC:Events for Durham Regional Assc of Realtors
REFRESH-INTERVAL;VALUE=DURATION:PT1H
X-Robots-Tag:noindex
X-PUBLISHED-TTL:PT1H
BEGIN:VTIMEZONE
TZID:America/New_York
BEGIN:DAYLIGHT
TZOFFSETFROM:-0500
TZOFFSETTO:-0400
TZNAME:EDT
DTSTART:20240310T070000
END:DAYLIGHT
BEGIN:STANDARD
TZOFFSETFROM:-0400
TZOFFSETTO:-0500
TZNAME:EST
DTSTART:20241103T060000
END:STANDARD
BEGIN:DAYLIGHT
TZOFFSETFROM:-0500
TZOFFSETTO:-0400
TZNAME:EDT
DTSTART:20250309T070000
END:DAYLIGHT
BEGIN:STANDARD
TZOFFSETFROM:-0400
TZOFFSETTO:-0500
TZNAME:EST
DTSTART:20251102T060000
END:STANDARD
BEGIN:DAYLIGHT
TZOFFSETFROM:-0500
TZOFFSETTO:-0400
TZNAME:EDT
DTSTART:20260308T070000
END:DAYLIGHT
BEGIN:STANDARD
TZOFFSETFROM:-0400
TZOFFSETTO:-0500
TZNAME:EST
DTSTART:20261101T060000
END:STANDARD
END:VTIMEZONE
BEGIN:VEVENT
DTSTART;TZID=America/New_York:20251027T140000
DTEND;TZID=America/New_York:20251027T150000
DTSTAMP:20260423T200752
CREATED:20250127T142612Z
LAST-MODIFIED:20250130T145347Z
UID:14967-1761573600-1761577200@durhamrealtors.org
SUMMARY:Governmental Affairs/Legislative Committee
DESCRIPTION:Interested in attending? \nPlease fill out the 2025 Committee Sign Up Form \nThe strength of the Durham Regional Association of REALTORS® is the involvement of its members. \nYour participation is welcomed and encouraged!
URL:https://durhamrealtors.org/event/legislative-political-affairs-committee-5/
LOCATION:REALTOR® Square at DRAR\, 4236 University Drive\, Durham\, NC\, 27707\, United States
GEO:35.9626463;-78.9610398
X-APPLE-STRUCTURED-LOCATION;VALUE=URI;X-ADDRESS=REALTOR® Square at DRAR 4236 University Drive Durham NC 27707 United States;X-APPLE-RADIUS=500;X-TITLE=4236 University Drive:geo:-78.9610398,35.9626463
END:VEVENT
BEGIN:VEVENT
DTSTART;VALUE=DATE:20251020
DTEND;VALUE=DATE:20251024
DTSTAMP:20260423T200752
CREATED:20250708T144448Z
LAST-MODIFIED:20250905T145620Z
UID:15510-1760918400-1761263999@durhamrealtors.org
SUMMARY:NC REALTORS Convention
DESCRIPTION:It’s the one time a year the whole REALTOR® family comes together statewide. Whether you’re brand new or a seasoned leader\, you’ll find value in the sessions\, the connections\, and the fun. Plus\, this year’s location is Harrah’s Cherokee Resort & Casino. It’s the perfect mix of business and leisure with great accommodations\, beautiful scenery\, and plenty to do after sessions end. \nFIND OUT MORE
URL:https://durhamrealtors.org/event/nc-realtors-convention/
LOCATION:Harrah’s Cherokee Resort & Casino\, 777 Casino Dr\, Cherokee\, 28719\, United States
END:VEVENT
BEGIN:VEVENT
DTSTART;VALUE=DATE:20251017
DTEND;VALUE=DATE:20251020
DTSTAMP:20260423T200752
CREATED:20251008T075036Z
LAST-MODIFIED:20251008T075036Z
UID:15728-1760659200-1760918399@durhamrealtors.org
SUMMARY:Parade of Homes for Durham\, Orange & Chatham Counties
DESCRIPTION:LEARN MORE
URL:https://durhamrealtors.org/event/parade-of-homes-for-durham-orange-chatham-counties/
LOCATION:NC
END:VEVENT
BEGIN:VEVENT
DTSTART;TZID=America/New_York:20251016T113000
DTEND;TZID=America/New_York:20251016T133000
DTSTAMP:20260423T200752
CREATED:20250703T133445Z
LAST-MODIFIED:20251008T074841Z
UID:15498-1760614200-1760621400@durhamrealtors.org
SUMMARY:Davis-Carter Annual Auction
DESCRIPTION:Deadline to Register is Thursday\, October 9. \nREGISTER
URL:https://durhamrealtors.org/event/davis-carter-annual-auction/
LOCATION:Hope Valley Country Club\, 3803 Dover Rd\, NC 27707\, Durham\, 27707\, United States
GEO:35.9470063;-78.9518792
X-APPLE-STRUCTURED-LOCATION;VALUE=URI;X-ADDRESS=Hope Valley Country Club 3803 Dover Rd NC 27707 Durham 27707 United States;X-APPLE-RADIUS=500;X-TITLE=3803 Dover Rd\, NC 27707:geo:-78.9518792,35.9470063
END:VEVENT
BEGIN:VEVENT
DTSTART;TZID=America/New_York:20251015T093000
DTEND;TZID=America/New_York:20251015T103000
DTSTAMP:20260423T200752
CREATED:20250207T172149Z
LAST-MODIFIED:20250207T172149Z
UID:15051-1760520600-1760524200@durhamrealtors.org
SUMMARY:Board of Directors
DESCRIPTION:
URL:https://durhamrealtors.org/event/board-of-directors-10/
LOCATION:REALTOR® Square at DRAR\, 4236 University Drive\, Durham\, NC\, 27707\, United States
GEO:35.9626463;-78.9610398
X-APPLE-STRUCTURED-LOCATION;VALUE=URI;X-ADDRESS=REALTOR® Square at DRAR 4236 University Drive Durham NC 27707 United States;X-APPLE-RADIUS=500;X-TITLE=4236 University Drive:geo:-78.9610398,35.9626463
END:VEVENT
BEGIN:VEVENT
DTSTART;TZID=America/New_York:20251014T150000
DTEND;TZID=America/New_York:20251014T160000
DTSTAMP:20260423T200752
CREATED:20250115T164855Z
LAST-MODIFIED:20251008T074632Z
UID:14833-1760454000-1760457600@durhamrealtors.org
SUMMARY:Cancelled: Community Service Committee
DESCRIPTION:Interested in attending? \nPlease fill out the 2025 Committee Sign Up Form \nThe strength of the Durham Regional Association of REALTORS® is the involvement of its members. \nYour participation is welcomed and encouraged!
URL:https://durhamrealtors.org/event/community-service-committee-10/
LOCATION:REALTOR® Square at DRAR\, 4236 University Drive\, Durham\, NC\, 27707\, United States
GEO:35.9626463;-78.9610398
X-APPLE-STRUCTURED-LOCATION;VALUE=URI;X-ADDRESS=REALTOR® Square at DRAR 4236 University Drive Durham NC 27707 United States;X-APPLE-RADIUS=500;X-TITLE=4236 University Drive:geo:-78.9610398,35.9626463
END:VEVENT
BEGIN:VEVENT
DTSTART;VALUE=DATE:20251010
DTEND;VALUE=DATE:20251013
DTSTAMP:20260423T200752
CREATED:20251008T075236Z
LAST-MODIFIED:20251008T075236Z
UID:15730-1760054400-1760313599@durhamrealtors.org
SUMMARY:Parade of Homes for Durham\, Orange & Chatham Counties
DESCRIPTION:LEARN MORE
URL:https://durhamrealtors.org/event/parade-of-homes-for-durham-orange-chatham-counties-2/
LOCATION:NC
END:VEVENT
BEGIN:VEVENT
DTSTART;TZID=America/New_York:20251009T123000
DTEND;TZID=America/New_York:20251009T173000
DTSTAMP:20260423T200752
CREATED:20250714T155140Z
LAST-MODIFIED:20250807T145717Z
UID:15552-1760013000-1760031000@durhamrealtors.org
SUMMARY:#4090 Fair Housing Elective: A Look Back and a Path Forward
DESCRIPTION:Instructor: Chris Barnette – Instructor #1373 \n \nThis course meets the Fair Housing learning objective and minimum criteria\nestablished by NAR and provides 4 hours of NCREC CE elective credit.\nClick here to learn more about the Fair Housing requirement. \nREGISTER \n 
URL:https://durhamrealtors.org/event/4090-fair-housing-elective-a-look-back-and-a-path-forward/
LOCATION:REALTOR® Square at DRAR\, 4236 University Drive\, Durham\, NC\, 27707\, United States
GEO:35.9626463;-78.9610398
X-APPLE-STRUCTURED-LOCATION;VALUE=URI;X-ADDRESS=REALTOR® Square at DRAR 4236 University Drive Durham NC 27707 United States;X-APPLE-RADIUS=500;X-TITLE=4236 University Drive:geo:-78.9610398,35.9626463
END:VEVENT
BEGIN:VEVENT
DTSTART;TZID=America/New_York:20251009T083000
DTEND;TZID=America/New_York:20251009T123000
DTSTAMP:20260423T200752
CREATED:20250807T144640Z
LAST-MODIFIED:20250807T144802Z
UID:15587-1759998600-1760013000@durhamrealtors.org
SUMMARY:#8826 – Broker-In-Charge Update
DESCRIPTION:Instructor: Nicolle Mercer – Instructor #1667 \n \nTopics \n• Understanding the role of an Agent\n• A look at contemporary issues in Fair Housing\n• FAQs\n• General information for becoming a BIC\n• Understanding firm structure\n• BIC best practices \nREGISTER \n 
URL:https://durhamrealtors.org/event/8826-broker-in-charge-update-2/
LOCATION:REALTOR® Square at DRAR\, 4236 University Drive\, Durham\, NC\, 27707\, United States
GEO:35.9626463;-78.9610398
X-APPLE-STRUCTURED-LOCATION;VALUE=URI;X-ADDRESS=REALTOR® Square at DRAR 4236 University Drive Durham NC 27707 United States;X-APPLE-RADIUS=500;X-TITLE=4236 University Drive:geo:-78.9610398,35.9626463
END:VEVENT
BEGIN:VEVENT
DTSTART;TZID=America/New_York:20251008T113000
DTEND;TZID=America/New_York:20251008T123000
DTSTAMP:20260423T200752
CREATED:20250811T152300Z
LAST-MODIFIED:20250811T152300Z
UID:15613-1759923000-1759926600@durhamrealtors.org
SUMMARY:Navigating Medicare Lunch & Learn
DESCRIPTION:Whether you’re turning 65\, new to Medicare\, or already receiving Medicare\, you might have questions about what you actually have or what coverage options are available to you in your area. This FREE event is educational only. No selling\, guaranteed. Bring your questions\, enjoy a free lunch\, and Marlene will provide the answers you’re looking for . Seating will be limited\, so please RSVP today to reserve your seat. \nREGISTER
URL:https://durhamrealtors.org/event/navigating-medicare-lunch-learn/
LOCATION:REALTOR® Square at DRAR\, 4236 University Drive\, Durham\, NC\, 27707\, United States
GEO:35.9626463;-78.9610398
X-APPLE-STRUCTURED-LOCATION;VALUE=URI;X-ADDRESS=REALTOR® Square at DRAR 4236 University Drive Durham NC 27707 United States;X-APPLE-RADIUS=500;X-TITLE=4236 University Drive:geo:-78.9610398,35.9626463
END:VEVENT
BEGIN:VEVENT
DTSTART;TZID=America/New_York:20251008T093000
DTEND;TZID=America/New_York:20251008T103000
DTSTAMP:20260423T200752
CREATED:20250404T143949Z
LAST-MODIFIED:20250404T143949Z
UID:15225-1759915800-1759919400@durhamrealtors.org
SUMMARY:Executive Committee
DESCRIPTION:
URL:https://durhamrealtors.org/event/executive-committee-8/
LOCATION:REALTOR® Square at DRAR\, 4236 University Drive\, Durham\, NC\, 27707\, United States
GEO:35.9626463;-78.9610398
X-APPLE-STRUCTURED-LOCATION;VALUE=URI;X-ADDRESS=REALTOR® Square at DRAR 4236 University Drive Durham NC 27707 United States;X-APPLE-RADIUS=500;X-TITLE=4236 University Drive:geo:-78.9610398,35.9626463
END:VEVENT
BEGIN:VEVENT
DTSTART;TZID=America/New_York:20251007T140000
DTEND;TZID=America/New_York:20251007T150000
DTSTAMP:20260423T200752
CREATED:20250127T141134Z
LAST-MODIFIED:20250127T141134Z
UID:14950-1759845600-1759849200@durhamrealtors.org
SUMMARY:Property Management Committee
DESCRIPTION:Interested in attending? \nPlease fill out the 2025 Committee Sign Up Form \nThe strength of the Durham Regional Association of REALTORS® is the involvement of its members. \nYour participation is welcomed and encouraged!
URL:https://durhamrealtors.org/event/property-management-committee-6/
LOCATION:REALTOR® Square at DRAR\, 4236 University Drive\, Durham\, NC\, 27707\, United States
GEO:35.9626463;-78.9610398
X-APPLE-STRUCTURED-LOCATION;VALUE=URI;X-ADDRESS=REALTOR® Square at DRAR 4236 University Drive Durham NC 27707 United States;X-APPLE-RADIUS=500;X-TITLE=4236 University Drive:geo:-78.9610398,35.9626463
END:VEVENT
BEGIN:VEVENT
DTSTART;TZID=America/New_York:20251006T150000
DTEND;TZID=America/New_York:20251006T163000
DTSTAMP:20260423T200752
CREATED:20250905T144104Z
LAST-MODIFIED:20250905T144104Z
UID:15672-1759762800-1759768200@durhamrealtors.org
SUMMARY:eClosing Workshop for REALTORS® - From Paper to Digital: The Future of Real Estate Closings\,
DESCRIPTION:Introduction to Remote Electronic Closing (REN) : Faster Deals\, Safer Clients \n\nWhat REN Is and Why It Matters for REALTORS®: Understand the basics of Remote Electronic Notarization\, how it works\, and why NC is rolling it out.\nFraud & Cybersecurity Risks in the Digital Closing Era: Explore the most common threats (deepfakes\, wire fraud\, identity theft) and how they impact real estate deals.\nPractical Steps to Get Ready for REN Closings: What REALTORS® should do now to prepare their teams and clients.\nYour Action Plan: Walk away with clear next steps to stay secure and competitive.\n\nLed by Kimberly Simon with Growth Office Partners \nREGISTER
URL:https://durhamrealtors.org/event/eclosing-workshop-for-realtors-from-paper-to-digital-the-future-of-real-estate-closings/
LOCATION:REALTOR® Square at DRAR\, 4236 University Drive\, Durham\, NC\, 27707\, United States
GEO:35.9626463;-78.9610398
X-APPLE-STRUCTURED-LOCATION;VALUE=URI;X-ADDRESS=REALTOR® Square at DRAR 4236 University Drive Durham NC 27707 United States;X-APPLE-RADIUS=500;X-TITLE=4236 University Drive:geo:-78.9610398,35.9626463
END:VEVENT
BEGIN:VEVENT
DTSTART;TZID=America/New_York:20251006T100000
DTEND;TZID=America/New_York:20251006T110000
DTSTAMP:20260423T200752
CREATED:20250115T162659Z
LAST-MODIFIED:20250115T162659Z
UID:14812-1759744800-1759748400@durhamrealtors.org
SUMMARY:Public Schools Committee
DESCRIPTION:Interested in attending? \nPlease fill out the 2025 Committee Sign Up Form \nThe strength of the Durham Regional Association of REALTORS® is the involvement of its members. \nYour participation is welcomed and encouraged!
URL:https://durhamrealtors.org/event/public-schools-committee-11/
LOCATION:REALTOR® Square at DRAR\, 4236 University Drive\, Durham\, NC\, 27707\, United States
GEO:35.9626463;-78.9610398
X-APPLE-STRUCTURED-LOCATION;VALUE=URI;X-ADDRESS=REALTOR® Square at DRAR 4236 University Drive Durham NC 27707 United States;X-APPLE-RADIUS=500;X-TITLE=4236 University Drive:geo:-78.9610398,35.9626463
END:VEVENT
BEGIN:VEVENT
DTSTART;TZID=America/New_York:20251003T110000
DTEND;TZID=America/New_York:20251003T130000
DTSTAMP:20260423T200752
CREATED:20250922T184318Z
LAST-MODIFIED:20250922T184318Z
UID:15687-1759489200-1759496400@durhamrealtors.org
SUMMARY:Lunch & Learn: Closing the Wealth Gap\, Finance Friday with the Rich Auntie
DESCRIPTION:Hosted by the DRAR Young Professionals Network \nREGISTER
URL:https://durhamrealtors.org/event/lunch-learn-closing-the-wealth-gap-finance-friday-with-the-rich-auntie/
LOCATION:REALTOR® Square at DRAR\, 4236 University Drive\, Durham\, NC\, 27707\, United States
GEO:35.9626463;-78.9610398
X-APPLE-STRUCTURED-LOCATION;VALUE=URI;X-ADDRESS=REALTOR® Square at DRAR 4236 University Drive Durham NC 27707 United States;X-APPLE-RADIUS=500;X-TITLE=4236 University Drive:geo:-78.9610398,35.9626463
END:VEVENT
BEGIN:VEVENT
DTSTART;TZID=America/New_York:20251002T081500
DTEND;TZID=America/New_York:20251002T114500
DTSTAMP:20260423T200752
CREATED:20250127T144420Z
LAST-MODIFIED:20250127T144420Z
UID:14995-1759392900-1759405500@durhamrealtors.org
SUMMARY:New Member Orientation
DESCRIPTION:8:15am: Check In\, Sponsored Refreshments & Pictures\n9:00am: Welcome\, Pathways to Professionalism and Getting Started\n9:30am: Getting Acquainted with the REALTOR® Organization – Local & State\n10:15am: Sponsor Intro\n10:20am: Break\n10:30am: Upcoming Events\n10:40am: Website & Social Media\n10:50am: COE and Oath\n11:00am: Closing Comments\n11:15am: End time (estimate)
URL:https://durhamrealtors.org/event/new-member-orientation-24/
LOCATION:REALTOR® Square at DRAR\, 4236 University Drive\, Durham\, NC\, 27707\, United States
GEO:35.9626463;-78.9610398
X-APPLE-STRUCTURED-LOCATION;VALUE=URI;X-ADDRESS=REALTOR® Square at DRAR 4236 University Drive Durham NC 27707 United States;X-APPLE-RADIUS=500;X-TITLE=4236 University Drive:geo:-78.9610398,35.9626463
END:VEVENT
BEGIN:VEVENT
DTSTART;TZID=America/New_York:20251001T083000
DTEND;TZID=America/New_York:20251001T123000
DTSTAMP:20260423T200752
CREATED:20250820T145245Z
LAST-MODIFIED:20250820T145411Z
UID:15659-1759307400-1759321800@durhamrealtors.org
SUMMARY:Synchronous CE Elective Course: Radon and Real Estate in North Carolina
DESCRIPTION:FREE to all licensees! \n \nREGISTER \nPhillip Ray Gibson has served for 13 years as the North Carolina Radon Program Coordinator with the Division of Health Service Regulation\, Radiation Protection Section for the North Carolina Department of Health and Human Services. He leads statewide efforts in education and public awareness about the health risks of radon exposure. In addition to his work in environmental health\, Phillip is licensed by the North Carolina Real Estate Commission as a broker-in-charge\, combining his expertise in housing with his commitment to public well-being.
URL:https://durhamrealtors.org/event/synchronous-ce-elective-course-radon-and-real-estate-in-north-carolina/
LOCATION:ZOOM Webinar\, NC\, United States
END:VEVENT
BEGIN:VEVENT
DTSTART;TZID=America/New_York:20250926T100000
DTEND;TZID=America/New_York:20250926T143000
DTSTAMP:20260423T200752
CREATED:20250905T143612Z
LAST-MODIFIED:20250905T145917Z
UID:15670-1758880800-1758897000@durhamrealtors.org
SUMMARY:DRAR Blood Drive
DESCRIPTION:Give the gift of life! \nAll blood types are needed\, and if you’re eligible type O\, B-\, or A-\, you can make an even greater impact by giving a Power Red donation. Red blood cells are the most commonly transfused blood component\, and your donation could help even more patients. \nAll donors receive a $10 Amazon e-gift card! \nREGISTER
URL:https://durhamrealtors.org/event/drar-blood-drive/
LOCATION:REALTOR® Square at DRAR\, 4236 University Drive\, Durham\, NC\, 27707\, United States
GEO:35.9626463;-78.9610398
X-APPLE-STRUCTURED-LOCATION;VALUE=URI;X-ADDRESS=REALTOR® Square at DRAR 4236 University Drive Durham NC 27707 United States;X-APPLE-RADIUS=500;X-TITLE=4236 University Drive:geo:-78.9610398,35.9626463
END:VEVENT
BEGIN:VEVENT
DTSTART;TZID=America/New_York:20250925T100000
DTEND;TZID=America/New_York:20250925T110000
DTSTAMP:20260423T200753
CREATED:20250127T135121Z
LAST-MODIFIED:20250801T134512Z
UID:14940-1758794400-1758798000@durhamrealtors.org
SUMMARY:CANCELED - Diversity\, Equity & Inclusion (DEI) Committee
DESCRIPTION:This meeting has been canceled for this month.
URL:https://durhamrealtors.org/event/diversity-equity-inclusion-dei-committee-10/
LOCATION:REALTOR® Square at DRAR\, 4236 University Drive\, Durham\, NC\, 27707\, United States
GEO:35.9626463;-78.9610398
X-APPLE-STRUCTURED-LOCATION;VALUE=URI;X-ADDRESS=REALTOR® Square at DRAR 4236 University Drive Durham NC 27707 United States;X-APPLE-RADIUS=500;X-TITLE=4236 University Drive:geo:-78.9610398,35.9626463
END:VEVENT
BEGIN:VEVENT
DTSTART;TZID=America/New_York:20250924T140000
DTEND;TZID=America/New_York:20250924T150000
DTSTAMP:20260423T200753
CREATED:20250808T175237Z
LAST-MODIFIED:20250918T150405Z
UID:15606-1758722400-1758726000@durhamrealtors.org
SUMMARY:Unlock the Power of NC REALTORS® Benefits
DESCRIPTION:Learn how NC REALTORS® benefits strengthen your business and make your life easier every day. \nSpeaker: NC REALTORS® Chief Executive Officer Andrea Bushnell \nREGISTER \n 
URL:https://durhamrealtors.org/event/bic-meeting-making-the-most-of-nc-realtors-benefits/
LOCATION:REALTOR® Square at DRAR\, 4236 University Drive\, Durham\, NC\, 27707\, United States
GEO:35.9626463;-78.9610398
X-APPLE-STRUCTURED-LOCATION;VALUE=URI;X-ADDRESS=REALTOR® Square at DRAR 4236 University Drive Durham NC 27707 United States;X-APPLE-RADIUS=500;X-TITLE=4236 University Drive:geo:-78.9610398,35.9626463
END:VEVENT
BEGIN:VEVENT
DTSTART;TZID=America/New_York:20250924T130000
DTEND;TZID=America/New_York:20250924T140000
DTSTAMP:20260423T200753
CREATED:20250127T143432Z
LAST-MODIFIED:20250829T123653Z
UID:14979-1758718800-1758722400@durhamrealtors.org
SUMMARY:Independent Brokerage Council (IBC)
DESCRIPTION:Is your brokerage a smaller\, non-franchise firm? \nThis Council will provide support\, networking\, and opportunities to exchange business savvy ideas with owners\, BICs\, and Principal Brokers of other small\, non-franchise firms. We will discuss current rule and industry changes\, and technology offerings from DRAR\, TMLS\, and our other partners. Members should be licensed and active real estate professionals of independent (non-national franchise) firms dedicated to the real estate industry\, and passionate about exploring new ways to learn and grow for their firm and brokers. \nAnnual Term: 1|1|25 – 12|31|25\nAnnual Dues: $ 50 per member – Dues will pay for refreshments and any costs associated with this group’s events. \nBI-MONTHLY MEETINGS: Every 4th Wednesday\, 9-10am at DRAR with select industry speakers \nDOWNLOAD APPLICATION: CLICK HERE\nContact Justin Burleson\, IBC Chair\, for questions: Justin@PremierAgentsNetwork.com
URL:https://durhamrealtors.org/event/independent-brokerage-council-ibc-15/
LOCATION:REALTOR® Square at DRAR\, 4236 University Drive\, Durham\, NC\, 27707\, United States
GEO:35.9626463;-78.9610398
X-APPLE-STRUCTURED-LOCATION;VALUE=URI;X-ADDRESS=REALTOR® Square at DRAR 4236 University Drive Durham NC 27707 United States;X-APPLE-RADIUS=500;X-TITLE=4236 University Drive:geo:-78.9610398,35.9626463
END:VEVENT
BEGIN:VEVENT
DTSTART;TZID=America/New_York:20250924T090000
DTEND;TZID=America/New_York:20250925T133000
DTSTAMP:20260423T200753
CREATED:20250819T144508Z
LAST-MODIFIED:20250819T144841Z
UID:15645-1758704400-1758807000@durhamrealtors.org
SUMMARY:RRAR Sustainability Summit
DESCRIPTION:Early Bird Special for non-members: $75 \nRegister by emailing: Education@RRAR.com \nGet more information by clicking on the downloadable flyer
URL:https://durhamrealtors.org/event/rrar-sustainability-summit/
LOCATION:111 Realtors Way\, Cary\, 111 Realtors Way\, Cary\, United States
END:VEVENT
BEGIN:VEVENT
DTSTART;TZID=America/New_York:20250921T120000
DTEND;TZID=America/New_York:20250921T180000
DTSTAMP:20260423T200753
CREATED:20250819T151138Z
LAST-MODIFIED:20250819T151138Z
UID:15648-1758456000-1758477600@durhamrealtors.org
SUMMARY:La Fiesta de Pueblo
DESCRIPTION:DRAR & RRAR are partnering & will share a booth to inform consumers of our commitment to Fair Housing and the importance of housing assistance to the Latin American community. This is the Triangle’s largest and most diverse festival of Latin American culture\, which attracts over 22\,000 people. No registration is required.
URL:https://durhamrealtors.org/event/la-fiesta-de-pueblo/
LOCATION:Fayetteville St.\, Raleigh
END:VEVENT
BEGIN:VEVENT
DTSTART;TZID=America/New_York:20250917T140000
DTEND;TZID=America/New_York:20250917T150000
DTSTAMP:20260423T200753
CREATED:20250801T140142Z
LAST-MODIFIED:20250801T140142Z
UID:15585-1758117600-1758121200@durhamrealtors.org
SUMMARY:
DESCRIPTION:FOREWARN was built around agent safety and identity verification. However\, FOREWARN is also a multi-dimensional tool that can be utilized in other areas of your business to help you be the best real estate professional you can be while helping to keep you safe in the process. The purpose of this training is to help real estate professionals gain a much better understanding of the platform along with going over some “Pro-Tips” to help you understand the various ways to leverage FOREWARN in your real estate business. A live Q&A will end the session. \nREGISTER
URL:https://durhamrealtors.org/event/15585/
LOCATION:ZOOM Webinar\, NC\, United States
END:VEVENT
BEGIN:VEVENT
DTSTART;TZID=America/New_York:20250917T113000
DTEND;TZID=America/New_York:20250917T133000
DTSTAMP:20260423T200753
CREATED:20250703T134056Z
LAST-MODIFIED:20250828T132855Z
UID:15502-1758108600-1758115800@durhamrealtors.org
SUMMARY:DRAR Annual Meeting and Luncheon
DESCRIPTION:REGISTER
URL:https://durhamrealtors.org/event/drar-annual-meeting-and-luncheon/
LOCATION:Hope Valley Country Club\, 3803 Dover Rd\, NC 27707\, Durham\, 27707\, United States
GEO:35.9470063;-78.9518792
X-APPLE-STRUCTURED-LOCATION;VALUE=URI;X-ADDRESS=Hope Valley Country Club 3803 Dover Rd NC 27707 Durham 27707 United States;X-APPLE-RADIUS=500;X-TITLE=3803 Dover Rd\, NC 27707:geo:-78.9518792,35.9470063
END:VEVENT
BEGIN:VEVENT
DTSTART;TZID=America/New_York:20250917T093000
DTEND;TZID=America/New_York:20250917T103000
DTSTAMP:20260423T200753
CREATED:20250207T171742Z
LAST-MODIFIED:20250207T171742Z
UID:15049-1758101400-1758105000@durhamrealtors.org
SUMMARY:Board of Directors
DESCRIPTION:
URL:https://durhamrealtors.org/event/board-of-directors-9/2025-09-17/
LOCATION:REALTOR® Square at DRAR\, 4236 University Drive\, Durham\, NC\, 27707\, United States
GEO:35.9626463;-78.9610398
X-APPLE-STRUCTURED-LOCATION;VALUE=URI;X-ADDRESS=REALTOR® Square at DRAR 4236 University Drive Durham NC 27707 United States;X-APPLE-RADIUS=500;X-TITLE=4236 University Drive:geo:-78.9610398,35.9626463
END:VEVENT
BEGIN:VEVENT
DTSTART;TZID=America/New_York:20250916T140000
DTEND;TZID=America/New_York:20250916T150000
DTSTAMP:20260423T200753
CREATED:20250115T164806Z
LAST-MODIFIED:20250821T103018Z
UID:14831-1758031200-1758034800@durhamrealtors.org
SUMMARY:Community Service Committee
DESCRIPTION:Interested in attending? \nPlease fill out the 2025 Committee Sign Up Form \nThe strength of the Durham Regional Association of REALTORS® is the involvement of its members. \nYour participation is welcomed and encouraged!
URL:https://durhamrealtors.org/event/community-service-committee-9/
LOCATION:REALTOR® Square at DRAR\, 4236 University Drive\, Durham\, NC\, 27707\, United States
GEO:35.9626463;-78.9610398
X-APPLE-STRUCTURED-LOCATION;VALUE=URI;X-ADDRESS=REALTOR® Square at DRAR 4236 University Drive Durham NC 27707 United States;X-APPLE-RADIUS=500;X-TITLE=4236 University Drive:geo:-78.9610398,35.9626463
END:VEVENT
BEGIN:VEVENT
DTSTART;TZID=America/New_York:20250915T140000
DTEND;TZID=America/New_York:20250915T150000
DTSTAMP:20260423T200753
CREATED:20250127T142440Z
LAST-MODIFIED:20250130T145405Z
UID:14965-1757944800-1757948400@durhamrealtors.org
SUMMARY:Governmental Affairs/ Legislative Committee
DESCRIPTION:Interested in attending? \nPlease fill out the 2025 Committee Sign Up Form \nThe strength of the Durham Regional Association of REALTORS® is the involvement of its members. \nYour participation is welcomed and encouraged!
URL:https://durhamrealtors.org/event/legislative-political-affairs-committee-4/
LOCATION:REALTOR® Square at DRAR\, 4236 University Drive\, Durham\, NC\, 27707\, United States
GEO:35.9626463;-78.9610398
X-APPLE-STRUCTURED-LOCATION;VALUE=URI;X-ADDRESS=REALTOR® Square at DRAR 4236 University Drive Durham NC 27707 United States;X-APPLE-RADIUS=500;X-TITLE=4236 University Drive:geo:-78.9610398,35.9626463
END:VEVENT
BEGIN:VEVENT
DTSTART;TZID=America/New_York:20250911T123000
DTEND;TZID=America/New_York:20250911T173000
DTSTAMP:20260423T200753
CREATED:20250714T154738Z
LAST-MODIFIED:20250807T145409Z
UID:15548-1757593800-1757611800@durhamrealtors.org
SUMMARY:#8826 Broker-in-Charge Update
DESCRIPTION:Instructor: Alisha DeBerry – Instructor #2270 \n \nTopics \n\nUnderstanding the role of an Agent\nA look at contemporary issues in Fair Housing\nFAQs\nGeneral information for becoming a BIC\nUnderstanding firm structure\nBIC best practices\n\nREGISTER
URL:https://durhamrealtors.org/event/8826-broker-in-charge-update/
LOCATION:REALTOR® Square at DRAR\, 4236 University Drive\, Durham\, NC\, 27707\, United States
GEO:35.9626463;-78.9610398
X-APPLE-STRUCTURED-LOCATION;VALUE=URI;X-ADDRESS=REALTOR® Square at DRAR 4236 University Drive Durham NC 27707 United States;X-APPLE-RADIUS=500;X-TITLE=4236 University Drive:geo:-78.9610398,35.9626463
END:VEVENT
BEGIN:VEVENT
DTSTART;TZID=America/New_York:20250911T083000
DTEND;TZID=America/New_York:20250911T123000
DTSTAMP:20260423T200753
CREATED:20250714T154457Z
LAST-MODIFIED:20250807T145538Z
UID:15546-1757579400-1757593800@durhamrealtors.org
SUMMARY:#9926 General Update
DESCRIPTION:#9926 General Update \nInstructor: Alisha Deberry – Instructor #2270 \n \nTopics \n\nUnderstanding the role of an Agent\nA look at contemporary issues in Fair Housing\nFAQs\n\nREGISTER
URL:https://durhamrealtors.org/event/9925-general-update/
LOCATION:REALTOR® Square at DRAR\, 4236 University Drive\, Durham\, NC\, 27707\, United States
GEO:35.9626463;-78.9610398
X-APPLE-STRUCTURED-LOCATION;VALUE=URI;X-ADDRESS=REALTOR® Square at DRAR 4236 University Drive Durham NC 27707 United States;X-APPLE-RADIUS=500;X-TITLE=4236 University Drive:geo:-78.9610398,35.9626463
END:VEVENT
END:VCALENDAR