BEGIN:VCALENDAR
VERSION:2.0
PRODID:-//Durham Regional Assc of Realtors - ECPv6.15.16//NONSGML v1.0//EN
CALSCALE:GREGORIAN
METHOD:PUBLISH
X-WR-CALNAME:Durham Regional Assc of Realtors
X-ORIGINAL-URL:https://durhamrealtors.org
X-WR-CALDESC:Events for Durham Regional Assc of Realtors
REFRESH-INTERVAL;VALUE=DURATION:PT1H
X-Robots-Tag:noindex
X-PUBLISHED-TTL:PT1H
BEGIN:VTIMEZONE
TZID:America/New_York
BEGIN:DAYLIGHT
TZOFFSETFROM:-0500
TZOFFSETTO:-0400
TZNAME:EDT
DTSTART:20250309T070000
END:DAYLIGHT
BEGIN:STANDARD
TZOFFSETFROM:-0400
TZOFFSETTO:-0500
TZNAME:EST
DTSTART:20251102T060000
END:STANDARD
BEGIN:DAYLIGHT
TZOFFSETFROM:-0500
TZOFFSETTO:-0400
TZNAME:EDT
DTSTART:20260308T070000
END:DAYLIGHT
BEGIN:STANDARD
TZOFFSETFROM:-0400
TZOFFSETTO:-0500
TZNAME:EST
DTSTART:20261101T060000
END:STANDARD
BEGIN:DAYLIGHT
TZOFFSETFROM:-0500
TZOFFSETTO:-0400
TZNAME:EDT
DTSTART:20270314T070000
END:DAYLIGHT
BEGIN:STANDARD
TZOFFSETFROM:-0400
TZOFFSETTO:-0500
TZNAME:EST
DTSTART:20271107T060000
END:STANDARD
END:VTIMEZONE
BEGIN:VEVENT
DTSTART;VALUE=DATE:20260331
DTEND;VALUE=DATE:20260402
DTSTAMP:20260423T151337
CREATED:20260211T163727Z
LAST-MODIFIED:20260318T154223Z
UID:16081-1774915200-1775087999@durhamrealtors.org
SUMMARY:Headshot Fundraiser
DESCRIPTION:Your $10 donation includes a commemorative 4×6 print to take home! This will be a fundraiser for providing a meal at the Ronald McDonald House on June 4. \nREGISTER
URL:https://durhamrealtors.org/event/headshot-fundraiser/
LOCATION:REALTOR® Square at DRAR\, 4236 University Drive\, Durham\, NC\, 27707\, United States
GEO:35.9626463;-78.9610398
X-APPLE-STRUCTURED-LOCATION;VALUE=URI;X-ADDRESS=REALTOR® Square at DRAR 4236 University Drive Durham NC 27707 United States;X-APPLE-RADIUS=500;X-TITLE=4236 University Drive:geo:-78.9610398,35.9626463
END:VEVENT
BEGIN:VEVENT
DTSTART;TZID=America/New_York:20260326T100000
DTEND;TZID=America/New_York:20260326T110000
DTSTAMP:20260423T151337
CREATED:20251212T154021Z
LAST-MODIFIED:20260303T132048Z
UID:15945-1774519200-1774522800@durhamrealtors.org
SUMMARY:Canceled: Diversity\, Equity\, & Inclusion
DESCRIPTION:Interested in attending? \nClick here to learn more! \nThe strength of the Durham Regional Association of REALTORS® is the involvement of its members. \nYour participation is welcomed and encouraged!
URL:https://durhamrealtors.org/event/diversity-equity-inclusion-2/
LOCATION:REALTOR® Square at DRAR\, 4236 University Drive\, Durham\, NC\, 27707\, United States
GEO:35.9626463;-78.9610398
X-APPLE-STRUCTURED-LOCATION;VALUE=URI;X-ADDRESS=REALTOR® Square at DRAR 4236 University Drive Durham NC 27707 United States;X-APPLE-RADIUS=500;X-TITLE=4236 University Drive:geo:-78.9610398,35.9626463
END:VEVENT
BEGIN:VEVENT
DTSTART;TZID=America/New_York:20260319T140000
DTEND;TZID=America/New_York:20260319T153000
DTSTAMP:20260423T151337
CREATED:20260211T170719Z
LAST-MODIFIED:20260211T170719Z
UID:16097-1773928800-1773934200@durhamrealtors.org
SUMMARY:City of Durham Down Payment Assistance Panel
DESCRIPTION:Join Sean White\, DPA Program Administrator for the City of Durham and a panel of industry experts for updated information on the City of Durham DPA Program. \nREGISTER
URL:https://durhamrealtors.org/event/city-of-durham-down-payment-assistance-panel/
LOCATION:REALTOR® Square at DRAR\, 4236 University Drive\, Durham\, NC\, 27707\, United States
GEO:35.9626463;-78.9610398
X-APPLE-STRUCTURED-LOCATION;VALUE=URI;X-ADDRESS=REALTOR® Square at DRAR 4236 University Drive Durham NC 27707 United States;X-APPLE-RADIUS=500;X-TITLE=4236 University Drive:geo:-78.9610398,35.9626463
END:VEVENT
BEGIN:VEVENT
DTSTART;TZID=America/New_York:20260318T130000
DTEND;TZID=America/New_York:20260318T150000
DTSTAMP:20260423T151337
CREATED:20260211T165730Z
LAST-MODIFIED:20260211T165902Z
UID:16093-1773838800-1773846000@durhamrealtors.org
SUMMARY:All About Doorify MLS
DESCRIPTION:All About Doorify MLS. Sign up for one of the two sessions. At DRAR. Door prizes will be given away. \nREGISTER FOR 1-3PM SESSION
URL:https://durhamrealtors.org/event/all-about-doorify-mls-2/
LOCATION:REALTOR® Square at DRAR\, 4236 University Drive\, Durham\, NC\, 27707\, United States
GEO:35.9626463;-78.9610398
X-APPLE-STRUCTURED-LOCATION;VALUE=URI;X-ADDRESS=REALTOR® Square at DRAR 4236 University Drive Durham NC 27707 United States;X-APPLE-RADIUS=500;X-TITLE=4236 University Drive:geo:-78.9610398,35.9626463
END:VEVENT
BEGIN:VEVENT
DTSTART;TZID=America/New_York:20260318T100000
DTEND;TZID=America/New_York:20260318T120000
DTSTAMP:20260423T151337
CREATED:20260211T165515Z
LAST-MODIFIED:20260211T170104Z
UID:16090-1773828000-1773835200@durhamrealtors.org
SUMMARY:All About Doorify MLS
DESCRIPTION:All About Doorify MLS. Sign up for one of the two sessions. At DRAR. Door prizes will be given away. \nREGISTER FOR 10AM-NOON SESSION \n  \n 
URL:https://durhamrealtors.org/event/all-about-doorify-mls/
LOCATION:NC
END:VEVENT
BEGIN:VEVENT
DTSTART;TZID=America/New_York:20260318T093000
DTEND;TZID=America/New_York:20260318T103000
DTSTAMP:20260423T151337
CREATED:20251212T161402Z
LAST-MODIFIED:20251212T161551Z
UID:15974-1773826200-1773829800@durhamrealtors.org
SUMMARY:Board of Directors
DESCRIPTION:
URL:https://durhamrealtors.org/event/board-of-directors-15/
LOCATION:REALTOR® Square at DRAR\, 4236 University Drive\, Durham\, NC\, 27707\, United States
GEO:35.9626463;-78.9610398
X-APPLE-STRUCTURED-LOCATION;VALUE=URI;X-ADDRESS=REALTOR® Square at DRAR 4236 University Drive Durham NC 27707 United States;X-APPLE-RADIUS=500;X-TITLE=4236 University Drive:geo:-78.9610398,35.9626463
END:VEVENT
BEGIN:VEVENT
DTSTART;TZID=America/New_York:20260317T100000
DTEND;TZID=America/New_York:20260317T140000
DTSTAMP:20260423T151337
CREATED:20260211T164654Z
LAST-MODIFIED:20260211T164823Z
UID:16086-1773741600-1773756000@durhamrealtors.org
SUMMARY:Senior Financing Lunch & Learn
DESCRIPTION:Senior Financing Lunch & Learn: Making sure you’re ready for the “last-time” buyer market. Hosted by Victorian Finance. \n \nREGISTER
URL:https://durhamrealtors.org/event/senior-financing-lunch-learn/
LOCATION:NC
END:VEVENT
BEGIN:VEVENT
DTSTART;TZID=America/New_York:20260316T140000
DTEND;TZID=America/New_York:20260316T150000
DTSTAMP:20260423T151337
CREATED:20260211T164235Z
LAST-MODIFIED:20260211T164235Z
UID:16084-1773669600-1773673200@durhamrealtors.org
SUMMARY:Frank Ward Speaker Series: Understanding Property Revaluation in Durham
DESCRIPTION:Frank Ward Speaker Series: Understanding Property Revaluation in Durham with Durham County Tax Administrator Keyar Doyle. Hosted by the Governmental Affairs/Legislative Committee/LPC. All DRAR members are invited. \nREGISTER
URL:https://durhamrealtors.org/event/frank-ward-speaker-series-understanding-property-revaluation-in-durham/
LOCATION:REALTOR® Square at DRAR\, 4236 University Drive\, Durham\, NC\, 27707\, United States
GEO:35.9626463;-78.9610398
X-APPLE-STRUCTURED-LOCATION;VALUE=URI;X-ADDRESS=REALTOR® Square at DRAR 4236 University Drive Durham NC 27707 United States;X-APPLE-RADIUS=500;X-TITLE=4236 University Drive:geo:-78.9610398,35.9626463
END:VEVENT
BEGIN:VEVENT
DTSTART;TZID=America/New_York:20260312T140000
DTEND;TZID=America/New_York:20260312T153000
DTSTAMP:20260423T151337
CREATED:20260210T182154Z
LAST-MODIFIED:20260211T164916Z
UID:16070-1773324000-1773329400@durhamrealtors.org
SUMMARY:First Quarter BIC Meeting with NC Real Estate Commission
DESCRIPTION:REGISTER
URL:https://durhamrealtors.org/event/first-quarter-bic-meeting-with-nc-real-estate-commission/
LOCATION:REALTOR® Square at DRAR\, 4236 University Drive\, Durham\, NC\, 27707\, United States
GEO:35.9626463;-78.9610398
X-APPLE-STRUCTURED-LOCATION;VALUE=URI;X-ADDRESS=REALTOR® Square at DRAR 4236 University Drive Durham NC 27707 United States;X-APPLE-RADIUS=500;X-TITLE=4236 University Drive:geo:-78.9610398,35.9626463
END:VEVENT
BEGIN:VEVENT
DTSTART;TZID=America/New_York:20260312T130000
DTEND;TZID=America/New_York:20260312T140000
DTSTAMP:20260423T151337
CREATED:20251212T155348Z
LAST-MODIFIED:20260303T132211Z
UID:15959-1773320400-1773324000@durhamrealtors.org
SUMMARY:Independent Brokerage Council (IBC)
DESCRIPTION:Is your brokerage a smaller\, non-franchise firm? \nThis Council will provide support\, networking\, and opportunities to exchange business savvy ideas with owners\, BICs\, and Principal Brokers of other small\, non-franchise firms. We will discuss current rule and industry changes\, and technology offerings from DRAR\, TMLS\, and our other partners. Members should be licensed and active real estate professionals of independent (non-national franchise) firms dedicated to the real estate industry\, and passionate about exploring new ways to learn and grow for their firm and brokers. \nAnnual Term: 1|1|25 – 12|31|25\nAnnual Dues: $ 50 per member – Dues will pay for refreshments and any costs associated with this group’s events. \nBI-MONTHLY MEETINGS: Every 4th Wednesday\, 9-10am at DRAR with select industry speakers \nDOWNLOAD APPLICATION: CLICK HERE\nContact Justin Burleson\, IBC Chair\, for questions: Justin@PremierAgentsNetwork.com
URL:https://durhamrealtors.org/event/independent-brokerage-council-ibc-17/
LOCATION:REALTOR® Square at DRAR\, 4236 University Drive\, Durham\, NC\, 27707\, United States
GEO:35.9626463;-78.9610398
X-APPLE-STRUCTURED-LOCATION;VALUE=URI;X-ADDRESS=REALTOR® Square at DRAR 4236 University Drive Durham NC 27707 United States;X-APPLE-RADIUS=500;X-TITLE=4236 University Drive:geo:-78.9610398,35.9626463
END:VEVENT
BEGIN:VEVENT
DTSTART;TZID=America/New_York:20260311T140000
DTEND;TZID=America/New_York:20260311T150000
DTSTAMP:20260423T151337
CREATED:20260303T140729Z
LAST-MODIFIED:20260303T140830Z
UID:16175-1773237600-1773241200@durhamrealtors.org
SUMMARY:Financial Planning and Tax Strategies for Young Professionals
DESCRIPTION:  \n \nREGISTER
URL:https://durhamrealtors.org/event/financial-planning-and-tax-strategies-for-young-professionals/
LOCATION:REALTOR® Square at DRAR\, 4236 University Drive\, Durham\, NC\, 27707\, United States
GEO:35.9626463;-78.9610398
X-APPLE-STRUCTURED-LOCATION;VALUE=URI;X-ADDRESS=REALTOR® Square at DRAR 4236 University Drive Durham NC 27707 United States;X-APPLE-RADIUS=500;X-TITLE=4236 University Drive:geo:-78.9610398,35.9626463
END:VEVENT
BEGIN:VEVENT
DTSTART;TZID=America/New_York:20260311T093000
DTEND;TZID=America/New_York:20260311T103000
DTSTAMP:20260423T151337
CREATED:20251212T161829Z
LAST-MODIFIED:20251212T161829Z
UID:15980-1773221400-1773225000@durhamrealtors.org
SUMMARY:Executive Committee
DESCRIPTION:
URL:https://durhamrealtors.org/event/executive-committee-12/
LOCATION:REALTOR® Square at DRAR\, 4236 University Drive\, Durham\, NC\, 27707\, United States
GEO:35.9626463;-78.9610398
X-APPLE-STRUCTURED-LOCATION;VALUE=URI;X-ADDRESS=REALTOR® Square at DRAR 4236 University Drive Durham NC 27707 United States;X-APPLE-RADIUS=500;X-TITLE=4236 University Drive:geo:-78.9610398,35.9626463
END:VEVENT
BEGIN:VEVENT
DTSTART;TZID=America/New_York:20260310T140000
DTEND;TZID=America/New_York:20260310T150000
DTSTAMP:20260423T151337
CREATED:20251212T153715Z
LAST-MODIFIED:20260107T175154Z
UID:15939-1773151200-1773154800@durhamrealtors.org
SUMMARY:Community Service Committee
DESCRIPTION:Interested in attending? \nClick here to learn more! \nThe strength of the Durham Regional Association of REALTORS® is the involvement of its members. \nYour participation is welcomed and encouraged!
URL:https://durhamrealtors.org/event/community-service-committee-15/
LOCATION:REALTOR® Square at DRAR\, 4236 University Drive\, Durham\, NC\, 27707\, United States
GEO:35.9626463;-78.9610398
X-APPLE-STRUCTURED-LOCATION;VALUE=URI;X-ADDRESS=REALTOR® Square at DRAR 4236 University Drive Durham NC 27707 United States;X-APPLE-RADIUS=500;X-TITLE=4236 University Drive:geo:-78.9610398,35.9626463
END:VEVENT
BEGIN:VEVENT
DTSTART;TZID=America/New_York:20260309T140000
DTEND;TZID=America/New_York:20260309T153000
DTSTAMP:20260423T151337
CREATED:20260303T141342Z
LAST-MODIFIED:20260303T141342Z
UID:16182-1773064800-1773070200@durhamrealtors.org
SUMMARY:What REALTORS® Need to Know About Durham's New Proposed UDO/LDC Update
DESCRIPTION:With Bram Luknight \nRegistration is closed
URL:https://durhamrealtors.org/event/what-realtors-need-to-know-about-durhams-new-proposed-udo-ldc-update/
LOCATION:REALTOR® Square at DRAR\, 4236 University Drive\, Durham\, NC\, 27707\, United States
GEO:35.9626463;-78.9610398
X-APPLE-STRUCTURED-LOCATION;VALUE=URI;X-ADDRESS=REALTOR® Square at DRAR 4236 University Drive Durham NC 27707 United States;X-APPLE-RADIUS=500;X-TITLE=4236 University Drive:geo:-78.9610398,35.9626463
END:VEVENT
BEGIN:VEVENT
DTSTART;TZID=America/New_York:20260305T081500
DTEND;TZID=America/New_York:20260305T114500
DTSTAMP:20260423T151337
CREATED:20251212T155817Z
LAST-MODIFIED:20251212T155817Z
UID:15965-1772698500-1772711100@durhamrealtors.org
SUMMARY:New Member Orientation
DESCRIPTION:8:15am: Check In\, Sponsored Refreshments & Pictures\n9:00am: Welcome\, Pathways to Professionalism and Getting Started\n9:30am: Getting Acquainted with the REALTOR® Organization – Local & State\n10:15am: Sponsor Intro\n10:20am: Break\n10:30am: Upcoming Events\n10:40am: Website & Social Media\n10:50am: COE and Oath\n11:00am: Closing Comments\n11:15am: End time (estimate)
URL:https://durhamrealtors.org/event/new-member-orientation-29/
LOCATION:REALTOR® Square at DRAR\, 4236 University Drive\, Durham\, NC\, 27707\, United States
GEO:35.9626463;-78.9610398
X-APPLE-STRUCTURED-LOCATION;VALUE=URI;X-ADDRESS=REALTOR® Square at DRAR 4236 University Drive Durham NC 27707 United States;X-APPLE-RADIUS=500;X-TITLE=4236 University Drive:geo:-78.9610398,35.9626463
END:VEVENT
BEGIN:VEVENT
DTSTART;TZID=America/New_York:20260304T113000
DTEND;TZID=America/New_York:20260304T133000
DTSTAMP:20260423T151337
CREATED:20260303T141201Z
LAST-MODIFIED:20260303T141201Z
UID:16179-1772623800-1772631000@durhamrealtors.org
SUMMARY:Kerr Lake Quarterly Luncheon
DESCRIPTION:Registration is closed \n \n 
URL:https://durhamrealtors.org/event/kerr-lake-quarterly-luncheon-6/
LOCATION:Ribeyes Henderson\, 2002 Graham Avenue\, Henderson\, NC\, 27536\, United States
END:VEVENT
BEGIN:VEVENT
DTSTART;TZID=America/New_York:20260302T100000
DTEND;TZID=America/New_York:20260302T110000
DTSTAMP:20260423T151337
CREATED:20251212T153312Z
LAST-MODIFIED:20260206T073435Z
UID:15933-1772445600-1772449200@durhamrealtors.org
SUMMARY:Public Schools Committee
DESCRIPTION:Interested in attending? \nClick here to learn more! \nThe strength of the Durham Regional Association of REALTORS® is the involvement of its members. \nYour participation is welcomed and encouraged!
URL:https://durhamrealtors.org/event/durham-public-schools/
LOCATION:REALTOR® Square at DRAR\, 4236 University Drive\, Durham\, NC\, 27707\, United States
GEO:35.9626463;-78.9610398
X-APPLE-STRUCTURED-LOCATION;VALUE=URI;X-ADDRESS=REALTOR® Square at DRAR 4236 University Drive Durham NC 27707 United States;X-APPLE-RADIUS=500;X-TITLE=4236 University Drive:geo:-78.9610398,35.9626463
END:VEVENT
BEGIN:VEVENT
DTSTART;TZID=America/New_York:20260226T100000
DTEND;TZID=America/New_York:20260226T110000
DTSTAMP:20260423T151337
CREATED:20251212T153924Z
LAST-MODIFIED:20260203T143638Z
UID:15943-1772100000-1772103600@durhamrealtors.org
SUMMARY:Diversity\, Equity\, & Inclusion
DESCRIPTION:Interested in attending? \nClick here to learn more! \nThe strength of the Durham Regional Association of REALTORS® is the involvement of its members. \nYour participation is welcomed and encouraged!
URL:https://durhamrealtors.org/event/diversity-equity-inclusion/
LOCATION:REALTOR® Square at DRAR\, 4236 University Drive\, Durham\, NC\, 27707\, United States
GEO:35.9626463;-78.9610398
X-APPLE-STRUCTURED-LOCATION;VALUE=URI;X-ADDRESS=REALTOR® Square at DRAR 4236 University Drive Durham NC 27707 United States;X-APPLE-RADIUS=500;X-TITLE=4236 University Drive:geo:-78.9610398,35.9626463
END:VEVENT
BEGIN:VEVENT
DTSTART;TZID=America/New_York:20260225T083000
DTEND;TZID=America/New_York:20260225T123000
DTSTAMP:20260423T151337
CREATED:20260129T184841Z
LAST-MODIFIED:20260210T144209Z
UID:16061-1772008200-1772022600@durhamrealtors.org
SUMMARY:10 Things You Need to Know About Land
DESCRIPTION:  \n \nREGISTER
URL:https://durhamrealtors.org/event/10-things-you-need-to-know-about-land/
LOCATION:REALTOR® Square at DRAR\, 4236 University Drive\, Durham\, NC\, 27707\, United States
GEO:35.9626463;-78.9610398
X-APPLE-STRUCTURED-LOCATION;VALUE=URI;X-ADDRESS=REALTOR® Square at DRAR 4236 University Drive Durham NC 27707 United States;X-APPLE-RADIUS=500;X-TITLE=4236 University Drive:geo:-78.9610398,35.9626463
END:VEVENT
BEGIN:VEVENT
DTSTART;TZID=America/New_York:20260219T113000
DTEND;TZID=America/New_York:20260219T133000
DTSTAMP:20260423T151337
CREATED:20260108T135732Z
LAST-MODIFIED:20260108T135732Z
UID:16022-1771500600-1771507800@durhamrealtors.org
SUMMARY:TMLA Economist Lunch & Learn
DESCRIPTION:REGISTER
URL:https://durhamrealtors.org/event/tmla-economist-lunch-learn/
LOCATION:REALTOR® Square at DRAR\, 4236 University Drive\, Durham\, NC\, 27707\, United States
GEO:35.9626463;-78.9610398
X-APPLE-STRUCTURED-LOCATION;VALUE=URI;X-ADDRESS=REALTOR® Square at DRAR 4236 University Drive Durham NC 27707 United States;X-APPLE-RADIUS=500;X-TITLE=4236 University Drive:geo:-78.9610398,35.9626463
END:VEVENT
BEGIN:VEVENT
DTSTART;TZID=America/New_York:20260218T093000
DTEND;TZID=America/New_York:20260218T103000
DTSTAMP:20260423T151337
CREATED:20251212T161314Z
LAST-MODIFIED:20251212T161629Z
UID:15972-1771407000-1771410600@durhamrealtors.org
SUMMARY:Board of Directors
DESCRIPTION:
URL:https://durhamrealtors.org/event/board-of-directors-14/
LOCATION:REALTOR® Square at DRAR\, 4236 University Drive\, Durham\, NC\, 27707\, United States
GEO:35.9626463;-78.9610398
X-APPLE-STRUCTURED-LOCATION;VALUE=URI;X-ADDRESS=REALTOR® Square at DRAR 4236 University Drive Durham NC 27707 United States;X-APPLE-RADIUS=500;X-TITLE=4236 University Drive:geo:-78.9610398,35.9626463
END:VEVENT
BEGIN:VEVENT
DTSTART;TZID=America/New_York:20260217T100000
DTEND;TZID=America/New_York:20260217T120000
DTSTAMP:20260423T151337
CREATED:20260113T155641Z
LAST-MODIFIED:20260129T165109Z
UID:16026-1771322400-1771329600@durhamrealtors.org
SUMMARY:Down Payment Assistance Program
DESCRIPTION:Lunch will include Jersey Mike’s Subs\, chips\, and drinks \nREGISTRATION IS CLOSED
URL:https://durhamrealtors.org/event/down-payment-assistance-program/
LOCATION:REALTOR® Square at DRAR\, 4236 University Drive\, Durham\, NC\, 27707\, United States
GEO:35.9626463;-78.9610398
X-APPLE-STRUCTURED-LOCATION;VALUE=URI;X-ADDRESS=REALTOR® Square at DRAR 4236 University Drive Durham NC 27707 United States;X-APPLE-RADIUS=500;X-TITLE=4236 University Drive:geo:-78.9610398,35.9626463
END:VEVENT
BEGIN:VEVENT
DTSTART;TZID=America/New_York:20260216T140000
DTEND;TZID=America/New_York:20260216T150000
DTSTAMP:20260423T151337
CREATED:20251212T154854Z
LAST-MODIFIED:20251212T154854Z
UID:15953-1771250400-1771254000@durhamrealtors.org
SUMMARY:Governmental Affairs/Legislative Committee/LPC
DESCRIPTION:Interested in attending? \nClick here to learn more! \nThe strength of the Durham Regional Association of REALTORS® is the involvement of its members. \nYour participation is welcomed and encouraged!
URL:https://durhamrealtors.org/event/governmental-affairs-legislative-committee-lpc-2/
LOCATION:REALTOR® Square at DRAR\, 4236 University Drive\, Durham\, NC\, 27707\, United States
GEO:35.9626463;-78.9610398
X-APPLE-STRUCTURED-LOCATION;VALUE=URI;X-ADDRESS=REALTOR® Square at DRAR 4236 University Drive Durham NC 27707 United States;X-APPLE-RADIUS=500;X-TITLE=4236 University Drive:geo:-78.9610398,35.9626463
END:VEVENT
BEGIN:VEVENT
DTSTART;TZID=America/New_York:20260212T123000
DTEND;TZID=America/New_York:20260212T173000
DTSTAMP:20260423T151337
CREATED:20251212T163815Z
LAST-MODIFIED:20251212T163815Z
UID:15984-1770899400-1770917400@durhamrealtors.org
SUMMARY:Elective #4129 – Negotiation 1: Negotiation Foundation\, Styles\,& Building Trust
DESCRIPTION:Instructor Bill Gallagher (Instructor #1022) \nThis negotiation training provides expert guidance at all phases of the transaction lifecycle\, from Client Acquisition to Listing and Offering\, to Purchase Contracts\, to Close. \nLearn how to:\n• Win at real-world negotiation by navigating different styles\n• Build exceptional trust with your clients\n• Put together winning deals\n• Generate and convert more leads \nREGISTER
URL:https://durhamrealtors.org/event/elective-4129-negotiation-1-negotiation-foundation-styles-building-trust/
LOCATION:REALTOR® Square at DRAR\, 4236 University Drive\, Durham\, NC\, 27707\, United States
GEO:35.9626463;-78.9610398
X-APPLE-STRUCTURED-LOCATION;VALUE=URI;X-ADDRESS=REALTOR® Square at DRAR 4236 University Drive Durham NC 27707 United States;X-APPLE-RADIUS=500;X-TITLE=4236 University Drive:geo:-78.9610398,35.9626463
END:VEVENT
BEGIN:VEVENT
DTSTART;TZID=America/New_York:20260212T083000
DTEND;TZID=America/New_York:20260212T123000
DTSTAMP:20260423T151337
CREATED:20251212T163557Z
LAST-MODIFIED:20251213T172147Z
UID:15982-1770885000-1770899400@durhamrealtors.org
SUMMARY:#8826 Broker-in-Charge Update
DESCRIPTION:Instructor Bill Gallagher (Instructor #1022) \nTopics \n\nUnderstanding the role of an Agent\nA look at contemporary issues in Fair Housing\nFAQs\nGeneral information for becoming a BIC\nUnderstanding firm structure\nBIC best practices\n\nREGISTER
URL:https://durhamrealtors.org/event/8826-broker-in-charge-update-3/
LOCATION:REALTOR® Square at DRAR\, 4236 University Drive\, Durham\, NC\, 27707\, United States
GEO:35.9626463;-78.9610398
X-APPLE-STRUCTURED-LOCATION;VALUE=URI;X-ADDRESS=REALTOR® Square at DRAR 4236 University Drive Durham NC 27707 United States;X-APPLE-RADIUS=500;X-TITLE=4236 University Drive:geo:-78.9610398,35.9626463
END:VEVENT
BEGIN:VEVENT
DTSTART;TZID=America/New_York:20260211T093000
DTEND;TZID=America/New_York:20260211T103000
DTSTAMP:20260423T151337
CREATED:20251231T145636Z
LAST-MODIFIED:20251231T145636Z
UID:16012-1770802200-1770805800@durhamrealtors.org
SUMMARY:Executive Committee
DESCRIPTION:
URL:https://durhamrealtors.org/event/executive-committee-7/
LOCATION:REALTOR® Square at DRAR\, 4236 University Drive\, Durham\, NC\, 27707\, United States
GEO:35.9626463;-78.9610398
X-APPLE-STRUCTURED-LOCATION;VALUE=URI;X-ADDRESS=REALTOR® Square at DRAR 4236 University Drive Durham NC 27707 United States;X-APPLE-RADIUS=500;X-TITLE=4236 University Drive:geo:-78.9610398,35.9626463
END:VEVENT
BEGIN:VEVENT
DTSTART;TZID=America/New_York:20260210T140000
DTEND;TZID=America/New_York:20260210T150000
DTSTAMP:20260423T151337
CREATED:20251212T153608Z
LAST-MODIFIED:20260107T175034Z
UID:15937-1770732000-1770735600@durhamrealtors.org
SUMMARY:Community Service Committee
DESCRIPTION:Interested in attending? \nClick here to learn more! \nThe strength of the Durham Regional Association of REALTORS® is the involvement of its members. \nYour participation is welcomed and encouraged!
URL:https://durhamrealtors.org/event/community-service-committee-14/
LOCATION:REALTOR® Square at DRAR\, 4236 University Drive\, Durham\, NC\, 27707\, United States
GEO:35.9626463;-78.9610398
X-APPLE-STRUCTURED-LOCATION;VALUE=URI;X-ADDRESS=REALTOR® Square at DRAR 4236 University Drive Durham NC 27707 United States;X-APPLE-RADIUS=500;X-TITLE=4236 University Drive:geo:-78.9610398,35.9626463
END:VEVENT
BEGIN:VEVENT
DTSTART;TZID=America/New_York:20260210T100000
DTEND;TZID=America/New_York:20260210T110000
DTSTAMP:20260423T151337
CREATED:20251212T153202Z
LAST-MODIFIED:20260203T144015Z
UID:15931-1770717600-1770721200@durhamrealtors.org
SUMMARY:Public Schools Committee
DESCRIPTION:Interested in attending? \nClick here to learn more! \nThe strength of the Durham Regional Association of REALTORS® is the involvement of its members. \nYour participation is welcomed and encouraged!
URL:https://durhamrealtors.org/event/public-schools-committee-15/
LOCATION:REALTOR® Square at DRAR\, 4236 University Drive\, Durham\, NC\, 27707\, United States
GEO:35.9626463;-78.9610398
X-APPLE-STRUCTURED-LOCATION;VALUE=URI;X-ADDRESS=REALTOR® Square at DRAR 4236 University Drive Durham NC 27707 United States;X-APPLE-RADIUS=500;X-TITLE=4236 University Drive:geo:-78.9610398,35.9626463
END:VEVENT
BEGIN:VEVENT
DTSTART;TZID=America/New_York:20260209T140000
DTEND;TZID=America/New_York:20260209T150000
DTSTAMP:20260423T151337
CREATED:20251212T154230Z
LAST-MODIFIED:20260203T143903Z
UID:15947-1770645600-1770649200@durhamrealtors.org
SUMMARY:Property Management Committee
DESCRIPTION:Interested in attending? \nClick here to learn more! \nThe strength of the Durham Regional Association of REALTORS® is the involvement of its members. \nYour participation is welcomed and encouraged!
URL:https://durhamrealtors.org/event/property-management-committee-8/
LOCATION:REALTOR® Square at DRAR\, 4236 University Drive\, Durham\, NC\, 27707\, United States
GEO:35.9626463;-78.9610398
X-APPLE-STRUCTURED-LOCATION;VALUE=URI;X-ADDRESS=REALTOR® Square at DRAR 4236 University Drive Durham NC 27707 United States;X-APPLE-RADIUS=500;X-TITLE=4236 University Drive:geo:-78.9610398,35.9626463
END:VEVENT
BEGIN:VEVENT
DTSTART;TZID=America/New_York:20260205T081500
DTEND;TZID=America/New_York:20260205T114500
DTSTAMP:20260423T151337
CREATED:20251212T155658Z
LAST-MODIFIED:20251212T155658Z
UID:15963-1770279300-1770291900@durhamrealtors.org
SUMMARY:New Member Orientation
DESCRIPTION:8:15am: Check In\, Sponsored Refreshments & Pictures\n9:00am: Welcome\, Pathways to Professionalism and Getting Started\n9:30am: Getting Acquainted with the REALTOR® Organization – Local & State\n10:15am: Sponsor Intro\n10:20am: Break\n10:30am: Upcoming Events\n10:40am: Website & Social Media\n10:50am: COE and Oath\n11:00am: Closing Comments\n11:15am: End time (estimate)
URL:https://durhamrealtors.org/event/new-member-orientation-28/
LOCATION:REALTOR® Square at DRAR\, 4236 University Drive\, Durham\, NC\, 27707\, United States
GEO:35.9626463;-78.9610398
X-APPLE-STRUCTURED-LOCATION;VALUE=URI;X-ADDRESS=REALTOR® Square at DRAR 4236 University Drive Durham NC 27707 United States;X-APPLE-RADIUS=500;X-TITLE=4236 University Drive:geo:-78.9610398,35.9626463
END:VEVENT
END:VCALENDAR