BEGIN:VCALENDAR
VERSION:2.0
PRODID:-//Durham Regional Assc of Realtors - ECPv6.15.16//NONSGML v1.0//EN
CALSCALE:GREGORIAN
METHOD:PUBLISH
X-WR-CALNAME:Durham Regional Assc of Realtors
X-ORIGINAL-URL:https://durhamrealtors.org
X-WR-CALDESC:Events for Durham Regional Assc of Realtors
REFRESH-INTERVAL;VALUE=DURATION:PT1H
X-Robots-Tag:noindex
X-PUBLISHED-TTL:PT1H
BEGIN:VTIMEZONE
TZID:America/New_York
BEGIN:DAYLIGHT
TZOFFSETFROM:-0500
TZOFFSETTO:-0400
TZNAME:EDT
DTSTART:20230312T070000
END:DAYLIGHT
BEGIN:STANDARD
TZOFFSETFROM:-0400
TZOFFSETTO:-0500
TZNAME:EST
DTSTART:20231105T060000
END:STANDARD
BEGIN:DAYLIGHT
TZOFFSETFROM:-0500
TZOFFSETTO:-0400
TZNAME:EDT
DTSTART:20240310T070000
END:DAYLIGHT
BEGIN:STANDARD
TZOFFSETFROM:-0400
TZOFFSETTO:-0500
TZNAME:EST
DTSTART:20241103T060000
END:STANDARD
BEGIN:DAYLIGHT
TZOFFSETFROM:-0500
TZOFFSETTO:-0400
TZNAME:EDT
DTSTART:20250309T070000
END:DAYLIGHT
BEGIN:STANDARD
TZOFFSETFROM:-0400
TZOFFSETTO:-0500
TZNAME:EST
DTSTART:20251102T060000
END:STANDARD
END:VTIMEZONE
BEGIN:VEVENT
DTSTART;TZID=America/New_York:20240717T093000
DTEND;TZID=America/New_York:20240717T103000
DTSTAMP:20260425T070345
CREATED:20231221T163047Z
LAST-MODIFIED:20231221T163047Z
UID:13456-1721208600-1721212200@durhamrealtors.org
SUMMARY:DRAR Board of Directors Meeting
DESCRIPTION:
URL:https://durhamrealtors.org/event/drar-board-of-directors-meeting-11/
LOCATION:REALTOR® Square at DRAR\, 4236 University Drive\, Durham\, NC\, 27707\, United States
GEO:35.9626463;-78.9610398
X-APPLE-STRUCTURED-LOCATION;VALUE=URI;X-ADDRESS=REALTOR® Square at DRAR 4236 University Drive Durham NC 27707 United States;X-APPLE-RADIUS=500;X-TITLE=4236 University Drive:geo:-78.9610398,35.9626463
END:VEVENT
BEGIN:VEVENT
DTSTART;TZID=America/New_York:20240716T150000
DTEND;TZID=America/New_York:20240716T160000
DTSTAMP:20260425T070345
CREATED:20231221T155758Z
LAST-MODIFIED:20231221T155758Z
UID:13385-1721142000-1721145600@durhamrealtors.org
SUMMARY:Legislative Committee Meeting
DESCRIPTION:Interested in attending? \nPlease fill out the 2024 Committee Sign Up Form \nThe strength of the Durham Regional Association of REALTORS® is the involvement of its members. \nYour participation is welcomed and encouraged!
URL:https://durhamrealtors.org/event/legislative-committee-meeting-4/2024-07-16/
LOCATION:REALTOR® Square at DRAR\, 4236 University Drive\, Durham\, NC\, 27707\, United States
GEO:35.9626463;-78.9610398
X-APPLE-STRUCTURED-LOCATION;VALUE=URI;X-ADDRESS=REALTOR® Square at DRAR 4236 University Drive Durham NC 27707 United States;X-APPLE-RADIUS=500;X-TITLE=4236 University Drive:geo:-78.9610398,35.9626463
END:VEVENT
BEGIN:VEVENT
DTSTART;TZID=America/New_York:20240716T140000
DTEND;TZID=America/New_York:20240716T150000
DTSTAMP:20260425T070345
CREATED:20240715T113840Z
LAST-MODIFIED:20240715T114355Z
UID:14068-1721138400-1721142000@durhamrealtors.org
SUMMARY:Local Political Coordinators Meeting
DESCRIPTION:July 16 @2-3pm
URL:https://durhamrealtors.org/event/local-political-coordinator-meeting/
LOCATION:ZOOM Webinar\, NC\, United States
END:VEVENT
BEGIN:VEVENT
DTSTART;TZID=America/New_York:20240711T083000
DTEND;TZID=America/New_York:20240711T113000
DTSTAMP:20260425T070345
CREATED:20231221T160148Z
LAST-MODIFIED:20240611T111656Z
UID:13406-1720686600-1720697400@durhamrealtors.org
SUMMARY:New Member Orientation
DESCRIPTION:8:45am:   Check In\, Sponsored Refreshments & Pictures\n9:00am:   Welcome\, Pathways to Professionalism and Getting Started\n9:30am:   Getting Acquainted with the REALTOR® Organization – Local & State\n10:15am:  Sponsor Intro\n10:20am:  Break\n10:30am:  Upcoming Events\n10:40am:  Website & Social Media\n10:50am:  COE and Oath\n11:00am:  Closing Comments\n11:15am:  End time (estimate)
URL:https://durhamrealtors.org/event/new-member-orientation-3-2024-07-04/
LOCATION:NC
END:VEVENT
BEGIN:VEVENT
DTSTART;TZID=America/New_York:20240710T093000
DTEND;TZID=America/New_York:20240710T103000
DTSTAMP:20260425T070345
CREATED:20231221T162324Z
LAST-MODIFIED:20231221T162324Z
UID:13432-1720603800-1720607400@durhamrealtors.org
SUMMARY:DRAR Executive Committee Meeting
DESCRIPTION:
URL:https://durhamrealtors.org/event/drar-executive-committee-meeting-10/
LOCATION:REALTOR® Square at DRAR\, 4236 University Drive\, Durham\, NC\, 27707\, United States
GEO:35.9626463;-78.9610398
X-APPLE-STRUCTURED-LOCATION;VALUE=URI;X-ADDRESS=REALTOR® Square at DRAR 4236 University Drive Durham NC 27707 United States;X-APPLE-RADIUS=500;X-TITLE=4236 University Drive:geo:-78.9610398,35.9626463
END:VEVENT
BEGIN:VEVENT
DTSTART;TZID=America/New_York:20240709T150000
DTEND;TZID=America/New_York:20240709T160000
DTSTAMP:20260425T070345
CREATED:20240509T073624Z
LAST-MODIFIED:20240509T073624Z
UID:13902-1720537200-1720540800@durhamrealtors.org
SUMMARY:Community Service Committee Meeting
DESCRIPTION:Interested in attending? \nPlease fill out the 2024 Committee Sign Up Form \nThe strength of the Durham Regional Association of REALTORS® is the involvement of its members. \nYour participation is welcomed and encouraged!
URL:https://durhamrealtors.org/event/community-service-committee-meeting-4/
LOCATION:REALTOR® Square at DRAR\, 4236 University Drive\, Durham\, NC\, 27707\, United States
GEO:35.9626463;-78.9610398
X-APPLE-STRUCTURED-LOCATION;VALUE=URI;X-ADDRESS=REALTOR® Square at DRAR 4236 University Drive Durham NC 27707 United States;X-APPLE-RADIUS=500;X-TITLE=4236 University Drive:geo:-78.9610398,35.9626463
END:VEVENT
BEGIN:VEVENT
DTSTART;VALUE=DATE:20240704
DTEND;VALUE=DATE:20240705
DTSTAMP:20260425T070345
CREATED:20240618T121659Z
LAST-MODIFIED:20240618T121659Z
UID:14047-1720051200-1720137599@durhamrealtors.org
SUMMARY:OFFICE CLOSED - INDEPENDENCE DAY
DESCRIPTION:The DRAR office will be closed for the Independence Day holiday.
URL:https://durhamrealtors.org/event/office-closed-independence-day/
LOCATION:REALTOR® Square at DRAR\, 4236 University Drive\, Durham\, NC\, 27707\, United States
GEO:35.9626463;-78.9610398
X-APPLE-STRUCTURED-LOCATION;VALUE=URI;X-ADDRESS=REALTOR® Square at DRAR 4236 University Drive Durham NC 27707 United States;X-APPLE-RADIUS=500;X-TITLE=4236 University Drive:geo:-78.9610398,35.9626463
END:VEVENT
BEGIN:VEVENT
DTSTART;TZID=America/New_York:20240701T100000
DTEND;TZID=America/New_York:20240701T110000
DTSTAMP:20260425T070345
CREATED:20231221T153737Z
LAST-MODIFIED:20231221T154034Z
UID:13334-1719828000-1719831600@durhamrealtors.org
SUMMARY:CANCELED: Public Schools Committee Meeting (holiday)
DESCRIPTION:Interested in attending? \nPlease fill out the 2024 Committee Sign Up Form \nThe strength of the Durham Regional Association of REALTORS® is the involvement of its members. \nYour participation is welcomed and encouraged!
URL:https://durhamrealtors.org/event/public-schools-committee-meeting-2024-07-01/
LOCATION:REALTOR® Square at DRAR\, 4236 University Drive\, Durham\, NC\, 27707\, United States
GEO:35.9626463;-78.9610398
X-APPLE-STRUCTURED-LOCATION;VALUE=URI;X-ADDRESS=REALTOR® Square at DRAR 4236 University Drive Durham NC 27707 United States;X-APPLE-RADIUS=500;X-TITLE=4236 University Drive:geo:-78.9610398,35.9626463
END:VEVENT
BEGIN:VEVENT
DTSTART;VALUE=DATE:20240701
DTEND;VALUE=DATE:20240702
DTSTAMP:20260425T070345
CREATED:20240223T154156Z
LAST-MODIFIED:20240223T154156Z
UID:13660-1719792000-1719878399@durhamrealtors.org
SUMMARY:DISABILITY PRIDE MONTH
DESCRIPTION:
URL:https://durhamrealtors.org/event/disability-pride-month/
LOCATION:REALTOR® Square at DRAR\, 4236 University Drive\, Durham\, NC\, 27707\, United States
GEO:35.9626463;-78.9610398
X-APPLE-STRUCTURED-LOCATION;VALUE=URI;X-ADDRESS=REALTOR® Square at DRAR 4236 University Drive Durham NC 27707 United States;X-APPLE-RADIUS=500;X-TITLE=4236 University Drive:geo:-78.9610398,35.9626463
END:VEVENT
BEGIN:VEVENT
DTSTART;VALUE=DATE:20240630
DTEND;VALUE=DATE:20240701
DTSTAMP:20260425T070345
CREATED:20240520T142132Z
LAST-MODIFIED:20240603T111841Z
UID:13940-1719705600-1719791999@durhamrealtors.org
SUMMARY:DEADLINE: License Renewal
DESCRIPTION:PAY HERE:  NCREC.GOV
URL:https://durhamrealtors.org/event/deadline-license-renewal/
LOCATION:Durham\, NC\, United States
GEO:35.7595731;-79.0192997
END:VEVENT
BEGIN:VEVENT
DTSTART;TZID=America/New_York:20240628T113000
DTEND;TZID=America/New_York:20240628T133000
DTSTAMP:20260425T070345
CREATED:20240613T121208Z
LAST-MODIFIED:20240613T121208Z
UID:14037-1719574200-1719581400@durhamrealtors.org
SUMMARY:YPN Mix & Mingle
DESCRIPTION:REGISTER \nSponsored by: \nAnthony Holt\, Branch Manager\nNew American Funding\nNMLS # 75606
URL:https://durhamrealtors.org/event/ypn-mix-mingle/
LOCATION:Toros Cantina\, 1011 Lewis St\, Oxford\, 27565\, United States
END:VEVENT
BEGIN:VEVENT
DTSTART;TZID=America/New_York:20240627T100000
DTEND;TZID=America/New_York:20240627T110000
DTSTAMP:20260425T070345
CREATED:20240226T132034Z
LAST-MODIFIED:20240226T151721Z
UID:13685-1719482400-1719486000@durhamrealtors.org
SUMMARY:Guest: TONY HARRINGTON\, 2024 NCR President\, Diversity\, Equity\, Inclusion Committee (DEI)
DESCRIPTION:All members are invited to attend\, whether committee member or not \nREGISTER \n  \nInterested in attending? \nPlease fill out the 2024 Committee Sign Up Form \nThe strength of the Durham Regional Association of REALTORS® is the involvement of its members. \nYour participation is welcomed and encouraged!
URL:https://durhamrealtors.org/event/diversity-equity-inclusion-committee-dei-2024-06-27/
LOCATION:REALTOR® Square at DRAR\, 4236 University Drive\, Durham\, NC\, 27707\, United States
GEO:35.9626463;-78.9610398
X-APPLE-STRUCTURED-LOCATION;VALUE=URI;X-ADDRESS=REALTOR® Square at DRAR 4236 University Drive Durham NC 27707 United States;X-APPLE-RADIUS=500;X-TITLE=4236 University Drive:geo:-78.9610398,35.9626463
END:VEVENT
BEGIN:VEVENT
DTSTART;TZID=America/New_York:20240620T160000
DTEND;TZID=America/New_York:20240620T180000
DTSTAMP:20260425T070345
CREATED:20240202T215332Z
LAST-MODIFIED:20240424T110802Z
UID:13560-1718899200-1718906400@durhamrealtors.org
SUMMARY:Summer Solstice Social!
DESCRIPTION:REGISTER \nLet’s celebrate the longest day of the year! \nDRAR + Orange-Chatham Assoc of Realtors are hosting this event \nFree nacho bar + one adult drink ticket. \nJoin us for a fun social gathering!
URL:https://durhamrealtors.org/event/summer-solstice-social/
LOCATION:La Hacienda Restaurant\, 1813 Fordham Blvd\, Chapel Hill\, NC\, 27514\, United States
END:VEVENT
BEGIN:VEVENT
DTSTART;TZID=America/New_York:20240620T100000
DTEND;TZID=America/New_York:20240620T120000
DTSTAMP:20260425T070345
CREATED:20240424T171115Z
LAST-MODIFIED:20240426T120949Z
UID:13862-1718877600-1718884800@durhamrealtors.org
SUMMARY:Sustainability Housing Plan: Creating A Better Tomorrow
DESCRIPTION:REGISTER \nExpert Panel Discussion \nJamie Hager\, Southern Energy\nJon Showalter\, Homes by Dickerson\nChad Collins\, Collins Design-Build\nAlyssa Cherry\, Fillaree \nMembers will be able to use the tools\, resources\, and information from this panel to network and inspire others to advocate for sustainable practices on behalf of our community. \nHow sustainability efforts impact the real estate industry\, and how real estate professionals can contribute to awareness around reducing housing\, building\, and living costs. \n\nWhat makes homes energy efficient\ngreen homebuilding\ncertifications\nbenefits and costs of solar energy\ngovernment-backed programs.\n\nStructures using recycled or low embodied energy materials that create a comfortable climate\, are energy efficient\, and are good for the environment.
URL:https://durhamrealtors.org/event/sustainability-housing-plan-creating-a-better-tomorrow/
LOCATION:REALTOR® Square at DRAR\, 4236 University Drive\, Durham\, NC\, 27707\, United States
GEO:35.9626463;-78.9610398
X-APPLE-STRUCTURED-LOCATION;VALUE=URI;X-ADDRESS=REALTOR® Square at DRAR 4236 University Drive Durham NC 27707 United States;X-APPLE-RADIUS=500;X-TITLE=4236 University Drive:geo:-78.9610398,35.9626463
END:VEVENT
BEGIN:VEVENT
DTSTART;TZID=America/New_York:20240620T093000
DTEND;TZID=America/New_York:20240620T110000
DTSTAMP:20260425T070345
CREATED:20240401T125715Z
LAST-MODIFIED:20240507T011611Z
UID:13811-1718875800-1718881200@durhamrealtors.org
SUMMARY:DEI Committee @ Pauli Murray Center
DESCRIPTION:The DEI Committee will visit the Pauli Murray Center for History & Social Justice to learn more about its mission\, its impact on Durham\, and more. \nhttps://www.paulimurraycenter.com/
URL:https://durhamrealtors.org/event/dei-committee-paul-murray-center/
LOCATION:Paul Murray Center\, 906 Carroll Street\, Durham\, NC\, 27701\, United States
END:VEVENT
BEGIN:VEVENT
DTSTART;VALUE=DATE:20240619
DTEND;VALUE=DATE:20240620
DTSTAMP:20260425T070345
CREATED:20240503T104108Z
LAST-MODIFIED:20240503T104108Z
UID:13888-1718755200-1718841599@durhamrealtors.org
SUMMARY:Office Closed for Juneteenth
DESCRIPTION:
URL:https://durhamrealtors.org/event/office-closed-for-juneteenth/
LOCATION:REALTOR® Square at DRAR\, 4236 University Drive\, Durham\, NC\, 27707\, United States
GEO:35.9626463;-78.9610398
X-APPLE-STRUCTURED-LOCATION;VALUE=URI;X-ADDRESS=REALTOR® Square at DRAR 4236 University Drive Durham NC 27707 United States;X-APPLE-RADIUS=500;X-TITLE=4236 University Drive:geo:-78.9610398,35.9626463
END:VEVENT
BEGIN:VEVENT
DTSTART;TZID=America/New_York:20240618T150000
DTEND;TZID=America/New_York:20240618T160000
DTSTAMP:20260425T070345
CREATED:20231221T155758Z
LAST-MODIFIED:20240614T104312Z
UID:13384-1718722800-1718726400@durhamrealtors.org
SUMMARY:Legislative Committee Meeting
DESCRIPTION:Interested in attending? \nPlease fill out the 2024 Committee Sign Up Form \nThe strength of the Durham Regional Association of REALTORS® is the involvement of its members. \nYour participation is welcomed and encouraged!
URL:https://durhamrealtors.org/event/legislative-committee-meeting-4-2024-06-18/
LOCATION:REALTOR® Square at DRAR\, 4236 University Drive\, Durham\, NC\, 27707\, United States
GEO:35.9626463;-78.9610398
X-APPLE-STRUCTURED-LOCATION;VALUE=URI;X-ADDRESS=REALTOR® Square at DRAR 4236 University Drive Durham NC 27707 United States;X-APPLE-RADIUS=500;X-TITLE=4236 University Drive:geo:-78.9610398,35.9626463
END:VEVENT
BEGIN:VEVENT
DTSTART;TZID=America/New_York:20240618T140000
DTEND;TZID=America/New_York:20240618T160000
DTSTAMP:20260425T070345
CREATED:20240426T122119Z
LAST-MODIFIED:20240426T122119Z
UID:13870-1718719200-1718726400@durhamrealtors.org
SUMMARY:Latino Mortgage Panel @ DRAR
DESCRIPTION:REGISTER \nPanel of Experts: \nNoemi Rodriguez\, Loan Officer Victorian Finance\nKaye Dickerson\, Loan Officer RTP Mortgage\nTBD\, Self Help Credit Union \n\nAre there financing options for non-citizen borrowers as well as ITIN Borrowers. What are the credit\, income and asset requirements for these clients.\nLoan Options: Standard Fannie Conventional and NON QM options (QM Qualifying Mortgage)\n\nDocument Requirements:\nPassport | ITIN Letter | 2 Year Tax Returns | 2 months Bank Statements \nDown Payment Requirements:\nStandard CONVENTIONAL 5% down (Must be self employed)\n15% down on all NON QM options (Bank Statement Loan\, Profit and Loss\, W2 income)
URL:https://durhamrealtors.org/event/latino-mortgage-panel-drar/
LOCATION:REALTOR® Square at DRAR\, 4236 University Drive\, Durham\, NC\, 27707\, United States
GEO:35.9626463;-78.9610398
X-APPLE-STRUCTURED-LOCATION;VALUE=URI;X-ADDRESS=REALTOR® Square at DRAR 4236 University Drive Durham NC 27707 United States;X-APPLE-RADIUS=500;X-TITLE=4236 University Drive:geo:-78.9610398,35.9626463
END:VEVENT
BEGIN:VEVENT
DTSTART;TZID=America/New_York:20240617T140000
DTEND;TZID=America/New_York:20240617T150000
DTSTAMP:20260425T070345
CREATED:20231221T163015Z
LAST-MODIFIED:20240503T104016Z
UID:13454-1718632800-1718636400@durhamrealtors.org
SUMMARY:DRAR Board of Directors Meeting
DESCRIPTION:
URL:https://durhamrealtors.org/event/drar-board-of-directors-meeting-10/
LOCATION:REALTOR® Square at DRAR\, 4236 University Drive\, Durham\, NC\, 27707\, United States
GEO:35.9626463;-78.9610398
X-APPLE-STRUCTURED-LOCATION;VALUE=URI;X-ADDRESS=REALTOR® Square at DRAR 4236 University Drive Durham NC 27707 United States;X-APPLE-RADIUS=500;X-TITLE=4236 University Drive:geo:-78.9610398,35.9626463
END:VEVENT
BEGIN:VEVENT
DTSTART;TZID=America/New_York:20240613T130000
DTEND;TZID=America/New_York:20240613T150000
DTSTAMP:20260425T070345
CREATED:20240604T120023Z
LAST-MODIFIED:20240607T125306Z
UID:13977-1718283600-1718290800@durhamrealtors.org
SUMMARY:FREE FlexMLS Training @ DRAR
DESCRIPTION:AFTERNOON SESSION\nREGISTER\n1:00 – 2:00 – Auto Emails\, Client Portal\, Contact Activity\n2:00 – 3:00 – Flexmls Pro App
URL:https://durhamrealtors.org/event/free-flexmls-training-drar-2/
LOCATION:REALTOR® Square at DRAR\, 4236 University Drive\, Durham\, NC\, 27707\, United States
ORGANIZER;CN="Triangle Multiple Listing Service":MAILTO:RachelW@TriangleMLS.com
GEO:35.9626463;-78.9610398
X-APPLE-STRUCTURED-LOCATION;VALUE=URI;X-ADDRESS=REALTOR® Square at DRAR 4236 University Drive Durham NC 27707 United States;X-APPLE-RADIUS=500;X-TITLE=4236 University Drive:geo:-78.9610398,35.9626463
END:VEVENT
BEGIN:VEVENT
DTSTART;TZID=America/New_York:20240613T100000
DTEND;TZID=America/New_York:20240613T120000
DTSTAMP:20260425T070345
CREATED:20240604T115910Z
LAST-MODIFIED:20240607T125336Z
UID:13975-1718272800-1718280000@durhamrealtors.org
SUMMARY:FREE FlexMLS Training @ DRAR
DESCRIPTION:MORNING SESSION\nREGISTER\n10:00 – 10:45 AM – Listing Manager\n10:45 – 12:00 PM – Getting Started in Flexmls
URL:https://durhamrealtors.org/event/free-flexmls-training-drar/
LOCATION:REALTOR® Square at DRAR\, 4236 University Drive\, Durham\, NC\, 27707\, United States
GEO:35.9626463;-78.9610398
X-APPLE-STRUCTURED-LOCATION;VALUE=URI;X-ADDRESS=REALTOR® Square at DRAR 4236 University Drive Durham NC 27707 United States;X-APPLE-RADIUS=500;X-TITLE=4236 University Drive:geo:-78.9610398,35.9626463
END:VEVENT
BEGIN:VEVENT
DTSTART;TZID=America/New_York:20240612T093000
DTEND;TZID=America/New_York:20240612T103000
DTSTAMP:20260425T070345
CREATED:20231221T162209Z
LAST-MODIFIED:20231221T162209Z
UID:13430-1718184600-1718188200@durhamrealtors.org
SUMMARY:DRAR Executive Committee Meeting
DESCRIPTION:
URL:https://durhamrealtors.org/event/drar-executive-committee-meeting-9/
LOCATION:REALTOR® Square at DRAR\, 4236 University Drive\, Durham\, NC\, 27707\, United States
GEO:35.9626463;-78.9610398
X-APPLE-STRUCTURED-LOCATION;VALUE=URI;X-ADDRESS=REALTOR® Square at DRAR 4236 University Drive Durham NC 27707 United States;X-APPLE-RADIUS=500;X-TITLE=4236 University Drive:geo:-78.9610398,35.9626463
END:VEVENT
BEGIN:VEVENT
DTSTART;TZID=America/New_York:20240611T150000
DTEND;TZID=America/New_York:20240611T160000
DTSTAMP:20260425T070345
CREATED:20240503T104411Z
LAST-MODIFIED:20240503T104411Z
UID:13890-1718118000-1718121600@durhamrealtors.org
SUMMARY:Community Service Committee Meeting
DESCRIPTION:Interested in attending? \nPlease fill out the 2024 Committee Sign Up Form \nThe strength of the Durham Regional Association of REALTORS® is the involvement of its members. \nYour participation is welcomed and encouraged!
URL:https://durhamrealtors.org/event/community-service-committee-meeting-3/
LOCATION:REALTOR® Square at DRAR\, 4236 University Drive\, Durham\, NC\, 27707\, United States
GEO:35.9626463;-78.9610398
X-APPLE-STRUCTURED-LOCATION;VALUE=URI;X-ADDRESS=REALTOR® Square at DRAR 4236 University Drive Durham NC 27707 United States;X-APPLE-RADIUS=500;X-TITLE=4236 University Drive:geo:-78.9610398,35.9626463
END:VEVENT
BEGIN:VEVENT
DTSTART;TZID=America/New_York:20240611T130000
DTEND;TZID=America/New_York:20240611T150000
DTSTAMP:20260425T070345
CREATED:20240606T145333Z
LAST-MODIFIED:20240607T125035Z
UID:14002-1718110800-1718118000@durhamrealtors.org
SUMMARY:FREE Flexmls Training @ 79* West
DESCRIPTION:AFTERNOON SESSION\nREGISTER\n1:00 – 2:00 – Auto Emails\, Client Portal\, Contact Activity\n2:00 – 3:00 – Flexmls Pro App
URL:https://durhamrealtors.org/event/free-flexmls-training-79-west-2/
LOCATION:79 Degrees West\, 120 Mosaic Blvd\, Suite 120\, Pittsboro\, NC\, 27312\, United States
ORGANIZER;CN="Triangle Multiple Listing Service":MAILTO:RachelW@TriangleMLS.com
END:VEVENT
BEGIN:VEVENT
DTSTART;TZID=America/New_York:20240611T100000
DTEND;TZID=America/New_York:20240611T120000
DTSTAMP:20260425T070345
CREATED:20240606T145159Z
LAST-MODIFIED:20240607T125134Z
UID:13999-1718100000-1718107200@durhamrealtors.org
SUMMARY:FREE Flexmls Training @ 79* West
DESCRIPTION:MORNING SESSION\nREGISTER\n10:00 – 10:45 AM – Listing Manager\n10:45 – 12:00 PM – Getting Started in Flexmls \n 
URL:https://durhamrealtors.org/event/free-flexmls-training-79-west/
LOCATION:79 Degrees West\, 120 Mosaic Blvd\, Suite 120\, Pittsboro\, NC\, 27312\, United States
ORGANIZER;CN="Triangle Multiple Listing Service":MAILTO:RachelW@TriangleMLS.com
END:VEVENT
BEGIN:VEVENT
DTSTART;TZID=America/New_York:20240610T130000
DTEND;TZID=America/New_York:20240610T140000
DTSTAMP:20260425T070345
CREATED:20240606T144552Z
LAST-MODIFIED:20240826T123230Z
UID:13997-1718024400-1718028000@durhamrealtors.org
SUMMARY:FREE Flexmls Training @ RRAR
DESCRIPTION:AFTERNOON SESSION\nREGISTER\n1:00 – 2:00 – Auto Emails\, Client Portal\, Contact Activity\n2:00 – 3:00 – Flexmls Pro App
URL:https://durhamrealtors.org/event/free-flexmls-training-rrar-2/
LOCATION:Raleigh Regional Association of REALTORS\, 111 Realtors Way\, Cary\, NC\, 27513\, United States
ORGANIZER;CN="Triangle Multiple Listing Service":MAILTO:RachelW@TriangleMLS.com
END:VEVENT
BEGIN:VEVENT
DTSTART;TZID=America/New_York:20240610T100000
DTEND;TZID=America/New_York:20240610T120000
DTSTAMP:20260425T070345
CREATED:20240606T144324Z
LAST-MODIFIED:20240607T125235Z
UID:13995-1718013600-1718020800@durhamrealtors.org
SUMMARY:FREE Flexmls Training @ RRAR
DESCRIPTION:MORNING SESSION\nREGISTER\n10:00 – 10:45 AM – Listing Manager\n10:45 – 12:00 PM – Getting Started in Flexmls \n 
URL:https://durhamrealtors.org/event/free-flexmls-training-rrar/
LOCATION:Raleigh Regional Association of REALTORS\, 111 Realtors Way\, Cary\, NC\, 27513\, United States
ORGANIZER;CN="Triangle Multiple Listing Service":MAILTO:RachelW@TriangleMLS.com
END:VEVENT
BEGIN:VEVENT
DTSTART;VALUE=DATE:20240610
DTEND;VALUE=DATE:20240611
DTSTAMP:20260425T070345
CREATED:20240520T142036Z
LAST-MODIFIED:20240520T142036Z
UID:13937-1717977600-1718063999@durhamrealtors.org
SUMMARY:DEADLINE: UPDATE + ELECTIVE CE
DESCRIPTION:
URL:https://durhamrealtors.org/event/deadline-update-elective-ce/
LOCATION:NC
END:VEVENT
BEGIN:VEVENT
DTSTART;TZID=America/New_York:20240606T083000
DTEND;TZID=America/New_York:20240606T113000
DTSTAMP:20260425T070345
CREATED:20231221T160148Z
LAST-MODIFIED:20231221T160148Z
UID:13405-1717662600-1717673400@durhamrealtors.org
SUMMARY:New Member Orientation
DESCRIPTION:8:45am:   Check In\, Sponsored Refreshments & Pictures\n9:00am:   Welcome\, Pathways to Professionalism and Getting Started\n9:30am:   Getting Acquainted with the REALTOR® Organization – Local & State\n10:15am:  Sponsor Intro\n10:20am:  Break\n10:30am:  Upcoming Events\n10:40am:  Website & Social Media\n10:50am:  COE and Oath\n11:00am:  Closing Comments\n11:15am:  End time (estimate)
URL:https://durhamrealtors.org/event/new-member-orientation-3-2024-06-06/
LOCATION:REALTOR® Square at DRAR\, 4236 University Drive\, Durham\, NC\, 27707\, United States
GEO:35.9626463;-78.9610398
X-APPLE-STRUCTURED-LOCATION;VALUE=URI;X-ADDRESS=REALTOR® Square at DRAR 4236 University Drive Durham NC 27707 United States;X-APPLE-RADIUS=500;X-TITLE=4236 University Drive:geo:-78.9610398,35.9626463
END:VEVENT
BEGIN:VEVENT
DTSTART;TZID=America/New_York:20240605T080000
DTEND;TZID=America/New_York:20240605T130000
DTSTAMP:20260425T070345
CREATED:20240604T111917Z
LAST-MODIFIED:20240604T111917Z
UID:13973-1717574400-1717592400@durhamrealtors.org
SUMMARY:NC REALTORS® Legislative Meetings\, Raleigh
DESCRIPTION:REGISTER (please note if you’d like to ride the bus) \nDRAR has arranged to have a private room to meet with our local legislators during this time. Talking Points will be provided. \nBus departs at 8:15 AM sharp from DRAR parking lot \nBus returns to DRAR parking lot around 1 pm. \nRegister to attend North Carolina Realtors® Legislative Meetings June 2 – 5
URL:https://durhamrealtors.org/event/nc-realtors-legislative-meetings-raleigh-2/
LOCATION:NC Legislative Building – Raleigh\, NC\, 16 W Jones St \, Raleigh\, NC\, 27601\, United States
GEO:35.7832233;-78.6389527
X-APPLE-STRUCTURED-LOCATION;VALUE=URI;X-ADDRESS=NC Legislative Building – Raleigh NC 16 W Jones St  Raleigh NC 27601 United States;X-APPLE-RADIUS=500;X-TITLE=16 W Jones St:geo:-78.6389527,35.7832233
END:VEVENT
END:VCALENDAR