BEGIN:VCALENDAR
VERSION:2.0
PRODID:-//Durham Regional Assc of Realtors - ECPv6.15.16//NONSGML v1.0//EN
CALSCALE:GREGORIAN
METHOD:PUBLISH
X-WR-CALNAME:Durham Regional Assc of Realtors
X-ORIGINAL-URL:https://durhamrealtors.org
X-WR-CALDESC:Events for Durham Regional Assc of Realtors
REFRESH-INTERVAL;VALUE=DURATION:PT1H
X-Robots-Tag:noindex
X-PUBLISHED-TTL:PT1H
BEGIN:VTIMEZONE
TZID:America/New_York
BEGIN:DAYLIGHT
TZOFFSETFROM:-0500
TZOFFSETTO:-0400
TZNAME:EDT
DTSTART:20220313T070000
END:DAYLIGHT
BEGIN:STANDARD
TZOFFSETFROM:-0400
TZOFFSETTO:-0500
TZNAME:EST
DTSTART:20221106T060000
END:STANDARD
BEGIN:DAYLIGHT
TZOFFSETFROM:-0500
TZOFFSETTO:-0400
TZNAME:EDT
DTSTART:20230312T070000
END:DAYLIGHT
BEGIN:STANDARD
TZOFFSETFROM:-0400
TZOFFSETTO:-0500
TZNAME:EST
DTSTART:20231105T060000
END:STANDARD
BEGIN:DAYLIGHT
TZOFFSETFROM:-0500
TZOFFSETTO:-0400
TZNAME:EDT
DTSTART:20240310T070000
END:DAYLIGHT
BEGIN:STANDARD
TZOFFSETFROM:-0400
TZOFFSETTO:-0500
TZNAME:EST
DTSTART:20241103T060000
END:STANDARD
END:VTIMEZONE
BEGIN:VEVENT
DTSTART;TZID=America/New_York:20230523T133000
DTEND;TZID=America/New_York:20230523T173000
DTSTAMP:20260426T003127
CREATED:20230306T130316Z
LAST-MODIFIED:20230306T130330Z
UID:12354-1684848600-1684863000@durhamrealtors.org
SUMMARY:#1868 Brokers Behaving Badly (In-Person) @ DRAR
DESCRIPTION:REGISTER \nWhat are the top 10 complaints the NCREC receives? \nWhen it’s easier than ever to file a complaint\, it’s important to know what the NCREC is looking at and\, more importantly\, what actions result in agent discipline. \nStay off the back of the Bulletin and out of real estate jail! \n \nInstructor: Chris Barnette\n* Teaching since 2005; currently a BIC in Apex.\n* Learned from top instructors\, such as Tom Mangum\, George Bell\, Kim Frye\, Bill Gallagher\n* Formed the Go School of Real Estate \, one of NC’s top RE schools \nNOTE: This class will be taught IN PERSON at 4236 University Drive\, Durham NC. \nThis 4-hour NCREC-approved ELECTIVECOURSE must be completed by June 10\, 2023 along with either the BICUP (if a BIC or BIC-Eligible\,) or the General Update (GENUP) if a general broker. \nCANCELLATION POLICY:  There will be no refunds; however\, you may transfer to another upcoming course subject to space availability\, if notice is given at least 48 hours prior to scheduled class. A $15.00 re-scheduling fee will be charged\, subject to class availability. \nDurham Regional Association of REALTORS® is the North Carolina Real Estate Commission’s Education Provider #1596
URL:https://durhamrealtors.org/event/1868-brokers-behaving-badly-in-person/
LOCATION:REALTOR® Square at DRAR\, 4236 University Drive\, Durham\, NC\, 27707\, United States
GEO:35.9626463;-78.9610398
X-APPLE-STRUCTURED-LOCATION;VALUE=URI;X-ADDRESS=REALTOR® Square at DRAR 4236 University Drive Durham NC 27707 United States;X-APPLE-RADIUS=500;X-TITLE=4236 University Drive:geo:-78.9610398,35.9626463
END:VEVENT
BEGIN:VEVENT
DTSTART;TZID=America/New_York:20230523T083000
DTEND;TZID=America/New_York:20230523T123000
DTSTAMP:20260426T003127
CREATED:20230306T130046Z
LAST-MODIFIED:20230306T130511Z
UID:12350-1684830600-1684845000@durhamrealtors.org
SUMMARY:#9923 In-Person GENUP @ DRAR
DESCRIPTION:REGISTER \nTopics: Material Facts | Dual Agency | BIC Responsibilities | Law & Rules Updates | Licensing & Education \n \nInstructor: Chris Barnette \n* Teaching since 2005; currently a BIC in Apex.\n* Learned from top instructors\, such as Tom Mangum\, George Bell\, Kim Frye\, Bill Gallagher\n* Formed the Go School of Real Estate \, one of NC’s top RE schools \nNOTE: This class will be taught IN PERSON at 4236 University Drive\, Durham NC. \nThis 2022-2023 GENUP COURSE must be completed by June 10\, 2023.  If you are a BIC or BIC-Eligible\, you will not receive credit for this GENUP  course. BICS must take the Broker-in-Charge Update (BICUP) course #8823 along with a 4-hour CE elective. \nCANCELLATION POLICY:  There will be no refunds; however\, you may transfer to another upcoming course subject to space availability\, if notice is given at least 48 hours prior to scheduled class. A $15.00 re-scheduling fee will be charged\, subject to class availability. \nDurham Regional Association of REALTORS® is the North Carolina Real Estate Commission’s Education Provider #1596
URL:https://durhamrealtors.org/event/9923-in-person-genup-drar-3/
LOCATION:REALTOR® Square at DRAR\, 4236 University Drive\, Durham\, NC\, 27707\, United States
GEO:35.9626463;-78.9610398
X-APPLE-STRUCTURED-LOCATION;VALUE=URI;X-ADDRESS=REALTOR® Square at DRAR 4236 University Drive Durham NC 27707 United States;X-APPLE-RADIUS=500;X-TITLE=4236 University Drive:geo:-78.9610398,35.9626463
END:VEVENT
BEGIN:VEVENT
DTSTART;TZID=America/New_York:20230520T120000
DTEND;TZID=America/New_York:20230520T160000
DTSTAMP:20260426T003127
CREATED:20230512T130112Z
LAST-MODIFIED:20230512T130112Z
UID:12611-1684584000-1684598400@durhamrealtors.org
SUMMARY:Preservation Durham: Annual Home Tour II
DESCRIPTION:REGISTER – Ticket price $32.25 \nPurchased ticket pick-up at 318 South Driver Street during tour hours \nThe tour is scheduled for the weekend of May 20 and 21\, from noon until 4:00pm each day. Your ticket will include both days so you can visit all the houses at your own pace. Tour-goer will receive a tour booklet describing each house and its history.
URL:https://durhamrealtors.org/event/preservation-durham-annual-home-tour-ii/2023-05-20/
LOCATION:318 South Driver St\, Durham NC\, Durham\, NC\, United States
END:VEVENT
BEGIN:VEVENT
DTSTART;TZID=America/New_York:20230518T100000
DTEND;TZID=America/New_York:20230518T120000
DTSTAMP:20260426T003127
CREATED:20230406T143543Z
LAST-MODIFIED:20230417T122028Z
UID:12499-1684404000-1684411200@durhamrealtors.org
SUMMARY:Historic Stagville Tour - DEI Committee
DESCRIPTION:REGISTER \nThe DEI Committee invites you to join them!\nThis event is sponsored by Chris Holt\, Guaranteed Rate.
URL:https://durhamrealtors.org/event/tour-stagville-plantation/
LOCATION:Stagville Plantation\, 5828 Old Oxford Highway\, Durham\, NC\, 27712\, United States
END:VEVENT
BEGIN:VEVENT
DTSTART;TZID=America/New_York:20230518T080000
DTEND;TZID=America/New_York:20230518T100000
DTSTAMP:20260426T003127
CREATED:20230420T122207Z
LAST-MODIFIED:20230420T122207Z
UID:12547-1684396800-1684404000@durhamrealtors.org
SUMMARY:2023 NCDOT Update
DESCRIPTION:REGISTER ($25 off with code: DRAR) \nBreakfast & Networking 8:00 – 8:30am\nPresentation 8:30 – 10:00am \nHear from division engineer Brandon Jones at the DOT with updates regarding current active projects\, upcoming projects\, and other ideas in the pipeline \n\nLocation:\n\nThe McKimmon Conference & Training Center\n1101 Gorman Street\nRaleigh NC 27606\n\n\n\n\n\n\n\n\nContact Information:\n\nKristina Ellis\nSend an Email\n\n\n\nFees/Admission:\n\nTriangle Community Coalition Members: $50\nNonmembers: $75 ($25 off with code DRAR)
URL:https://durhamrealtors.org/event/2023-ncdot-update/
LOCATION:McKimmon Conference & Training Center\, 1101 Gorman Street\, RALEIGH\, NC\, 27606\, United States
END:VEVENT
BEGIN:VEVENT
DTSTART;TZID=America/New_York:20230517T093000
DTEND;TZID=America/New_York:20230517T103000
DTSTAMP:20260426T003127
CREATED:20230103T142820Z
LAST-MODIFIED:20230103T145425Z
UID:12000-1684315800-1684319400@durhamrealtors.org
SUMMARY:DRAR Board of Directors Meeting
DESCRIPTION:
URL:https://durhamrealtors.org/event/drar-board-of-directors-meeting-4-2023-05-10/
LOCATION:REALTOR® Square at DRAR\, 4236 University Drive\, Durham\, NC\, 27707\, United States
GEO:35.9626463;-78.9610398
X-APPLE-STRUCTURED-LOCATION;VALUE=URI;X-ADDRESS=REALTOR® Square at DRAR 4236 University Drive Durham NC 27707 United States;X-APPLE-RADIUS=500;X-TITLE=4236 University Drive:geo:-78.9610398,35.9626463
END:VEVENT
BEGIN:VEVENT
DTSTART;TZID=America/New_York:20230515T100000
DTEND;TZID=America/New_York:20230515T110000
DTSTAMP:20260426T003127
CREATED:20230106T134439Z
LAST-MODIFIED:20230106T134439Z
UID:12053-1684144800-1684148400@durhamrealtors.org
SUMMARY:Free TMLS Chat: New Brokers ... What Now?
DESCRIPTION:New Agent Steps and TMLS Tools \nREGISTER
URL:https://durhamrealtors.org/event/free-tmls-chat-new-brokers-what-now-2/
LOCATION:ZOOM Webinar\, NC\, United States
ORGANIZER;CN="Triangle Multiple Listing Service":MAILTO:RachelW@TriangleMLS.com
END:VEVENT
BEGIN:VEVENT
DTSTART;VALUE=DATE:20230515
DTEND;VALUE=DATE:20230516
DTSTAMP:20260426T003127
CREATED:20230403T105550Z
LAST-MODIFIED:20230403T105550Z
UID:12468-1684108800-1684195199@durhamrealtors.org
SUMMARY:License Renewal with NCREC
DESCRIPTION:https://www.ncrec.gov/ \nBrokers must pay NCREC’s annual renewal fee before June 30th at 11:59pm or license will expire.
URL:https://durhamrealtors.org/event/license-renewal-with-ncrec/
LOCATION:NC Real Estate Commission\, 1313 Navaho Drive\, Raleigh\, 27609
END:VEVENT
BEGIN:VEVENT
DTSTART;TZID=America/New_York:20230511T130000
DTEND;TZID=America/New_York:20230511T140000
DTSTAMP:20260426T003127
CREATED:20230106T134328Z
LAST-MODIFIED:20230106T134328Z
UID:12051-1683810000-1683813600@durhamrealtors.org
SUMMARY:Free TMLS Chat: New Brokers ... What Now?
DESCRIPTION:New Agent steps and TMLS Tools \nREGISTER
URL:https://durhamrealtors.org/event/free-tmls-chat-new-brokers-what-now/
LOCATION:ZOOM Webinar\, NC\, United States
ORGANIZER;CN="Triangle Multiple Listing Service":MAILTO:RachelW@TriangleMLS.com
END:VEVENT
BEGIN:VEVENT
DTSTART;TZID=America/New_York:20230511T100000
DTEND;TZID=America/New_York:20230511T110000
DTSTAMP:20260426T003127
CREATED:20230406T142917Z
LAST-MODIFIED:20230406T142917Z
UID:12495-1683799200-1683802800@durhamrealtors.org
SUMMARY:LGBTQ+ You Know Your WHY\, What's Your WHO (via Zoom)
DESCRIPTION:REGISTER
URL:https://durhamrealtors.org/event/lgbtq-you-know-your-why-whats-your-who-via-zoom/
LOCATION:ZOOM Webinar\, NC\, United States
END:VEVENT
BEGIN:VEVENT
DTSTART;TZID=America/New_York:20230510T100000
DTEND;TZID=America/New_York:20230510T123000
DTSTAMP:20260426T003127
CREATED:20230426T113915Z
LAST-MODIFIED:20230426T125607Z
UID:12553-1683712800-1683721800@durhamrealtors.org
SUMMARY:Fair Housing Simulation
DESCRIPTION:REGISTER \nJoin OCHAR Diversity & Fair Housing Committee for their in-person Fairhaven event. Great opportunity for Members to come together and share discussions as we complete the simulation together. Thanks to our wonderful & generous sponsors\, morning refreshments and lunch will be provided to attendees. \nComputer required to access Fair Haven simulation
URL:https://durhamrealtors.org/event/fair-housing-simulation-ochar/
LOCATION:Berkshire Hathaway HomeServices\, 404 Meadowmont Village Circle\, CHAPEL HILL\, NC\, 27517\, United States
END:VEVENT
BEGIN:VEVENT
DTSTART;TZID=America/New_York:20230504T180000
DTEND;TZID=America/New_York:20230504T210000
DTSTAMP:20260426T003127
CREATED:20230327T144039Z
LAST-MODIFIED:20230417T121743Z
UID:12446-1683223200-1683234000@durhamrealtors.org
SUMMARY:RPAC Cinco de Mayo Eve Invest Celebration!
DESCRIPTION:CLICK HERE to invest \nInvest $30 RPAC Entry ticket – includes 1-drink\, appetizers\, concert by The Hallicasters. \n \nMEMBER OFFICES  will be recognized at this event if part of Bert Woodall’s 100% RPAC Investment Club. Join this Cinco-de-Mayo celebration for $30 entry.
URL:https://durhamrealtors.org/event/rpac-cinco-de-mayo-eve-invest-celebration/
LOCATION:The Blue Note Grill\, 709 Washington Street\, Durham\, NC\, 27701\, United States
END:VEVENT
BEGIN:VEVENT
DTSTART;TZID=America/New_York:20230503T150000
DTEND;TZID=America/New_York:20230503T160000
DTSTAMP:20260426T003127
CREATED:20230414T130549Z
LAST-MODIFIED:20230414T130549Z
UID:12526-1683126000-1683129600@durhamrealtors.org
SUMMARY:Frank Ward Speaker Series: Nicole J. Thompson
DESCRIPTION:REGISTER
URL:https://durhamrealtors.org/event/frank-ward-speaker-series-nicole-j-thompson/
LOCATION:REALTOR® Square at DRAR\, 4236 University Drive\, Durham\, NC\, 27707\, United States
GEO:35.9626463;-78.9610398
X-APPLE-STRUCTURED-LOCATION;VALUE=URI;X-ADDRESS=REALTOR® Square at DRAR 4236 University Drive Durham NC 27707 United States;X-APPLE-RADIUS=500;X-TITLE=4236 University Drive:geo:-78.9610398,35.9626463
END:VEVENT
BEGIN:VEVENT
DTSTART;TZID=America/New_York:20230429T120000
DTEND;TZID=America/New_York:20230429T170000
DTSTAMP:20260426T003127
CREATED:20230412T131634Z
LAST-MODIFIED:20230412T131729Z
UID:12511-1682769600-1682787600@durhamrealtors.org
SUMMARY:High Performance Home Tour
DESCRIPTION:Self-guided\, no registration required.  For more information: https://www.highperformancehometour.org/
URL:https://durhamrealtors.org/event/high-performance-home-tour/2023-04-29/
LOCATION:Triangle NC\, NC\, United States
END:VEVENT
BEGIN:VEVENT
DTSTART;TZID=America/New_York:20230427T170000
DTEND;TZID=America/New_York:20230427T190000
DTSTAMP:20260426T003127
CREATED:20230410T143123Z
LAST-MODIFIED:20230410T143123Z
UID:12508-1682614800-1682622000@durhamrealtors.org
SUMMARY:Ronald McDonald House - Dinner Delivery
DESCRIPTION:Community Service Committee
URL:https://durhamrealtors.org/event/ronald-mcdonald-house-dinner-delivery/
LOCATION:Ronald McDonald House of Durham\, 506 Alexander Ave\, Durham\, NC\, 27705\, United States
GEO:36.0015628;-78.9275753
X-APPLE-STRUCTURED-LOCATION;VALUE=URI;X-ADDRESS=Ronald McDonald House of Durham 506 Alexander Ave Durham NC 27705 United States;X-APPLE-RADIUS=500;X-TITLE=506 Alexander Ave:geo:-78.9275753,36.0015628
END:VEVENT
BEGIN:VEVENT
DTSTART;TZID=America/New_York:20230427T100000
DTEND;TZID=America/New_York:20230427T110000
DTSTAMP:20260426T003127
CREATED:20230103T141930Z
LAST-MODIFIED:20230522T135714Z
UID:11957-1682589600-1682593200@durhamrealtors.org
SUMMARY:Diversity\, Equity\, & Inclusion (DEI) Meeting
DESCRIPTION:Interested in attending? \nPlease fill out the 2023 Committee Signup Sheet and email it to:  Services@durhamrealtors.org \nThe strength of the Durham Regional Association of REALTORS® is the involvement of its members. \nYour participation is welcomed and encouraged!
URL:https://durhamrealtors.org/event/diversity-equity-inclusion-dei-meeting-2023-04-27/2023-04-27/
LOCATION:ZOOM Webinar\, NC\, United States
END:VEVENT
BEGIN:VEVENT
DTSTART;TZID=America/New_York:20230426T090000
DTEND;TZID=America/New_York:20230426T100000
DTSTAMP:20260426T003127
CREATED:20221230T140757Z
LAST-MODIFIED:20221230T140757Z
UID:11893-1682499600-1682503200@durhamrealtors.org
SUMMARY:Independent Brokerage Council (IBC)
DESCRIPTION:Is your brokerage a smaller\, non-franchise firm? \nThis Council will provide support\, networking\, and opportunities to exchange business savvy ideas with owners\, BICs\, and Principal Brokers of other small\, non-franchise firms. We will discuss current rule and industry changes\, and technology offerings from DRAR\, TMLS\, and our other partners. Members should be licensed and active real estate professionals of independent (non-national franchise) firms dedicated to the real estate industry\, and passionate about exploring new ways to learn and grow for their firm and brokers. \nAnnual Term: 1|1|23 – 12|31|23\nAnnual Dues: $ 50 per member – Dues will pay for refreshments and any costs associated with this group’s events.\nMONTHLY MEETINGS: Every 4th Wednesday\, 9-10am at DRAR with select industry speakers \nDOWNLOAD APPLICATION: CLICK HERE \nContact Justin Burleson\, IBC Chair\, for questions:  Justin@PremierAgentsNetwork.com
URL:https://durhamrealtors.org/event/independent-brokerage-council-ibc-4/
LOCATION:REALTOR® Square at DRAR\, 4236 University Drive\, Durham\, NC\, 27707\, United States
GEO:35.9626463;-78.9610398
X-APPLE-STRUCTURED-LOCATION;VALUE=URI;X-ADDRESS=REALTOR® Square at DRAR 4236 University Drive Durham NC 27707 United States;X-APPLE-RADIUS=500;X-TITLE=4236 University Drive:geo:-78.9610398,35.9626463
END:VEVENT
BEGIN:VEVENT
DTSTART;TZID=America/New_York:20230421T110000
DTEND;TZID=America/New_York:20230421T120000
DTSTAMP:20260426T003127
CREATED:20230406T141057Z
LAST-MODIFIED:20230406T141057Z
UID:12492-1682074800-1682078400@durhamrealtors.org
SUMMARY:When Fair Housing Comes Home (via Zoom)
DESCRIPTION:REGISTER
URL:https://durhamrealtors.org/event/when-fair-housing-comes-home-via-zoom/
LOCATION:ZOOM Webinar\, NC\, United States
END:VEVENT
BEGIN:VEVENT
DTSTART;TZID=America/New_York:20230420T113000
DTEND;TZID=America/New_York:20230420T133000
DTSTAMP:20260426T003127
CREATED:20230207T155101Z
LAST-MODIFIED:20230418T151635Z
UID:12184-1681990200-1681997400@durhamrealtors.org
SUMMARY:Member Luncheon: Fair Housing
DESCRIPTION:Registration Closed \n \nNote in the Pocket Most Needed Items: \n\nMen’s underwear – all sizes\nMen’s joggers/sweatpants – all sizes\nBoys t-shirts (long & short sleeve) – all sizes\nGirls t-shirts (short sleeve) – all sizes\nWomen’s short sleeve tops- size Medium+\nWish List Easy Purchase on Amazon – CLICK HERE\nCash Donations: CLICK HERE\n\n10th Annual Socks & Undie 5k “Rundie” Run/Walk  CLICK HERE
URL:https://durhamrealtors.org/event/member-luncheon-fair-housing-2/
LOCATION:Croasdaile Country Club\, 3800 Farm Gate Ave\, Durham\, NC\, 27705\, United States
END:VEVENT
BEGIN:VEVENT
DTSTART;TZID=America/New_York:20230419T093000
DTEND;TZID=America/New_York:20230419T103000
DTSTAMP:20260426T003127
CREATED:20230103T142820Z
LAST-MODIFIED:20230103T145454Z
UID:11999-1681896600-1681900200@durhamrealtors.org
SUMMARY:DRAR Board of Directors Meeting
DESCRIPTION:
URL:https://durhamrealtors.org/event/drar-board-of-directors-meeting-4-2023-04-12/
LOCATION:REALTOR® Square at DRAR\, 4236 University Drive\, Durham\, NC\, 27707\, United States
GEO:35.9626463;-78.9610398
X-APPLE-STRUCTURED-LOCATION;VALUE=URI;X-ADDRESS=REALTOR® Square at DRAR 4236 University Drive Durham NC 27707 United States;X-APPLE-RADIUS=500;X-TITLE=4236 University Drive:geo:-78.9610398,35.9626463
END:VEVENT
BEGIN:VEVENT
DTSTART;TZID=America/New_York:20230418T140000
DTEND;TZID=America/New_York:20230418T150000
DTSTAMP:20260426T003127
CREATED:20230406T155306Z
LAST-MODIFIED:20230406T155306Z
UID:12505-1681826400-1681830000@durhamrealtors.org
SUMMARY:Why Now is the Time to Buy (via Zoom)
DESCRIPTION:REGISTER \nJoin Dave Stevens as he shares real market data as to Why Now is the Time to Buy and how we can use this data to provide value and expert guidance to our clients.
URL:https://durhamrealtors.org/event/why-now-is-the-time-to-buy-via-zoom/
LOCATION:ZOOM Webinar\, NC\, United States
END:VEVENT
BEGIN:VEVENT
DTSTART;TZID=America/New_York:20230418T083000
DTEND;TZID=America/New_York:20230418T153000
DTSTAMP:20260426T003127
CREATED:20230327T184304Z
LAST-MODIFIED:20230327T184312Z
UID:12453-1681806600-1681831800@durhamrealtors.org
SUMMARY:Real Estate BarCamp RDU!
DESCRIPTION:A one day event lead by participants who share best practices\, learn about innovative tools\, and network! \nCLICK HERE for tickets and to learn more (or use QR Code below)
URL:https://durhamrealtors.org/event/real-estate-barcamp-rdu/
LOCATION:Cary Arts Center\, 101 Dry Ave\, Cary\, NC\, 27511\, United States
END:VEVENT
BEGIN:VEVENT
DTSTART;TZID=America/New_York:20230417T100000
DTEND;TZID=America/New_York:20230417T110000
DTSTAMP:20260426T003127
CREATED:20230106T134157Z
LAST-MODIFIED:20230106T134157Z
UID:12049-1681725600-1681729200@durhamrealtors.org
SUMMARY:Free TMLS Chat: The un-CMA: How to Price Your Listing
DESCRIPTION:Price analysis in Paragon\, RPR’s RVM\, ShowingTime Reports\, Homesnap \nREGISTER
URL:https://durhamrealtors.org/event/free-tmls-chat-the-un-cma-how-to-price-your-listing-2/
LOCATION:ZOOM Webinar\, NC\, United States
ORGANIZER;CN="Triangle Multiple Listing Service":MAILTO:RachelW@TriangleMLS.com
END:VEVENT
BEGIN:VEVENT
DTSTART;TZID=America/New_York:20230415T100000
DTEND;TZID=America/New_York:20230415T140000
DTSTAMP:20260426T003127
CREATED:20230322T120611Z
LAST-MODIFIED:20230322T123605Z
UID:12422-1681552800-1681567200@durhamrealtors.org
SUMMARY:TRIBOR: Community Day
DESCRIPTION:REGISTER
URL:https://durhamrealtors.org/event/tribor-community-day/
LOCATION:Sheraton Imperial Hotel\, 4700 Emperor Blvd\, Durham\, NC\, United States
END:VEVENT
BEGIN:VEVENT
DTSTART;TZID=America/New_York:20230414T180000
DTEND;TZID=America/New_York:20230414T210000
DTSTAMP:20260426T003127
CREATED:20230322T120328Z
LAST-MODIFIED:20230322T123838Z
UID:12418-1681495200-1681506000@durhamrealtors.org
SUMMARY:TRIBOR: Women in Real Estate (WIRE)
DESCRIPTION:REGISTER
URL:https://durhamrealtors.org/event/tribor-women-in-real-estate-wire/
LOCATION:The West Room\, 6405 Westgate Road\, RALEIGH\, NC\, United States
END:VEVENT
BEGIN:VEVENT
DTSTART;TZID=America/New_York:20230413T140000
DTEND;TZID=America/New_York:20230413T150000
DTSTAMP:20260426T003127
CREATED:20230103T142048Z
LAST-MODIFIED:20230330T144922Z
UID:11970-1681394400-1681398000@durhamrealtors.org
SUMMARY:Property Mgmt Mtg @ Durham Courthouse 9th Fl
DESCRIPTION:Meeting will be in the Judicial Conference Room \nAgenda includes: \n\nAttorney Julian Hall will cover Eviction Changes and Strategies\nJudge Jones will address issues in court proceedings\n\n  \nInterested in attending? \nPlease fill out the 2023 Committee Signup Sheet and email it to:  Services@durhamrealtors.org \nThe strength of the Durham Regional Association of REALTORS® is the involvement of its members. \nYour participation is welcomed and encouraged!
URL:https://durhamrealtors.org/event/property-management-meeting-2023-04-04/
LOCATION:Durham Courthouse\, 510 S. Dillard St.\, Durham\, NC\, 27701\, United States
END:VEVENT
BEGIN:VEVENT
DTSTART;TZID=America/New_York:20230413T133000
DTEND;TZID=America/New_York:20230413T173000
DTSTAMP:20260426T003127
CREATED:20230216T152455Z
LAST-MODIFIED:20230216T152455Z
UID:12279-1681392600-1681407000@durhamrealtors.org
SUMMARY:#3524 What Would Your Mama Say? In-Person CE @ DRAR
DESCRIPTION:REGISTER \nDesigned to be a detailed analysis of the 88 Standards of Practice which support the 17 Articles of the Realtor Code of Ethics. Fulfills the 4-hour NCREC CE elective requirement and meets the triennial Ethics requirement. \nThis class will be held a DRAR\, 4236 University Drive\, Durham. \n \nInstructor: Chris Barnette \n\nTeaching since 2005; currently a BIC in Apex.\nLearned from top instructors\, such as Tom Mangum\, George Bell\, Kim Frye\, Bill Gallagher\nFormed the Go School of Real Estate \, one of NC’s top RE schools\n\nNCREC ATTENDANCE RULES APPLY – attendees who are not present more than 20 minutes will not receive CE credit for the course and will be asked to reschedule. \nCANCELLATION POLICY:  There will be no refunds; however\, you may transfer to another upcoming course subject to space availability\, if notice is given at least 48 hours prior to scheduled class. A $15.00 re-scheduling fee will be charged\, subject to class availability. \nDurham Regional Association of REALTORS® is the NC Real Estate Commission’s Education Provider #1596 \n 
URL:https://durhamrealtors.org/event/3524-what-would-your-mama-say-in-person-ce-drar/
LOCATION:REALTOR® Square at DRAR\, 4236 University Drive\, Durham\, NC\, 27707\, United States
GEO:35.9626463;-78.9610398
X-APPLE-STRUCTURED-LOCATION;VALUE=URI;X-ADDRESS=REALTOR® Square at DRAR 4236 University Drive Durham NC 27707 United States;X-APPLE-RADIUS=500;X-TITLE=4236 University Drive:geo:-78.9610398,35.9626463
END:VEVENT
BEGIN:VEVENT
DTSTART;TZID=America/New_York:20230413T130000
DTEND;TZID=America/New_York:20230413T140000
DTSTAMP:20260426T003127
CREATED:20230106T134013Z
LAST-MODIFIED:20230106T134013Z
UID:12047-1681390800-1681394400@durhamrealtors.org
SUMMARY:Free TMLS Chat: The un-CMA: How to Price Your Listing
DESCRIPTION:Price analysis in Paragon\, RPR’s RVM\, ShowingTime Reports\, Homesnap \nREGISTER
URL:https://durhamrealtors.org/event/free-tmls-chat-the-un-cma-how-to-price-your-listing/
LOCATION:ZOOM Webinar\, NC\, United States
ORGANIZER;CN="Triangle Multiple Listing Service":MAILTO:RachelW@TriangleMLS.com
END:VEVENT
BEGIN:VEVENT
DTSTART;TZID=America/New_York:20230413T123000
DTEND;TZID=America/New_York:20230413T153000
DTSTAMP:20260426T003127
CREATED:20230322T120028Z
LAST-MODIFIED:20230322T123948Z
UID:12415-1681389000-1681399800@durhamrealtors.org
SUMMARY:TRIBOR: Fair Housing Lunch & Learn
DESCRIPTION:REGISTER
URL:https://durhamrealtors.org/event/tribor-fair-housing-lunch-learn/
LOCATION:Raleigh Regional Association of REALTORS\, 111 Realtors Way\, Cary\, NC\, 27513\, United States
END:VEVENT
BEGIN:VEVENT
DTSTART;TZID=America/New_York:20230413T083000
DTEND;TZID=America/New_York:20230413T123000
DTSTAMP:20260426T003127
CREATED:20230216T151933Z
LAST-MODIFIED:20230216T151933Z
UID:12277-1681374600-1681389000@durhamrealtors.org
SUMMARY:#8823 In-Person BICUP @ DRAR
DESCRIPTION:REGISTER \nTOPICS: Material Facts | Dual Agency | BIC Responsibilities | Law & Rules Updates | Licensing & Education \nThis class will be taught IN PERSON at 4236 University Drive\, Durham NC. \n \nInstructor: Chris Barnette \n\n\n\nTeaching since 2005; currently a BIC in Apex.\nLearned from top instructors\, such as Tom Mangum\, George Bell\, Kim Frye\, Bill Gallagher\nFormed the Go School of Real Estate \, one of NC’s top RE schools\n\n\n\nThis 2022-2023 BICUP COURSE must be completed by June 10\, 2023.  If you are NOT a BIC or BIC-Eligible\, you will not receive credit for this BICUP course. General Brokers must take the General Update (GENUP) course #9923 along with a 4-hour CE elective. \nCANCELLATION POLICY:  There will be no refunds; however\, you may transfer to another upcoming course subject to space availability\, if notice is given at least 48 hours prior to scheduled class. A $15.00 re-scheduling fee will be charged\, subject to class availability. \nDurham Regional Association of REALTORS® is the North Carolina Real Estate Commission’s Education Provider #1596
URL:https://durhamrealtors.org/event/8823-in-person-bicup-drar/
LOCATION:REALTOR® Square at DRAR\, 4236 University Drive\, Durham\, NC\, 27707\, United States
GEO:35.9626463;-78.9610398
X-APPLE-STRUCTURED-LOCATION;VALUE=URI;X-ADDRESS=REALTOR® Square at DRAR 4236 University Drive Durham NC 27707 United States;X-APPLE-RADIUS=500;X-TITLE=4236 University Drive:geo:-78.9610398,35.9626463
END:VEVENT
END:VCALENDAR