BEGIN:VCALENDAR
VERSION:2.0
PRODID:-//Durham Regional Assc of Realtors - ECPv6.15.16//NONSGML v1.0//EN
CALSCALE:GREGORIAN
METHOD:PUBLISH
X-WR-CALNAME:Durham Regional Assc of Realtors
X-ORIGINAL-URL:https://durhamrealtors.org
X-WR-CALDESC:Events for Durham Regional Assc of Realtors
REFRESH-INTERVAL;VALUE=DURATION:PT1H
X-Robots-Tag:noindex
X-PUBLISHED-TTL:PT1H
BEGIN:VTIMEZONE
TZID:America/New_York
BEGIN:DAYLIGHT
TZOFFSETFROM:-0500
TZOFFSETTO:-0400
TZNAME:EDT
DTSTART:20240310T070000
END:DAYLIGHT
BEGIN:STANDARD
TZOFFSETFROM:-0400
TZOFFSETTO:-0500
TZNAME:EST
DTSTART:20241103T060000
END:STANDARD
BEGIN:DAYLIGHT
TZOFFSETFROM:-0500
TZOFFSETTO:-0400
TZNAME:EDT
DTSTART:20250309T070000
END:DAYLIGHT
BEGIN:STANDARD
TZOFFSETFROM:-0400
TZOFFSETTO:-0500
TZNAME:EST
DTSTART:20251102T060000
END:STANDARD
BEGIN:DAYLIGHT
TZOFFSETFROM:-0500
TZOFFSETTO:-0400
TZNAME:EDT
DTSTART:20260308T070000
END:DAYLIGHT
BEGIN:STANDARD
TZOFFSETFROM:-0400
TZOFFSETTO:-0500
TZNAME:EST
DTSTART:20261101T060000
END:STANDARD
END:VTIMEZONE
BEGIN:VEVENT
DTSTART;TZID=America/New_York:20251211T083000
DTEND;TZID=America/New_York:20251211T123000
DTSTAMP:20260423T200719
CREATED:20251008T073814Z
LAST-MODIFIED:20251008T073814Z
UID:15720-1765441800-1765456200@durhamrealtors.org
SUMMARY:#8826 Broker-In-Charge Update (BICUP)
DESCRIPTION:Taught by Chris Barnette (Instructor #1373) \nTopics \n\nUnderstanding the role of an Agent\nA look at contemporary issues in Fair Housing\nFAQs\nGeneral information for becoming a BIC\nUnderstanding firm structure\nBIC best practices\n\nREGISTER
URL:https://durhamrealtors.org/event/8826-broker-in-charge-update-bicup/
LOCATION:REALTOR® Square at DRAR\, 4236 University Drive\, Durham\, NC\, 27707\, United States
GEO:35.9626463;-78.9610398
X-APPLE-STRUCTURED-LOCATION;VALUE=URI;X-ADDRESS=REALTOR® Square at DRAR 4236 University Drive Durham NC 27707 United States;X-APPLE-RADIUS=500;X-TITLE=4236 University Drive:geo:-78.9610398,35.9626463
END:VEVENT
BEGIN:VEVENT
DTSTART;TZID=America/New_York:20251210T093000
DTEND;TZID=America/New_York:20251210T103000
DTSTAMP:20260423T200719
CREATED:20250404T144105Z
LAST-MODIFIED:20250404T144105Z
UID:15229-1765359000-1765362600@durhamrealtors.org
SUMMARY:Executive Committee
DESCRIPTION:
URL:https://durhamrealtors.org/event/executive-committee-10/
LOCATION:REALTOR® Square at DRAR\, 4236 University Drive\, Durham\, NC\, 27707\, United States
GEO:35.9626463;-78.9610398
X-APPLE-STRUCTURED-LOCATION;VALUE=URI;X-ADDRESS=REALTOR® Square at DRAR 4236 University Drive Durham NC 27707 United States;X-APPLE-RADIUS=500;X-TITLE=4236 University Drive:geo:-78.9610398,35.9626463
END:VEVENT
BEGIN:VEVENT
DTSTART;TZID=America/New_York:20251209T150000
DTEND;TZID=America/New_York:20251209T160000
DTSTAMP:20260423T200719
CREATED:20250115T165038Z
LAST-MODIFIED:20251113T174729Z
UID:14837-1765292400-1765296000@durhamrealtors.org
SUMMARY:Canceled: Community Service Committee
DESCRIPTION:Interested in attending? \nPlease fill out the 2025 Committee Sign Up Form \nThe strength of the Durham Regional Association of REALTORS® is the involvement of its members. \nYour participation is welcomed and encouraged!
URL:https://durhamrealtors.org/event/community-service-committee-12/
LOCATION:REALTOR® Square at DRAR\, 4236 University Drive\, Durham\, NC\, 27707\, United States
GEO:35.9626463;-78.9610398
X-APPLE-STRUCTURED-LOCATION;VALUE=URI;X-ADDRESS=REALTOR® Square at DRAR 4236 University Drive Durham NC 27707 United States;X-APPLE-RADIUS=500;X-TITLE=4236 University Drive:geo:-78.9610398,35.9626463
END:VEVENT
BEGIN:VEVENT
DTSTART;TZID=America/New_York:20251204T160000
DTEND;TZID=America/New_York:20251204T180000
DTSTAMP:20260423T200719
CREATED:20251008T074345Z
LAST-MODIFIED:20251112T175825Z
UID:15724-1764864000-1764871200@durhamrealtors.org
SUMMARY:DRAR Holiday Social
DESCRIPTION:Come celebrate the holidays with DRAR! \nREGISTER
URL:https://durhamrealtors.org/event/drar-holiday-party/
LOCATION:REALTOR® Square at DRAR\, 4236 University Drive\, Durham\, NC\, 27707\, United States
GEO:35.9626463;-78.9610398
X-APPLE-STRUCTURED-LOCATION;VALUE=URI;X-ADDRESS=REALTOR® Square at DRAR 4236 University Drive Durham NC 27707 United States;X-APPLE-RADIUS=500;X-TITLE=4236 University Drive:geo:-78.9610398,35.9626463
END:VEVENT
BEGIN:VEVENT
DTSTART;TZID=America/New_York:20251204T081500
DTEND;TZID=America/New_York:20251204T114500
DTSTAMP:20260423T200719
CREATED:20250127T144611Z
LAST-MODIFIED:20250127T144611Z
UID:14999-1764836100-1764848700@durhamrealtors.org
SUMMARY:New Member Orientation
DESCRIPTION:8:15am: Check In\, Sponsored Refreshments & Pictures\n9:00am: Welcome\, Pathways to Professionalism and Getting Started\n9:30am: Getting Acquainted with the REALTOR® Organization – Local & State\n10:15am: Sponsor Intro\n10:20am: Break\n10:30am: Upcoming Events\n10:40am: Website & Social Media\n10:50am: COE and Oath\n11:00am: Closing Comments\n11:15am: End time (estimate)
URL:https://durhamrealtors.org/event/new-member-orientation-26/
LOCATION:REALTOR® Square at DRAR\, 4236 University Drive\, Durham\, NC\, 27707\, United States
GEO:35.9626463;-78.9610398
X-APPLE-STRUCTURED-LOCATION;VALUE=URI;X-ADDRESS=REALTOR® Square at DRAR 4236 University Drive Durham NC 27707 United States;X-APPLE-RADIUS=500;X-TITLE=4236 University Drive:geo:-78.9610398,35.9626463
END:VEVENT
BEGIN:VEVENT
DTSTART;TZID=America/New_York:20251203T113000
DTEND;TZID=America/New_York:20251203T133000
DTSTAMP:20260423T200719
CREATED:20251107T084138Z
LAST-MODIFIED:20251107T084138Z
UID:15807-1764761400-1764768600@durhamrealtors.org
SUMMARY:Kerr Lake Holiday Luncheon
DESCRIPTION:
URL:https://durhamrealtors.org/event/kerr-lake-holiday-luncheon-3/
LOCATION:Ribeyes Henderson\, 2002 Graham Avenue\, Henderson\, NC\, 27536\, United States
END:VEVENT
BEGIN:VEVENT
DTSTART;TZID=America/New_York:20251202T140000
DTEND;TZID=America/New_York:20251202T150000
DTSTAMP:20260423T200719
CREATED:20250127T141240Z
LAST-MODIFIED:20250127T141241Z
UID:14952-1764684000-1764687600@durhamrealtors.org
SUMMARY:Property Management Committee
DESCRIPTION:Interested in attending? \nPlease fill out the 2025 Committee Sign Up Form \nThe strength of the Durham Regional Association of REALTORS® is the involvement of its members. \nYour participation is welcomed and encouraged!
URL:https://durhamrealtors.org/event/property-management-committee-7/
LOCATION:REALTOR® Square at DRAR\, 4236 University Drive\, Durham\, NC\, 27707\, United States
GEO:35.9626463;-78.9610398
X-APPLE-STRUCTURED-LOCATION;VALUE=URI;X-ADDRESS=REALTOR® Square at DRAR 4236 University Drive Durham NC 27707 United States;X-APPLE-RADIUS=500;X-TITLE=4236 University Drive:geo:-78.9610398,35.9626463
END:VEVENT
BEGIN:VEVENT
DTSTART;TZID=America/New_York:20251201T100000
DTEND;TZID=America/New_York:20251201T110000
DTSTAMP:20260423T200719
CREATED:20250115T162838Z
LAST-MODIFIED:20251113T174649Z
UID:14816-1764583200-1764586800@durhamrealtors.org
SUMMARY:Canceled: Public Schools Committee
DESCRIPTION:Interested in attending? \nPlease fill out the 2025 Committee Sign Up Form \nThe strength of the Durham Regional Association of REALTORS® is the involvement of its members. \nYour participation is welcomed and encouraged!
URL:https://durhamrealtors.org/event/public-schools-committee-13/
LOCATION:REALTOR® Square at DRAR\, 4236 University Drive\, Durham\, NC\, 27707\, United States
GEO:35.9626463;-78.9610398
X-APPLE-STRUCTURED-LOCATION;VALUE=URI;X-ADDRESS=REALTOR® Square at DRAR 4236 University Drive Durham NC 27707 United States;X-APPLE-RADIUS=500;X-TITLE=4236 University Drive:geo:-78.9610398,35.9626463
END:VEVENT
BEGIN:VEVENT
DTSTART;VALUE=DATE:20251127
DTEND;VALUE=DATE:20251129
DTSTAMP:20260423T200719
CREATED:20251103T151654Z
LAST-MODIFIED:20251103T151654Z
UID:15799-1764201600-1764374399@durhamrealtors.org
SUMMARY:DRAR Office Closed
DESCRIPTION:
URL:https://durhamrealtors.org/event/drar-office-closed-5/
LOCATION:NC
END:VEVENT
BEGIN:VEVENT
DTSTART;VALUE=DATE:20251127
DTEND;VALUE=DATE:20251128
DTSTAMP:20260423T200719
CREATED:20251103T151549Z
LAST-MODIFIED:20251103T151549Z
UID:15797-1764201600-1764287999@durhamrealtors.org
SUMMARY:Thanksgiving
DESCRIPTION:
URL:https://durhamrealtors.org/event/thanksgiving/
LOCATION:NC
END:VEVENT
BEGIN:VEVENT
DTSTART;TZID=America/New_York:20251124T140000
DTEND;TZID=America/New_York:20251124T150000
DTSTAMP:20260423T200719
CREATED:20250127T142722Z
LAST-MODIFIED:20251031T152201Z
UID:14969-1763992800-1763996400@durhamrealtors.org
SUMMARY:Governmental Affairs/Legislative Committee/LPC
DESCRIPTION:Interested in attending? \nPlease fill out the 2025 Committee Sign Up Form \nThe strength of the Durham Regional Association of REALTORS® is the involvement of its members. \nYour participation is welcomed and encouraged!
URL:https://durhamrealtors.org/event/legislative-political-affairs-committee-6/
LOCATION:ZOOM Webinar\, NC\, United States
END:VEVENT
BEGIN:VEVENT
DTSTART;TZID=America/New_York:20251120T113000
DTEND;TZID=America/New_York:20251120T133000
DTSTAMP:20260423T200719
CREATED:20250703T133801Z
LAST-MODIFIED:20251111T113058Z
UID:15500-1763638200-1763645400@durhamrealtors.org
SUMMARY:Holiday Luncheon & Officer Installation
DESCRIPTION:REGISTRATION IS CLOSED
URL:https://durhamrealtors.org/event/holiday-installation-luncheon/
LOCATION:Hope Valley Country Club\, 3803 Dover Rd\, NC 27707\, Durham\, 27707\, United States
GEO:35.9470063;-78.9518792
X-APPLE-STRUCTURED-LOCATION;VALUE=URI;X-ADDRESS=Hope Valley Country Club 3803 Dover Rd NC 27707 Durham 27707 United States;X-APPLE-RADIUS=500;X-TITLE=3803 Dover Rd\, NC 27707:geo:-78.9518792,35.9470063
END:VEVENT
BEGIN:VEVENT
DTSTART;TZID=America/New_York:20251111T150000
DTEND;TZID=America/New_York:20251111T160000
DTSTAMP:20260423T200719
CREATED:20250207T172331Z
LAST-MODIFIED:20250923T141807Z
UID:15055-1762873200-1762876800@durhamrealtors.org
SUMMARY:Board of Directors
DESCRIPTION:
URL:https://durhamrealtors.org/event/board-of-directors-12/
LOCATION:REALTOR® Square at DRAR\, 4236 University Drive\, Durham\, NC\, 27707\, United States
GEO:35.9626463;-78.9610398
X-APPLE-STRUCTURED-LOCATION;VALUE=URI;X-ADDRESS=REALTOR® Square at DRAR 4236 University Drive Durham NC 27707 United States;X-APPLE-RADIUS=500;X-TITLE=4236 University Drive:geo:-78.9610398,35.9626463
END:VEVENT
BEGIN:VEVENT
DTSTART;TZID=America/New_York:20251111T150000
DTEND;TZID=America/New_York:20251111T160000
DTSTAMP:20260423T200719
CREATED:20250115T164942Z
LAST-MODIFIED:20251008T071928Z
UID:14835-1762873200-1762876800@durhamrealtors.org
SUMMARY:Cancelled: Community Service Committee
DESCRIPTION:Interested in attending? \nPlease fill out the 2025 Committee Sign Up Form \nThe strength of the Durham Regional Association of REALTORS® is the involvement of its members. \nYour participation is welcomed and encouraged!
URL:https://durhamrealtors.org/event/community-service-committee-11/
LOCATION:REALTOR® Square at DRAR\, 4236 University Drive\, Durham\, NC\, 27707\, United States
GEO:35.9626463;-78.9610398
X-APPLE-STRUCTURED-LOCATION;VALUE=URI;X-ADDRESS=REALTOR® Square at DRAR 4236 University Drive Durham NC 27707 United States;X-APPLE-RADIUS=500;X-TITLE=4236 University Drive:geo:-78.9610398,35.9626463
END:VEVENT
BEGIN:VEVENT
DTSTART;TZID=America/New_York:20251111T083000
DTEND;TZID=America/New_York:20251111T123000
DTSTAMP:20260423T200719
CREATED:20251008T073149Z
LAST-MODIFIED:20251008T073149Z
UID:15716-1762849800-1762864200@durhamrealtors.org
SUMMARY:#9926 General Update (GENUP)
DESCRIPTION:Taught by Chris Barnette (Instructor #1373) \nTopics: \n\nUnderstanding the role of an Agent\nA look at contemporary issues in Fair Housing\nFAQs\n\nREGISTER
URL:https://durhamrealtors.org/event/9926-general-update-genup/
LOCATION:REALTOR® Square at DRAR\, 4236 University Drive\, Durham\, NC\, 27707\, United States
GEO:35.9626463;-78.9610398
X-APPLE-STRUCTURED-LOCATION;VALUE=URI;X-ADDRESS=REALTOR® Square at DRAR 4236 University Drive Durham NC 27707 United States;X-APPLE-RADIUS=500;X-TITLE=4236 University Drive:geo:-78.9610398,35.9626463
END:VEVENT
BEGIN:VEVENT
DTSTART;VALUE=DATE:20251111
DTEND;VALUE=DATE:20251112
DTSTAMP:20260423T200719
CREATED:20251008T072021Z
LAST-MODIFIED:20251008T072241Z
UID:15714-1762819200-1762905599@durhamrealtors.org
SUMMARY:Veterans Day
DESCRIPTION:
URL:https://durhamrealtors.org/event/veterans-day-2/
LOCATION:NC
END:VEVENT
BEGIN:VEVENT
DTSTART;TZID=America/New_York:20251106T081500
DTEND;TZID=America/New_York:20251106T114500
DTSTAMP:20260423T200719
CREATED:20250127T144514Z
LAST-MODIFIED:20250127T144514Z
UID:14997-1762416900-1762429500@durhamrealtors.org
SUMMARY:New Member Orientation
DESCRIPTION:8:15am: Check In\, Sponsored Refreshments & Pictures\n9:00am: Welcome\, Pathways to Professionalism and Getting Started\n9:30am: Getting Acquainted with the REALTOR® Organization – Local & State\n10:15am: Sponsor Intro\n10:20am: Break\n10:30am: Upcoming Events\n10:40am: Website & Social Media\n10:50am: COE and Oath\n11:00am: Closing Comments\n11:15am: End time (estimate)
URL:https://durhamrealtors.org/event/new-member-orientation-25/
LOCATION:REALTOR® Square at DRAR\, 4236 University Drive\, Durham\, NC\, 27707\, United States
GEO:35.9626463;-78.9610398
X-APPLE-STRUCTURED-LOCATION;VALUE=URI;X-ADDRESS=REALTOR® Square at DRAR 4236 University Drive Durham NC 27707 United States;X-APPLE-RADIUS=500;X-TITLE=4236 University Drive:geo:-78.9610398,35.9626463
END:VEVENT
BEGIN:VEVENT
DTSTART;VALUE=DATE:20251105
DTEND;VALUE=DATE:20251106
DTSTAMP:20260423T200719
CREATED:20250701T135134Z
LAST-MODIFIED:20250701T135326Z
UID:15466-1762300800-1762387199@durhamrealtors.org
SUMMARY:Proptech South (Hosted by Doorify MLS)
DESCRIPTION:REGISTER \n  \n 
URL:https://durhamrealtors.org/event/proptech-south-hosted-by-doorify-mls/
LOCATION:Embassy Suites by Hilton Raleigh Durhaam Research Triangle\, 201 Harrison Oaks Blvd\, Cary\, United States
END:VEVENT
BEGIN:VEVENT
DTSTART;TZID=America/New_York:20251103T100000
DTEND;TZID=America/New_York:20251103T110000
DTSTAMP:20260423T200719
CREATED:20250115T162752Z
LAST-MODIFIED:20250115T162752Z
UID:14814-1762164000-1762167600@durhamrealtors.org
SUMMARY:Public Schools Committee
DESCRIPTION:Interested in attending? \nPlease fill out the 2025 Committee Sign Up Form \nThe strength of the Durham Regional Association of REALTORS® is the involvement of its members. \nYour participation is welcomed and encouraged!
URL:https://durhamrealtors.org/event/public-schools-committee-12/
LOCATION:REALTOR® Square at DRAR\, 4236 University Drive\, Durham\, NC\, 27707\, United States
GEO:35.9626463;-78.9610398
X-APPLE-STRUCTURED-LOCATION;VALUE=URI;X-ADDRESS=REALTOR® Square at DRAR 4236 University Drive Durham NC 27707 United States;X-APPLE-RADIUS=500;X-TITLE=4236 University Drive:geo:-78.9610398,35.9626463
END:VEVENT
BEGIN:VEVENT
DTSTART;TZID=America/New_York:20251030T100000
DTEND;TZID=America/New_York:20251030T110000
DTSTAMP:20260423T200719
CREATED:20250127T135228Z
LAST-MODIFIED:20250127T135228Z
UID:14942-1761818400-1761822000@durhamrealtors.org
SUMMARY:Diversity\, Equity & Inclusion (DEI) Committee
DESCRIPTION:Interested in attending? Please fill out the 2025 Committee Sign Up Form. \nThe strength of the Durham Regional Association of REALTORS® is the involvement of its members. Your participation is welcomed and encouraged!
URL:https://durhamrealtors.org/event/diversity-equity-inclusion-dei-committee-11/
LOCATION:REALTOR® Square at DRAR\, 4236 University Drive\, Durham\, NC\, 27707\, United States
GEO:35.9626463;-78.9610398
X-APPLE-STRUCTURED-LOCATION;VALUE=URI;X-ADDRESS=REALTOR® Square at DRAR 4236 University Drive Durham NC 27707 United States;X-APPLE-RADIUS=500;X-TITLE=4236 University Drive:geo:-78.9610398,35.9626463
END:VEVENT
BEGIN:VEVENT
DTSTART;TZID=America/New_York:20251029T093000
DTEND;TZID=America/New_York:20251029T103000
DTSTAMP:20260423T200719
CREATED:20250404T144026Z
LAST-MODIFIED:20250923T141615Z
UID:15227-1761730200-1761733800@durhamrealtors.org
SUMMARY:Executive Committee
DESCRIPTION:
URL:https://durhamrealtors.org/event/executive-committee-9/
LOCATION:REALTOR® Square at DRAR\, 4236 University Drive\, Durham\, NC\, 27707\, United States
GEO:35.9626463;-78.9610398
X-APPLE-STRUCTURED-LOCATION;VALUE=URI;X-ADDRESS=REALTOR® Square at DRAR 4236 University Drive Durham NC 27707 United States;X-APPLE-RADIUS=500;X-TITLE=4236 University Drive:geo:-78.9610398,35.9626463
END:VEVENT
BEGIN:VEVENT
DTSTART;TZID=America/New_York:20251028T113000
DTEND;TZID=America/New_York:20251028T133000
DTSTAMP:20260423T200719
CREATED:20250922T170309Z
LAST-MODIFIED:20251015T151214Z
UID:15681-1761651000-1761658200@durhamrealtors.org
SUMMARY:1031 Tax Free Exchanges Lunch & Learn
DESCRIPTION:REGISTER \n \n 
URL:https://durhamrealtors.org/event/1031-tax-free-exchanges-lunch-learn/
LOCATION:REALTOR® Square at DRAR\, 4236 University Drive\, Durham\, NC\, 27707\, United States
GEO:35.9626463;-78.9610398
X-APPLE-STRUCTURED-LOCATION;VALUE=URI;X-ADDRESS=REALTOR® Square at DRAR 4236 University Drive Durham NC 27707 United States;X-APPLE-RADIUS=500;X-TITLE=4236 University Drive:geo:-78.9610398,35.9626463
END:VEVENT
BEGIN:VEVENT
DTSTART;TZID=America/New_York:20251027T140000
DTEND;TZID=America/New_York:20251027T150000
DTSTAMP:20260423T200719
CREATED:20250127T142612Z
LAST-MODIFIED:20250130T145347Z
UID:14967-1761573600-1761577200@durhamrealtors.org
SUMMARY:Governmental Affairs/Legislative Committee
DESCRIPTION:Interested in attending? \nPlease fill out the 2025 Committee Sign Up Form \nThe strength of the Durham Regional Association of REALTORS® is the involvement of its members. \nYour participation is welcomed and encouraged!
URL:https://durhamrealtors.org/event/legislative-political-affairs-committee-5/
LOCATION:REALTOR® Square at DRAR\, 4236 University Drive\, Durham\, NC\, 27707\, United States
GEO:35.9626463;-78.9610398
X-APPLE-STRUCTURED-LOCATION;VALUE=URI;X-ADDRESS=REALTOR® Square at DRAR 4236 University Drive Durham NC 27707 United States;X-APPLE-RADIUS=500;X-TITLE=4236 University Drive:geo:-78.9610398,35.9626463
END:VEVENT
BEGIN:VEVENT
DTSTART;VALUE=DATE:20251020
DTEND;VALUE=DATE:20251024
DTSTAMP:20260423T200719
CREATED:20250708T144448Z
LAST-MODIFIED:20250905T145620Z
UID:15510-1760918400-1761263999@durhamrealtors.org
SUMMARY:NC REALTORS Convention
DESCRIPTION:It’s the one time a year the whole REALTOR® family comes together statewide. Whether you’re brand new or a seasoned leader\, you’ll find value in the sessions\, the connections\, and the fun. Plus\, this year’s location is Harrah’s Cherokee Resort & Casino. It’s the perfect mix of business and leisure with great accommodations\, beautiful scenery\, and plenty to do after sessions end. \nFIND OUT MORE
URL:https://durhamrealtors.org/event/nc-realtors-convention/
LOCATION:Harrah’s Cherokee Resort & Casino\, 777 Casino Dr\, Cherokee\, 28719\, United States
END:VEVENT
BEGIN:VEVENT
DTSTART;VALUE=DATE:20251017
DTEND;VALUE=DATE:20251020
DTSTAMP:20260423T200719
CREATED:20251008T075036Z
LAST-MODIFIED:20251008T075036Z
UID:15728-1760659200-1760918399@durhamrealtors.org
SUMMARY:Parade of Homes for Durham\, Orange & Chatham Counties
DESCRIPTION:LEARN MORE
URL:https://durhamrealtors.org/event/parade-of-homes-for-durham-orange-chatham-counties/
LOCATION:NC
END:VEVENT
BEGIN:VEVENT
DTSTART;TZID=America/New_York:20251016T113000
DTEND;TZID=America/New_York:20251016T133000
DTSTAMP:20260423T200719
CREATED:20250703T133445Z
LAST-MODIFIED:20251008T074841Z
UID:15498-1760614200-1760621400@durhamrealtors.org
SUMMARY:Davis-Carter Annual Auction
DESCRIPTION:Deadline to Register is Thursday\, October 9. \nREGISTER
URL:https://durhamrealtors.org/event/davis-carter-annual-auction/
LOCATION:Hope Valley Country Club\, 3803 Dover Rd\, NC 27707\, Durham\, 27707\, United States
GEO:35.9470063;-78.9518792
X-APPLE-STRUCTURED-LOCATION;VALUE=URI;X-ADDRESS=Hope Valley Country Club 3803 Dover Rd NC 27707 Durham 27707 United States;X-APPLE-RADIUS=500;X-TITLE=3803 Dover Rd\, NC 27707:geo:-78.9518792,35.9470063
END:VEVENT
BEGIN:VEVENT
DTSTART;TZID=America/New_York:20251015T093000
DTEND;TZID=America/New_York:20251015T103000
DTSTAMP:20260423T200719
CREATED:20250207T172149Z
LAST-MODIFIED:20250207T172149Z
UID:15051-1760520600-1760524200@durhamrealtors.org
SUMMARY:Board of Directors
DESCRIPTION:
URL:https://durhamrealtors.org/event/board-of-directors-10/
LOCATION:REALTOR® Square at DRAR\, 4236 University Drive\, Durham\, NC\, 27707\, United States
GEO:35.9626463;-78.9610398
X-APPLE-STRUCTURED-LOCATION;VALUE=URI;X-ADDRESS=REALTOR® Square at DRAR 4236 University Drive Durham NC 27707 United States;X-APPLE-RADIUS=500;X-TITLE=4236 University Drive:geo:-78.9610398,35.9626463
END:VEVENT
BEGIN:VEVENT
DTSTART;TZID=America/New_York:20251014T150000
DTEND;TZID=America/New_York:20251014T160000
DTSTAMP:20260423T200719
CREATED:20250115T164855Z
LAST-MODIFIED:20251008T074632Z
UID:14833-1760454000-1760457600@durhamrealtors.org
SUMMARY:Cancelled: Community Service Committee
DESCRIPTION:Interested in attending? \nPlease fill out the 2025 Committee Sign Up Form \nThe strength of the Durham Regional Association of REALTORS® is the involvement of its members. \nYour participation is welcomed and encouraged!
URL:https://durhamrealtors.org/event/community-service-committee-10/
LOCATION:REALTOR® Square at DRAR\, 4236 University Drive\, Durham\, NC\, 27707\, United States
GEO:35.9626463;-78.9610398
X-APPLE-STRUCTURED-LOCATION;VALUE=URI;X-ADDRESS=REALTOR® Square at DRAR 4236 University Drive Durham NC 27707 United States;X-APPLE-RADIUS=500;X-TITLE=4236 University Drive:geo:-78.9610398,35.9626463
END:VEVENT
BEGIN:VEVENT
DTSTART;VALUE=DATE:20251010
DTEND;VALUE=DATE:20251013
DTSTAMP:20260423T200719
CREATED:20251008T075236Z
LAST-MODIFIED:20251008T075236Z
UID:15730-1760054400-1760313599@durhamrealtors.org
SUMMARY:Parade of Homes for Durham\, Orange & Chatham Counties
DESCRIPTION:LEARN MORE
URL:https://durhamrealtors.org/event/parade-of-homes-for-durham-orange-chatham-counties-2/
LOCATION:NC
END:VEVENT
BEGIN:VEVENT
DTSTART;TZID=America/New_York:20251009T123000
DTEND;TZID=America/New_York:20251009T173000
DTSTAMP:20260423T200719
CREATED:20250714T155140Z
LAST-MODIFIED:20250807T145717Z
UID:15552-1760013000-1760031000@durhamrealtors.org
SUMMARY:#4090 Fair Housing Elective: A Look Back and a Path Forward
DESCRIPTION:Instructor: Chris Barnette – Instructor #1373 \n \nThis course meets the Fair Housing learning objective and minimum criteria\nestablished by NAR and provides 4 hours of NCREC CE elective credit.\nClick here to learn more about the Fair Housing requirement. \nREGISTER \n 
URL:https://durhamrealtors.org/event/4090-fair-housing-elective-a-look-back-and-a-path-forward/
LOCATION:REALTOR® Square at DRAR\, 4236 University Drive\, Durham\, NC\, 27707\, United States
GEO:35.9626463;-78.9610398
X-APPLE-STRUCTURED-LOCATION;VALUE=URI;X-ADDRESS=REALTOR® Square at DRAR 4236 University Drive Durham NC 27707 United States;X-APPLE-RADIUS=500;X-TITLE=4236 University Drive:geo:-78.9610398,35.9626463
END:VEVENT
END:VCALENDAR