BEGIN:VCALENDAR
VERSION:2.0
PRODID:-//Durham Regional Assc of Realtors - ECPv6.15.16//NONSGML v1.0//EN
CALSCALE:GREGORIAN
METHOD:PUBLISH
X-ORIGINAL-URL:https://durhamrealtors.org
X-WR-CALDESC:Events for Durham Regional Assc of Realtors
REFRESH-INTERVAL;VALUE=DURATION:PT1H
X-Robots-Tag:noindex
X-PUBLISHED-TTL:PT1H
BEGIN:VTIMEZONE
TZID:America/New_York
BEGIN:DAYLIGHT
TZOFFSETFROM:-0500
TZOFFSETTO:-0400
TZNAME:EDT
DTSTART:20230312T070000
END:DAYLIGHT
BEGIN:STANDARD
TZOFFSETFROM:-0400
TZOFFSETTO:-0500
TZNAME:EST
DTSTART:20231105T060000
END:STANDARD
BEGIN:DAYLIGHT
TZOFFSETFROM:-0500
TZOFFSETTO:-0400
TZNAME:EDT
DTSTART:20240310T070000
END:DAYLIGHT
BEGIN:STANDARD
TZOFFSETFROM:-0400
TZOFFSETTO:-0500
TZNAME:EST
DTSTART:20241103T060000
END:STANDARD
BEGIN:DAYLIGHT
TZOFFSETFROM:-0500
TZOFFSETTO:-0400
TZNAME:EDT
DTSTART:20250309T070000
END:DAYLIGHT
BEGIN:STANDARD
TZOFFSETFROM:-0400
TZOFFSETTO:-0500
TZNAME:EST
DTSTART:20251102T060000
END:STANDARD
END:VTIMEZONE
BEGIN:VEVENT
DTSTART;TZID=America/New_York:20240216T093000
DTEND;TZID=America/New_York:20240216T103000
DTSTAMP:20260424T004506
CREATED:20240129T144645Z
LAST-MODIFIED:20240129T144645Z
UID:13531-1708075800-1708079400@durhamrealtors.org
SUMMARY:Strategies to Increase Black Homeownership / Generational Wealth
DESCRIPTION:REGISTER (Free) via ZOOM \nThe 2023 State of Housing in Black America (SHIBA) report provides the most comprehensive annual data available on the status of Black homeownership in America. The report shares that while African Americans in 2023 are gaining in significant areas they continue to face substantial obstacles when seeking to purchase a home. The 2023 SHIBA report serves as a guiding light for NAREB and the nation as we strive to implement strategic policies and address systemic barriers to homeownership and generational wealth.
URL:https://durhamrealtors.org/event/strategies-to-increase-black-homeownership-generational-wealth/
LOCATION:ZOOM Webinar\, NC\, United States
END:VEVENT
END:VCALENDAR