BEGIN:VCALENDAR
VERSION:2.0
PRODID:-//Durham Regional Assc of Realtors - ECPv6.15.16//NONSGML v1.0//EN
CALSCALE:GREGORIAN
METHOD:PUBLISH
X-WR-CALNAME:Durham Regional Assc of Realtors
X-ORIGINAL-URL:https://durhamrealtors.org
X-WR-CALDESC:Events for Durham Regional Assc of Realtors
REFRESH-INTERVAL;VALUE=DURATION:PT1H
X-Robots-Tag:noindex
X-PUBLISHED-TTL:PT1H
BEGIN:VTIMEZONE
TZID:America/New_York
BEGIN:DAYLIGHT
TZOFFSETFROM:-0500
TZOFFSETTO:-0400
TZNAME:EDT
DTSTART:20220313T070000
END:DAYLIGHT
BEGIN:STANDARD
TZOFFSETFROM:-0400
TZOFFSETTO:-0500
TZNAME:EST
DTSTART:20221106T060000
END:STANDARD
BEGIN:DAYLIGHT
TZOFFSETFROM:-0500
TZOFFSETTO:-0400
TZNAME:EDT
DTSTART:20230312T070000
END:DAYLIGHT
BEGIN:STANDARD
TZOFFSETFROM:-0400
TZOFFSETTO:-0500
TZNAME:EST
DTSTART:20231105T060000
END:STANDARD
BEGIN:DAYLIGHT
TZOFFSETFROM:-0500
TZOFFSETTO:-0400
TZNAME:EDT
DTSTART:20240310T070000
END:DAYLIGHT
BEGIN:STANDARD
TZOFFSETFROM:-0400
TZOFFSETTO:-0500
TZNAME:EST
DTSTART:20241103T060000
END:STANDARD
END:VTIMEZONE
BEGIN:VEVENT
DTSTART;TZID=America/New_York:20231016T190000
DTEND;TZID=America/New_York:20231016T200000
DTSTAMP:20260424T004620
CREATED:20231013T123119Z
LAST-MODIFIED:20231013T123119Z
UID:13099-1697482800-1697486400@durhamrealtors.org
SUMMARY:Durham City Council Mtg: Comprehensive Plan
DESCRIPTION:INFO
URL:https://durhamrealtors.org/event/durham-city-council-mtg-comprehensive-plan/
LOCATION:City Council Chambers\, 101 City Hall Plaza\, Durham\, NC\, United States
END:VEVENT
BEGIN:VEVENT
DTSTART;TZID=America/New_York:20230329T173000
DTEND;TZID=America/New_York:20230329T193000
DTSTAMP:20260424T004620
CREATED:20230324T135705Z
LAST-MODIFIED:20230324T135705Z
UID:12432-1680111000-1680118200@durhamrealtors.org
SUMMARY:Durham's 20th Annual Women's Forum
DESCRIPTION:“Celebrating Women Who Tell Our Story”  aims to honor women who have made history\, broken barriers\, and paved the way for Durham’s future generations. \nFor more information CLICK HERE \nIn-person in the Council Chambers at City Hall (101 City Hall Plaza) or via Zoom or watch livestreamed on the City’s website; on the City’s YouTube\, Facebook\, and Twitter pages; and on Roku\, Apple TV\, and Amazon Fire TV through the free Boxcast app\, or televised live on Durham Television Network (Spectrum channel 8\, Frontier channel 70\, and AT&T U-verse channel 99). \nThe event will feature a diverse group of panelists who will share their experiences building bridges in the community to create positive change in Durham: \n\nTianna Leger\, Program Director of Women’s Business Center of NC;\nBessie Elmore\, Executive Director of Straight Talk Support Group;\nLauren Brasil\, Managing Attorney at Fair Housing Project\, Legal Aid NC;\nMary Chen\, President of Chen Language Services\n\nA meet and greet with light refreshments will be held from 5:30 p.m. to 6 p.m. in the City Hall lobby. Spanish interpretation will also be available. \nAttendees can park in any City parking deck to attend the event. Parking passes for the first 50 attendees will be available. To get a parking pass\, please bring your parking receipt inside the event for validation. \nFor more information\, contact Latoya Battle with the City’s Neighborhood Improvement Services Department Human Relations Division by phone at 919-560-4107\, ext. 34220 or by email. \n 
URL:https://durhamrealtors.org/event/durhams-20th-annual-womens-forum/
LOCATION:In-Person or Zoom or TV\, Durham\, NC\, United States
END:VEVENT
BEGIN:VEVENT
DTSTART;TZID=America/New_York:20230328T173000
DTEND;TZID=America/New_York:20230328T190000
DTSTAMP:20260424T004620
CREATED:20230327T105942Z
LAST-MODIFIED:20230327T105942Z
UID:12435-1680024600-1680030000@durhamrealtors.org
SUMMARY:Durham Comprehensive Plan Adoptive Process
DESCRIPTION:CLICK HERE \nThe Planning Commission will hold its second public hearing on the new Comprehensive Plan. Participation is possible in person or virtually through Zoom. \nAGENDA is posted here: https://www.durhamnc.gov/AgendaCenter/Planning-Commission-15. Agenda item X. Old Business\, a. Public Hearing on the New Comprehensive Plan\, is the relevant item: https://www.durhamnc.gov/AgendaCenter/ViewFile/Agenda/_03282023-2397. \nIn-Person: The physical meeting will be held in the City Council Chambers at 101 City Hall Plaza in downtown Durham. If you wish to speak in person\, there will be a sign-up sheet near the clear to the Commission when you arrive. \nVirtual Participation: Click here https://us06web.zoom.us/webinar/register/WN_hgVr60yEQcuze2BQaMnemA (Webinar ID: 870 1968 8123) to register to participate in the Planning Commission meeting virtually. If possible\, please register by 5:00 p.m. on the day of the Planning Commission meeting or by calling 1- 301-715-8592 at least 15 minutes before the meeting start time and identify yourself to ensure that you get a chance to speak at the appropriate time. Access will be audio only and the chat and Q&A functions will not be available in the virtual meeting. \nRegistration is not required to watch the meeting. You can view Planning Commission meetings live on the City’s Twitter page\, Facebook page\, YouTube channel\, on Roku\, Apple TV\, and Amazon via Boxcast as well as livestreamed from the City’s website. The meeting will also be televised live on Durham Television Network (Spectrum channel 8\, Google Fiber channel 8\, Frontier channel 70\, and AT&T U-verse channel 99).
URL:https://durhamrealtors.org/event/durham-comprehensive-plan-adoptive-process/
LOCATION:In-Person or Zoom or TV\, Durham\, NC\, United States
END:VEVENT
BEGIN:VEVENT
DTSTART;TZID=America/New_York:20230301T180000
DTEND;TZID=America/New_York:20230301T200000
DTSTAMP:20260424T004620
CREATED:20230223T133226Z
LAST-MODIFIED:20230223T133226Z
UID:12303-1677693600-1677700800@durhamrealtors.org
SUMMARY:City Council Special Meeting
DESCRIPTION:
URL:https://durhamrealtors.org/event/city-council-special-meeting/
LOCATION:Water Management Facility\, 1600 Mist Lake Drive\, Durham\, NC\, 27704\, United States
END:VEVENT
END:VCALENDAR