BEGIN:VCALENDAR
VERSION:2.0
PRODID:-//Durham Regional Assc of Realtors - ECPv6.15.16//NONSGML v1.0//EN
CALSCALE:GREGORIAN
METHOD:PUBLISH
X-WR-CALNAME:Durham Regional Assc of Realtors
X-ORIGINAL-URL:https://durhamrealtors.org
X-WR-CALDESC:Events for Durham Regional Assc of Realtors
REFRESH-INTERVAL;VALUE=DURATION:PT1H
X-Robots-Tag:noindex
X-PUBLISHED-TTL:PT1H
BEGIN:VTIMEZONE
TZID:America/New_York
BEGIN:DAYLIGHT
TZOFFSETFROM:-0500
TZOFFSETTO:-0400
TZNAME:EDT
DTSTART:20220313T070000
END:DAYLIGHT
BEGIN:STANDARD
TZOFFSETFROM:-0400
TZOFFSETTO:-0500
TZNAME:EST
DTSTART:20221106T060000
END:STANDARD
BEGIN:DAYLIGHT
TZOFFSETFROM:-0500
TZOFFSETTO:-0400
TZNAME:EDT
DTSTART:20230312T070000
END:DAYLIGHT
BEGIN:STANDARD
TZOFFSETFROM:-0400
TZOFFSETTO:-0500
TZNAME:EST
DTSTART:20231105T060000
END:STANDARD
BEGIN:DAYLIGHT
TZOFFSETFROM:-0500
TZOFFSETTO:-0400
TZNAME:EDT
DTSTART:20240310T070000
END:DAYLIGHT
BEGIN:STANDARD
TZOFFSETFROM:-0400
TZOFFSETTO:-0500
TZNAME:EST
DTSTART:20241103T060000
END:STANDARD
BEGIN:DAYLIGHT
TZOFFSETFROM:-0500
TZOFFSETTO:-0400
TZNAME:EDT
DTSTART:20250309T070000
END:DAYLIGHT
BEGIN:STANDARD
TZOFFSETFROM:-0400
TZOFFSETTO:-0500
TZNAME:EST
DTSTART:20251102T060000
END:STANDARD
END:VTIMEZONE
BEGIN:VEVENT
DTSTART;TZID=America/New_York:20240208T180000
DTEND;TZID=America/New_York:20240208T200000
DTSTAMP:20260423T221519
CREATED:20240129T161024Z
LAST-MODIFIED:20240129T161024Z
UID:13538-1707415200-1707422400@durhamrealtors.org
SUMMARY:UDO Open House #2
DESCRIPTION:CLICK HERE FOR MORE INFO
URL:https://durhamrealtors.org/event/udo-open-house-2/
LOCATION:Campus Hill Rec Center\, Durham\, NC\, United States
END:VEVENT
BEGIN:VEVENT
DTSTART;TZID=America/New_York:20240208T113000
DTEND;TZID=America/New_York:20240208T133000
DTSTAMP:20260423T221519
CREATED:20240129T160856Z
LAST-MODIFIED:20240129T160856Z
UID:13534-1707391800-1707399000@durhamrealtors.org
SUMMARY:UDO Open House #1
DESCRIPTION:CLICK HERE FOR MORE INFO
URL:https://durhamrealtors.org/event/udo-open-house-1/
LOCATION:Durham County Admin Bldg\, 201 East Main Street\, 4th Fl\, Durham\, NC\, United States
END:VEVENT
BEGIN:VEVENT
DTSTART;TZID=America/New_York:20231009T190000
DTEND;TZID=America/New_York:20231009T200000
DTSTAMP:20260423T221519
CREATED:20231013T124245Z
LAST-MODIFIED:20231013T124245Z
UID:13108-1696878000-1696881600@durhamrealtors.org
SUMMARY:Board of County Commissioners - Comprehensive Plan
DESCRIPTION:In Person: 200 East Main St\, 2nd Floor\, Durham \nINFO
URL:https://durhamrealtors.org/event/board-of-county-commissioners-comprehensive-plan/
LOCATION:Durham Courthouse\, 510 S. Dillard St.\, Durham\, NC\, 27701\, United States
END:VEVENT
BEGIN:VEVENT
DTSTART;TZID=America/New_York:20230831T190000
DTEND;TZID=America/New_York:20230831T200000
DTSTAMP:20260423T221519
CREATED:20230605T102525Z
LAST-MODIFIED:20230605T102525Z
UID:12731-1693508400-1693512000@durhamrealtors.org
SUMMARY:Durham Comprehensive Plan Joint Public Hearing
DESCRIPTION:This meeting will be at City Council Chambers or via Zoom (details forthcoming) \nJoint City Council / Board of County Commissioners Public Hearing\nAfter the Planning Commission has completed their public hearings and voted on a recommendation for the Comprehensive Plan\, the City Council and the Board of County Commissioners will hold a joint public hearing on this project. \nThis joint public hearing will be held at a special meeting on Thursday\, August 31\, 2023 beginning at 7PM. The hearing will be held in the City Council Chambers located in City Hall at 101 City Hall Plaza\, Durham NC 27701. Participation will be possible in person or virtually through Zoom. An agenda and information on how to join the meeting will be posted here prior to the meeting. \nCity Council Adoption\nAfter the joint City/County public hearing\, the City Council will consider adoption at one of their regular meetings\, which are typically held on the first and third Monday of each month. Agendas for these meetings can be found here. \nBoard of County Commissioners Adoption\nAfter the joint City/County public hearing\, the Board of County Commissioners will consider adoption at one of their regular meetings which are typically held on the second and fourth Monday of each month. Agendas for these meetings can be found here.
URL:https://durhamrealtors.org/event/durham-comprehensive-plan-joint-public-hearing/
LOCATION:City Council Chambers\, 101 City Hall Plaza\, Durham\, NC\, United States
END:VEVENT
BEGIN:VEVENT
DTSTART;TZID=America/New_York:20230613T173000
DTEND;TZID=America/New_York:20230613T190000
DTSTAMP:20260423T221519
CREATED:20230605T102148Z
LAST-MODIFIED:20230606T122523Z
UID:12729-1686677400-1686682800@durhamrealtors.org
SUMMARY:Durham Comprehensive Plan Public Meeting
DESCRIPTION:The final Planning Commission public hearing is now anticipated at the start of their regular meeting on June 13\, 2023. (At the Tuesday\, May 23\, 2023 meeting\, a quorum of members was not in attendance.) More info CLICK HERE \nThe regular June 13 Planning Commission meeting begins at 5:30p.m. The first agenda item will be the Comprehensive Plan. This will be the final public hearing before the Planning Commission on this project. Once an advisory vote on the Comprehensive Plan is issued\, the Planning Commission will move on to its regular business. Simultaneous Spanish interpretation will be provided for this agenda item. For the remainder of the agenda\, contact the City-County Planning Department at 919-560-4137\, or Growth@DurhamNC.gov to request interpretation and/or translation services as soon as possible but no later than three days before the event or deadline date. \n\nYou may view the agenda here: https://www.durhamnc.gov/AgendaCenter/ViewFile/Agenda/_06132023-2455\n\nIn-Person Participation \nThe physical meeting will be held in the City Council Chambers at 101 City Hall Plaza in downtown Durham. If you wish to speak in person\, there will be a sign-up sheet near the clerk to the Commission when you arrive. \nVirtual Participation \nClick here https://us06web.zoom.us/webinar/register/WN_29PwTPT3S86LFVX3XX9UwQ (Webinar ID: 857 0381 3506) to register to participate in the Planning Commission meeting virtually. If possible\, please register by 5:00 p.m. on the day of the Planning Commission meeting or by calling 1- 301-715-8592 at least 15 minutes before the meeting start time and identify yourself to ensure that you get a chance to speak at the appropriate time. Access will be audio only and the chat and Q&A functions will not be available in the virtual meeting. \nRegistration is not required to watch the meeting. You can view Planning Commission meetings live on the City’s Twitter page\, Facebook page\, YouTube channel\, on Roku\, Apple TV\, and Amazon via Boxcast as well as livestreamed from the City’s website. The meeting will also be televised live on Durham Television Network (Spectrum channel 8\, Google Fiber channel 8\, Frontier channel 70\, and AT&T U-verse channel 99). \nJoint City Council / Board of County Commissioners Public Hearing\nAfter the Planning Commission has completed their public hearings and voted on a recommendation for the Comprehensive Plan\, the City Council and the Board of County Commissioners will hold a joint public hearing on this project. \nThis joint public hearing will be held at a special meeting on Thursday\, August 31\, 2023 beginning at 7PM. The hearing will be held in the City Council Chambers located in City Hall at 101 City Hall Plaza\, Durham NC 27701. Participation will be possible in person or virtually through Zoom. An agenda and information on how to join the meeting will be posted here prior to the meeting. \nCity Council Adoption\nAfter the joint City/County public hearing\, the City Council will consider adoption at one of their regular meetings\, which are typically held on the first and third Monday of each month. Agendas for these meetings can be found here. \nBoard of County Commissioners Adoption\nAfter the joint City/County public hearing\, the Board of County Commissioners will consider adoption at one of their regular meetings which are typically held on the second and fourth Monday of each month. Agendas for these meetings can be found here.
URL:https://durhamrealtors.org/event/durham-comprehensive-plan-public-meeting/
LOCATION:ZOOM Webinar\, NC\, United States
END:VEVENT
BEGIN:VEVENT
DTSTART;TZID=America/New_York:20230523T173000
DTEND;TZID=America/New_York:20230523T193000
DTSTAMP:20260423T221519
CREATED:20230424T130523Z
LAST-MODIFIED:20230424T130523Z
UID:12551-1684863000-1684870200@durhamrealtors.org
SUMMARY:Durham Comprehensive Plan Public Hearing
DESCRIPTION:Information taken from HERE \nThe May 23 Planning Commission agenda will be posted here: https://www.durhamnc.gov/AgendaCenter/Planning-Commission-15. Agenda item X. Old Business\, a. Public Hearing on the New Comprehensive Plan\, is the relevant item. Participation is possible in person or virtually through Zoom. \nIn-Person Participation \nThe physical meeting will be held in the City Council Chambers at 101 City Hall Plaza in downtown Durham. If you wish to speak in person\, there will be a sign-up sheet near the clear to the Commission when you arrive. \nVirtual Participation \nClick here https://us06web.zoom.us/webinar/register/WN_esSnNCYBTgirp3sGC9cjiw#/registration (Webinar ID: 825 9288 7758) to register to participate in the Planning Commission meeting virtually. If possible\, please register by 5:00 p.m. on the day of the Planning Commission meeting or by calling 1- 301-715-8592 at least 15 minutes before the meeting start time and identify yourself to ensure that you get a chance to speak at the appropriate time. Access will be audio only and the chat and Q&A functions will not be available in the virtual meeting. \nRegistration is not required to watch the meeting. You can view Planning Commission meetings live on the City’s Twitter page\, Facebook page\, YouTube channel\, on Roku\, Apple TV\, and Amazon via Boxcast as well as livestreamed from the City’s website. The meeting will also be televised live on Durham Television Network (Spectrum channel 8\, Google Fiber channel 8\, Frontier channel 70\, and AT&T U-verse channel 99). \nJoint City Council / Board of County Commissioners Public Hearing\nAfter the Planning Commission has completed their public hearings and voted on a recommendation for the Comprehensive Plan\, the City Council and the Board of County Commissioners will hold a joint public hearing on this project. It is anticipated that this joint public hearing will be held at a special meeting in August of 2023. \nCity Council Adoption\nAfter the joint City/County public hearing\, the City Council will consider adoption at one of their regular meetings\, which are typically held on the first and third Monday of each month. Agendas for these meetings can be found here. \nBoard of County Commissioners Adoption\nAfter the joint City/County public hearing\, the Board of County Commissioners will consider adoption at one of their regular meetings which are typically held on the second and fourth Monday of each month. Agendas for these meetings can be found here.
URL:https://durhamrealtors.org/event/durham-comprehensive-plan-public-hearing/
LOCATION:In-Person or Zoom or TV\, Durham\, NC\, United States
END:VEVENT
BEGIN:VEVENT
DTSTART;TZID=America/New_York:20230304T103000
DTEND;TZID=America/New_York:20230304T130000
DTSTAMP:20260423T221519
CREATED:20230224T142537Z
LAST-MODIFIED:20230224T142537Z
UID:12309-1677925800-1677934800@durhamrealtors.org
SUMMARY:Durham's Comprehensive Plan Open House
DESCRIPTION:REGISTER \nChildcare and snacks will be provided. \nMaterials on the plan in both English and Spanish\, as well as bilingual staff will also be available for the meeting. \nFor more information\, CLICK HERE \n 
URL:https://durhamrealtors.org/event/durhams-comprehensive-plan-open-house/
LOCATION:I.R. Holmes Recreation Center at Campus Hills\, 2000 S. Alston Ave\, Durham\, NC\, 27707\, United States
END:VEVENT
BEGIN:VEVENT
DTSTART;TZID=America/New_York:20230228T173000
DTEND;TZID=America/New_York:20230228T193000
DTSTAMP:20260423T221519
CREATED:20230224T143437Z
LAST-MODIFIED:20230224T143437Z
UID:12312-1677605400-1677612600@durhamrealtors.org
SUMMARY:Durham's Comprehensive Plan Planning Commission Hearing
DESCRIPTION:For the meeting Agenda\, CLICK HERE \nTo attend in person at City Council Chambers\, 101 City Hall Plaza\, downtown Durham. \nTo attend via Zoom click here https://us06web.zoom.us/webinar/register/WN_6FAar3hCQtCJgW2zNqjblA (Webinar ID: 880 4645 5696) to register to speak during the Planning Commission meeting on an agenda item. If possible\, please register by 5:00 p.m. on the day of the Planning Commission meeting or by calling 1- 301-715-8592 at least 15 minutes before the meeting start time and identify yourself to ensure that you get a chance to speak at the appropriate time. Access will be audio only and the chat and Q&A functions will not be available in the virtual meeting. \nRegistration is not required to watch the meeting. Please refer to the following web page for ways to participate or watch: https://durhamnc.gov/4062/Participate-in-a-Virtual-Public-Hearing. \nMore information about the Planning Commission hearing\, and subsequent meetings in the formal adoption process can be found here: https://engagedurham.com/201/Adoption-Process 
URL:https://durhamrealtors.org/event/durhams-comprehensive-plan-planning-commission-hearing/
LOCATION:City Council Chambers\, 101 City Hall Plaza\, Durham\, NC\, United States
END:VEVENT
BEGIN:VEVENT
DTSTART;TZID=America/New_York:20230221T163000
DTEND;TZID=America/New_York:20230221T183000
DTSTAMP:20260423T221519
CREATED:20230217T204903Z
LAST-MODIFIED:20230217T204903Z
UID:12300-1676997000-1677004200@durhamrealtors.org
SUMMARY:Durham Comprehensive Plan Youth & Family Focused
DESCRIPTION:No registration. Meeting will be held in the auditorium of Durham’s main library downtown. \nFor more information CLICK HERE
URL:https://durhamrealtors.org/event/durham-comprehensive-plan-youth-family-focused/
LOCATION:Durham Main Library\, 300 North Roxboro St\, Durham\, NC\, 27701\, United States
END:VEVENT
BEGIN:VEVENT
DTSTART;TZID=America/New_York:20230219T150000
DTEND;TZID=America/New_York:20230219T163000
DTSTAMP:20260423T221519
CREATED:20230214T140607Z
LAST-MODIFIED:20230214T140607Z
UID:12254-1676818800-1676824200@durhamrealtors.org
SUMMARY:Durham Comprehensive Plan In-Person Mtg
DESCRIPTION:Meeting will be held in the CAFETERIA \nFor more information CLICK HERE \n 
URL:https://durhamrealtors.org/event/durham-comprehensive-plan-in-person-mtg/
LOCATION:Southern School of Energy & Sustainability\, 800 Clayton Road\, Durham\, NC\, 27703\, United States
END:VEVENT
BEGIN:VEVENT
DTSTART;TZID=America/New_York:20230216T183000
DTEND;TZID=America/New_York:20230216T200000
DTSTAMP:20260423T221519
CREATED:20230214T140151Z
LAST-MODIFIED:20230214T140235Z
UID:12249-1676572200-1676577600@durhamrealtors.org
SUMMARY:Durham Comprehensive Plan Zoom Mtg
DESCRIPTION:REGISTER \nFor information on the Comprehensive Plan and meeting dates CLICK HERE
URL:https://durhamrealtors.org/event/durham-comprehensive-plan/
LOCATION:ZOOM Webinar\, NC\, United States
END:VEVENT
END:VCALENDAR