BEGIN:VCALENDAR
VERSION:2.0
PRODID:-//Durham Regional Assc of Realtors - ECPv6.15.16//NONSGML v1.0//EN
CALSCALE:GREGORIAN
METHOD:PUBLISH
X-WR-CALNAME:Durham Regional Assc of Realtors
X-ORIGINAL-URL:https://durhamrealtors.org
X-WR-CALDESC:Events for Durham Regional Assc of Realtors
REFRESH-INTERVAL;VALUE=DURATION:PT1H
X-Robots-Tag:noindex
X-PUBLISHED-TTL:PT1H
BEGIN:VTIMEZONE
TZID:America/New_York
BEGIN:DAYLIGHT
TZOFFSETFROM:-0500
TZOFFSETTO:-0400
TZNAME:EDT
DTSTART:20220313T070000
END:DAYLIGHT
BEGIN:STANDARD
TZOFFSETFROM:-0400
TZOFFSETTO:-0500
TZNAME:EST
DTSTART:20221106T060000
END:STANDARD
BEGIN:DAYLIGHT
TZOFFSETFROM:-0500
TZOFFSETTO:-0400
TZNAME:EDT
DTSTART:20230312T070000
END:DAYLIGHT
BEGIN:STANDARD
TZOFFSETFROM:-0400
TZOFFSETTO:-0500
TZNAME:EST
DTSTART:20231105T060000
END:STANDARD
BEGIN:DAYLIGHT
TZOFFSETFROM:-0500
TZOFFSETTO:-0400
TZNAME:EDT
DTSTART:20240310T070000
END:DAYLIGHT
BEGIN:STANDARD
TZOFFSETFROM:-0400
TZOFFSETTO:-0500
TZNAME:EST
DTSTART:20241103T060000
END:STANDARD
END:VTIMEZONE
BEGIN:VEVENT
DTSTART;TZID=America/New_York:20231213T140000
DTEND;TZID=America/New_York:20231213T150000
DTSTAMP:20260423T232820
CREATED:20231201T221336Z
LAST-MODIFIED:20231201T221336Z
UID:13246-1702476000-1702479600@durhamrealtors.org
SUMMARY:Forewarn Training via Zoom
DESCRIPTION:REGISTER \nLive training for the new TriangleMLS member benefit\, FOREWARN. \nFOREWARN was built around agent safety and identity verification. However\, FOREWARN is also a multi-dimensional tool that can be utilized in other areas of your business to help you be the best real estate professional you can be while helping to keep you safe in the process. \nThe purpose of this training is to help real estate professional gain a much better understanding of the platform along with going over some “Pro-Tips” to help you understand the various ways to leverage FOREWARN in your real estate business. We will also open up the webinar for live Q&A to end the session. Thank you\, we look forward to getting you up and running with FOREWARN!
URL:https://durhamrealtors.org/event/forewarn-training-via-zoom-2/
LOCATION:ZOOM Webinar\, NC\, United States
END:VEVENT
BEGIN:VEVENT
DTSTART;TZID=America/New_York:20230927T140000
DTEND;TZID=America/New_York:20230927T150000
DTSTAMP:20260423T232820
CREATED:20230904T104404Z
LAST-MODIFIED:20230904T104404Z
UID:13003-1695823200-1695826800@durhamrealtors.org
SUMMARY:ForeWarn Training with Q&A
DESCRIPTION:REGISTER \nFOREWARN was built around agent safety and identity verification\, it’s really the whole point of the platform. However\, FOREWARN is also a multi-dimensional tool that can be leveraged in other areas of your business to help you be a better REALTOR®. The purpose of this webinar is to help REALTORS® gain a much better understanding of the platform along with going over some “Pro-Tips” to help get the gears turning in your head on other ways to leverage FOREWARN in your business. We will also open up the webinar for some Q&A to round out the session. Thank you\, we look forward to getting you up and running with FOREWARN!
URL:https://durhamrealtors.org/event/forewarn-training-with-qa/
LOCATION:ZOOM Webinar\, NC\, United States
END:VEVENT
BEGIN:VEVENT
DTSTART;TZID=America/New_York:20230816T020000
DTEND;TZID=America/New_York:20230816T150000
DTSTAMP:20260423T232820
CREATED:20230804T110510Z
LAST-MODIFIED:20230804T110510Z
UID:12901-1692151200-1692198000@durhamrealtors.org
SUMMARY:Forewarn: Demo with Q&A via Webinar
DESCRIPTION:REGISTER \nFOREWARN was built around agent safety and identity verification\, it’s really the whole point of the platform. \nHowever\, FOREWARN is also a multi-dimensional tool that can be leveraged in other areas of your business to help you be a better REALTOR®. \nThe purpose of this webinar is to help REALTORS® gain a much better understanding of the platform along with going over some “Pro-Tips” to help get the gears turning in your head on other ways to leverage FOREWARN in your business.
URL:https://durhamrealtors.org/event/forewarn-demo-with-qa-via-webinar/
LOCATION:ZOOM Webinar\, NC\, United States
END:VEVENT
END:VCALENDAR