BEGIN:VCALENDAR
VERSION:2.0
PRODID:-//Durham Regional Assc of Realtors - ECPv6.15.16//NONSGML v1.0//EN
CALSCALE:GREGORIAN
METHOD:PUBLISH
X-ORIGINAL-URL:https://durhamrealtors.org
X-WR-CALDESC:Events for Durham Regional Assc of Realtors
REFRESH-INTERVAL;VALUE=DURATION:PT1H
X-Robots-Tag:noindex
X-PUBLISHED-TTL:PT1H
BEGIN:VTIMEZONE
TZID:America/New_York
BEGIN:DAYLIGHT
TZOFFSETFROM:-0500
TZOFFSETTO:-0400
TZNAME:EDT
DTSTART:20200308T070000
END:DAYLIGHT
BEGIN:STANDARD
TZOFFSETFROM:-0400
TZOFFSETTO:-0500
TZNAME:EST
DTSTART:20201101T060000
END:STANDARD
BEGIN:DAYLIGHT
TZOFFSETFROM:-0500
TZOFFSETTO:-0400
TZNAME:EDT
DTSTART:20210314T070000
END:DAYLIGHT
BEGIN:STANDARD
TZOFFSETFROM:-0400
TZOFFSETTO:-0500
TZNAME:EST
DTSTART:20211107T060000
END:STANDARD
BEGIN:DAYLIGHT
TZOFFSETFROM:-0500
TZOFFSETTO:-0400
TZNAME:EDT
DTSTART:20220313T070000
END:DAYLIGHT
BEGIN:STANDARD
TZOFFSETFROM:-0400
TZOFFSETTO:-0500
TZNAME:EST
DTSTART:20221106T060000
END:STANDARD
BEGIN:DAYLIGHT
TZOFFSETFROM:-0500
TZOFFSETTO:-0400
TZNAME:EDT
DTSTART:20230312T070000
END:DAYLIGHT
BEGIN:STANDARD
TZOFFSETFROM:-0400
TZOFFSETTO:-0500
TZNAME:EST
DTSTART:20231105T060000
END:STANDARD
BEGIN:DAYLIGHT
TZOFFSETFROM:-0500
TZOFFSETTO:-0400
TZNAME:EDT
DTSTART:20240310T070000
END:DAYLIGHT
BEGIN:STANDARD
TZOFFSETFROM:-0400
TZOFFSETTO:-0500
TZNAME:EST
DTSTART:20241103T060000
END:STANDARD
BEGIN:DAYLIGHT
TZOFFSETFROM:-0500
TZOFFSETTO:-0400
TZNAME:EDT
DTSTART:20250309T070000
END:DAYLIGHT
BEGIN:STANDARD
TZOFFSETFROM:-0400
TZOFFSETTO:-0500
TZNAME:EST
DTSTART:20251102T060000
END:STANDARD
END:VTIMEZONE
BEGIN:VTIMEZONE
TZID:America/New_York
BEGIN:DAYLIGHT
TZOFFSETFROM:-0500
TZOFFSETTO:-0400
TZNAME:EDT
DTSTART:20200308T070000
END:DAYLIGHT
BEGIN:STANDARD
TZOFFSETFROM:-0400
TZOFFSETTO:-0500
TZNAME:EST
DTSTART:20201101T060000
END:STANDARD
BEGIN:DAYLIGHT
TZOFFSETFROM:-0500
TZOFFSETTO:-0400
TZNAME:EDT
DTSTART:20210314T070000
END:DAYLIGHT
BEGIN:STANDARD
TZOFFSETFROM:-0400
TZOFFSETTO:-0500
TZNAME:EST
DTSTART:20211107T060000
END:STANDARD
BEGIN:DAYLIGHT
TZOFFSETFROM:-0500
TZOFFSETTO:-0400
TZNAME:EDT
DTSTART:20220313T070000
END:DAYLIGHT
BEGIN:STANDARD
TZOFFSETFROM:-0400
TZOFFSETTO:-0500
TZNAME:EST
DTSTART:20221106T060000
END:STANDARD
END:VTIMEZONE
BEGIN:VEVENT
DTSTART;TZID=America/New_York:20240428T120000
DTEND;TZID=America/New_York:20240428T170000
DTSTAMP:20260424T015131
CREATED:20240403T105043Z
LAST-MODIFIED:20240403T105043Z
UID:13821-1714305600-1714323600@durhamrealtors.org
SUMMARY:FREE: High Performance Home Tour
DESCRIPTION:This is a FREE\, self-guided tour. \nRegistration is not required\, and no ticket is needed.\nYou can start the tour at any home and see as many homes (or all!) as you like.\nFor more information: https://www.highperformancehometour.org/ \n 
URL:https://durhamrealtors.org/event/free-high-performance-home-tour-2/
LOCATION:Triangle NC\, NC\, United States
END:VEVENT
BEGIN:VEVENT
DTSTART;TZID=America/New_York:20240427T120000
DTEND;TZID=America/New_York:20240427T170000
DTSTAMP:20260424T015131
CREATED:20240403T104923Z
LAST-MODIFIED:20240403T105003Z
UID:13818-1714219200-1714237200@durhamrealtors.org
SUMMARY:FREE: High Performance Home Tour
DESCRIPTION:This is a FREE\, self-guided tour. \nRegistration is not required\, and no ticket is needed.\nYou can start the tour at any home and see as many homes (or all!) as you like.\nFor more information: https://www.highperformancehometour.org/ \n 
URL:https://durhamrealtors.org/event/free-high-performance-home-tour/
LOCATION:Triangle NC\, NC\, United States
END:VEVENT
BEGIN:VEVENT
DTSTART;TZID=America/New_York:20231013T120000
DTEND;TZID=America/New_York:20231013T170000
DTSTAMP:20260424T015131
CREATED:20230911T181015Z
LAST-MODIFIED:20230911T181015Z
UID:13024-1697198400-1697216400@durhamrealtors.org
SUMMARY:Parade of Homes
DESCRIPTION:CLICK HERE FOR WEBSITE INFO
URL:https://durhamrealtors.org/event/parade-of-homes-3/2023-10-13/
LOCATION:Triangle NC\, NC\, United States
END:VEVENT
BEGIN:VEVENT
DTSTART;TZID=America/New_York:20231006T120000
DTEND;TZID=America/New_York:20231006T170000
DTSTAMP:20260424T015131
CREATED:20230911T180915Z
LAST-MODIFIED:20230911T180915Z
UID:13020-1696593600-1696611600@durhamrealtors.org
SUMMARY:Parade of Homes
DESCRIPTION:CLICK HERE FOR WEBSITE INFO
URL:https://durhamrealtors.org/event/parade-of-homes-2/2023-10-06/
LOCATION:Triangle NC\, NC\, United States
END:VEVENT
BEGIN:VEVENT
DTSTART;TZID=America/New_York:20231006T100000
DTEND;TZID=America/New_York:20231006T143000
DTSTAMP:20260424T015131
CREATED:20230825T112550Z
LAST-MODIFIED:20230825T112550Z
UID:12959-1696586400-1696602600@durhamrealtors.org
SUMMARY:Parade of Homes Limo Tour
DESCRIPTION:REGISTER
URL:https://durhamrealtors.org/event/parade-of-homes-limo-tour/
LOCATION:REALTOR® Square at DRAR\, 4236 University Drive\, Durham\, NC\, 27707\, United States
GEO:35.9626463;-78.9610398
X-APPLE-STRUCTURED-LOCATION;VALUE=URI;X-ADDRESS=REALTOR® Square at DRAR 4236 University Drive Durham NC 27707 United States;X-APPLE-RADIUS=500;X-TITLE=4236 University Drive:geo:-78.9610398,35.9626463
END:VEVENT
BEGIN:VEVENT
DTSTART;TZID=America/New_York:20230930T120000
DTEND;TZID=America/New_York:20230930T170000
DTSTAMP:20260424T015131
CREATED:20230911T180727Z
LAST-MODIFIED:20230911T180727Z
UID:13016-1696075200-1696093200@durhamrealtors.org
SUMMARY:Parade of Homes
DESCRIPTION:CLICK HERE FOR WEBSITE INFO
URL:https://durhamrealtors.org/event/parade-of-homes/2023-09-30/
LOCATION:Triangle NC\, NC\, United States
END:VEVENT
BEGIN:VEVENT
DTSTART;TZID=America/New_York:20230926T163000
DTEND;TZID=America/New_York:20230926T183000
DTSTAMP:20260424T015131
CREATED:20230825T113154Z
LAST-MODIFIED:20230825T113319Z
UID:12962-1695745800-1695753000@durhamrealtors.org
SUMMARY:Parade of Homes Happy Hour!
DESCRIPTION:REGISTER
URL:https://durhamrealtors.org/event/parade-of-homes-happy-hour/
LOCATION:Riverstone Estates\, 155 Riverstone Drive\, Pittsboro\, NC\, 27312\, United States
END:VEVENT
BEGIN:VEVENT
DTSTART;TZID=America/New_York:20230429T120000
DTEND;TZID=America/New_York:20230429T170000
DTSTAMP:20260424T015131
CREATED:20230412T131634Z
LAST-MODIFIED:20230412T131729Z
UID:12511-1682769600-1682787600@durhamrealtors.org
SUMMARY:High Performance Home Tour
DESCRIPTION:Self-guided\, no registration required.  For more information: https://www.highperformancehometour.org/
URL:https://durhamrealtors.org/event/high-performance-home-tour/2023-04-29/
LOCATION:Triangle NC\, NC\, United States
END:VEVENT
BEGIN:VEVENT
DTSTART;TZID=America/New_York:20230323T153000
DTEND;TZID=America/New_York:20230323T180000
DTSTAMP:20260424T015131
CREATED:20230209T164048Z
LAST-MODIFIED:20230301T145733Z
UID:12215-1679585400-1679594400@durhamrealtors.org
SUMMARY:REALTOR® EXPO (FREE) Happy Hour!🍸
DESCRIPTION:REGISTER
URL:https://durhamrealtors.org/event/realtor-expo/
LOCATION:Sheraton Chapel Hill\, One Europa Drive\, Chapel Hill\, NC\, 27517\, United States
END:VEVENT
BEGIN:VEVENT
DTSTART;TZID=America/New_York:20221016T120000
DTEND;TZID=America/New_York:20221016T170000
DTSTAMP:20260424T015131
CREATED:20220913T140336Z
LAST-MODIFIED:20220913T140336Z
UID:11580-1665921600-1665939600@durhamrealtors.org
SUMMARY:Triangle Parade of Homes
DESCRIPTION:Sponsored by HBADOC \nCLICK HERE for Parade of Homes website
URL:https://durhamrealtors.org/event/triangle-parade-of-homes-16/
LOCATION:TBD\, NC\, United States
END:VEVENT
BEGIN:VEVENT
DTSTART;TZID=America/New_York:20221015T120000
DTEND;TZID=America/New_York:20221015T170000
DTSTAMP:20260424T015131
CREATED:20220913T140309Z
LAST-MODIFIED:20220913T140309Z
UID:11578-1665835200-1665853200@durhamrealtors.org
SUMMARY:Triangle Parade of Homes
DESCRIPTION:Sponsored by HBADOC \nCLICK HERE for Parade of Homes website
URL:https://durhamrealtors.org/event/triangle-parade-of-homes-15/
LOCATION:TBD\, NC\, United States
END:VEVENT
BEGIN:VEVENT
DTSTART;TZID=America/New_York:20221014T120000
DTEND;TZID=America/New_York:20221014T170000
DTSTAMP:20260424T015131
CREATED:20220913T140240Z
LAST-MODIFIED:20220913T140240Z
UID:11576-1665748800-1665766800@durhamrealtors.org
SUMMARY:Triangle Parade of Homes
DESCRIPTION:Sponsored by HBADOC \nCLICK HERE for Parade of Homes website
URL:https://durhamrealtors.org/event/triangle-parade-of-homes-14/
LOCATION:TBD\, NC\, United States
END:VEVENT
BEGIN:VEVENT
DTSTART;TZID=America/New_York:20221014T100000
DTEND;TZID=America/New_York:20221014T143000
DTSTAMP:20260424T015131
CREATED:20221014T140000Z
LAST-MODIFIED:20220920T122711Z
UID:11596-1665741600-1665757800@durhamrealtors.org
SUMMARY:Limo Tour - Parade of Homes
DESCRIPTION:REGISTER
URL:https://durhamrealtors.org/event/limo-tour-parade-of-homes/
LOCATION:REALTOR® Square at DRAR\, 4236 University Drive\, Durham\, NC\, 27707\, United States
GEO:35.9626463;-78.9610398
X-APPLE-STRUCTURED-LOCATION;VALUE=URI;X-ADDRESS=REALTOR® Square at DRAR 4236 University Drive Durham NC 27707 United States;X-APPLE-RADIUS=500;X-TITLE=4236 University Drive:geo:-78.9610398,35.9626463
END:VEVENT
BEGIN:VEVENT
DTSTART;TZID=America/New_York:20221009T120000
DTEND;TZID=America/New_York:20221009T170000
DTSTAMP:20260424T015131
CREATED:20220913T140205Z
LAST-MODIFIED:20220913T140205Z
UID:11574-1665316800-1665334800@durhamrealtors.org
SUMMARY:Triangle Parade of Homes
DESCRIPTION:Sponsored by HBADOC \nCLICK HERE for Parade of Homes website
URL:https://durhamrealtors.org/event/triangle-parade-of-homes-13/
LOCATION:TBD\, NC\, United States
END:VEVENT
BEGIN:VEVENT
DTSTART;TZID=America/New_York:20221008T120000
DTEND;TZID=America/New_York:20221008T170000
DTSTAMP:20260424T015131
CREATED:20220913T140133Z
LAST-MODIFIED:20220913T140133Z
UID:11572-1665230400-1665248400@durhamrealtors.org
SUMMARY:Triangle Parade of Homes
DESCRIPTION:Sponsored by HBADOC \nCLICK HERE for Parade of Homes website
URL:https://durhamrealtors.org/event/triangle-parade-of-homes-12/
LOCATION:TBD\, NC\, United States
END:VEVENT
BEGIN:VEVENT
DTSTART;TZID=America/New_York:20221007T120000
DTEND;TZID=America/New_York:20221007T170000
DTSTAMP:20260424T015131
CREATED:20220913T140059Z
LAST-MODIFIED:20220913T140059Z
UID:11570-1665144000-1665162000@durhamrealtors.org
SUMMARY:Triangle Parade of Homes
DESCRIPTION:Sponsored by HBADOC \nCLICK HERE for Parade of Homes website
URL:https://durhamrealtors.org/event/triangle-parade-of-homes-11/
LOCATION:TBD\, NC\, United States
END:VEVENT
BEGIN:VEVENT
DTSTART;TZID=America/New_York:20221002T120000
DTEND;TZID=America/New_York:20221002T170000
DTSTAMP:20260424T015131
CREATED:20220913T140022Z
LAST-MODIFIED:20220913T140022Z
UID:11568-1664712000-1664730000@durhamrealtors.org
SUMMARY:Triangle Parade of Homes
DESCRIPTION:Sponsored by HBADOC \nCLICK HERE for Parade of Homes website
URL:https://durhamrealtors.org/event/triangle-parade-of-homes-10/
LOCATION:TBD\, NC\, United States
END:VEVENT
BEGIN:VEVENT
DTSTART;TZID=America/New_York:20221001T120000
DTEND;TZID=America/New_York:20221001T170000
DTSTAMP:20260424T015131
CREATED:20220913T135908Z
LAST-MODIFIED:20220913T135908Z
UID:11566-1664625600-1664643600@durhamrealtors.org
SUMMARY:Triangle Parade of Homes
DESCRIPTION:Sponsored by HBADOC \nCLICK HERE for Parade of Homes website
URL:https://durhamrealtors.org/event/triangle-parade-of-homes-9/
LOCATION:TBD\, NC\, United States
END:VEVENT
BEGIN:VEVENT
DTSTART;TZID=America/New_York:20220519T113000
DTEND;TZID=America/New_York:20220519T133000
DTSTAMP:20260424T015131
CREATED:20220519T153000Z
LAST-MODIFIED:20220429T123609Z
UID:11019-1652959800-1652967000@durhamrealtors.org
SUMMARY:CANCELED: New Neighborhood Realtor Expo
DESCRIPTION:This event has been canceled due to limited market conditions. \n \nSponsored by the Home Builders Association of Durham\, Orange & Chatham Counties (HBADOC)
URL:https://durhamrealtors.org/event/hbadoc-new-neighborhood-realtor-expo/
LOCATION:Sheraton Chapel Hill\, One Europa Drive\, Chapel Hill\, NC\, 27517\, United States
END:VEVENT
BEGIN:VEVENT
DTSTART;TZID=America/New_York:20211017T120000
DTEND;TZID=America/New_York:20211017T170000
DTSTAMP:20260424T015131
CREATED:20210927T141532Z
LAST-MODIFIED:20210927T141532Z
UID:10305-1634472000-1634490000@durhamrealtors.org
SUMMARY:Triangle Parade of Homes
DESCRIPTION:Due to many factors\, some homes may not be available for viewing.\nPlease check individual homes for availability BEFORE visiting.
URL:https://durhamrealtors.org/event/triangle-parade-of-homes-8/
LOCATION:Triangle NC\, NC\, United States
END:VEVENT
BEGIN:VEVENT
DTSTART;TZID=America/New_York:20211016T120000
DTEND;TZID=America/New_York:20211016T170000
DTSTAMP:20260424T015131
CREATED:20210927T141437Z
LAST-MODIFIED:20210927T141437Z
UID:10303-1634385600-1634403600@durhamrealtors.org
SUMMARY:Triangle Parade of Homes
DESCRIPTION:Due to many factors\, some homes may not be available for viewing.\nPlease check individual homes for availability BEFORE visiting.
URL:https://durhamrealtors.org/event/triangle-parade-of-homes-7/
LOCATION:Triangle NC\, NC\, United States
END:VEVENT
BEGIN:VEVENT
DTSTART;TZID=America/New_York:20211015T120000
DTEND;TZID=America/New_York:20211015T170000
DTSTAMP:20260424T015131
CREATED:20210927T141341Z
LAST-MODIFIED:20210927T141341Z
UID:10301-1634299200-1634317200@durhamrealtors.org
SUMMARY:Triangle Parade of Homes
DESCRIPTION:Due to many factors\, some homes may not be available for viewing.\nPlease check individual homes for availability BEFORE visiting.
URL:https://durhamrealtors.org/event/triangle-parade-of-homes-6/
LOCATION:Triangle NC\, NC\, United States
END:VEVENT
BEGIN:VEVENT
DTSTART;TZID=America/New_York:20211010T120000
DTEND;TZID=America/New_York:20211010T170000
DTSTAMP:20260424T015131
CREATED:20210927T141240Z
LAST-MODIFIED:20210927T141240Z
UID:10299-1633867200-1633885200@durhamrealtors.org
SUMMARY:Triangle Parade of Homes
DESCRIPTION:Due to many factors\, some homes may not be available for viewing.\nPlease check individual homes for availability BEFORE visiting.
URL:https://durhamrealtors.org/event/triangle-parade-of-homes-5/
LOCATION:Triangle NC\, NC\, United States
END:VEVENT
BEGIN:VEVENT
DTSTART;TZID=America/New_York:20211009T120000
DTEND;TZID=America/New_York:20211009T170000
DTSTAMP:20260424T015131
CREATED:20210927T141141Z
LAST-MODIFIED:20210927T141141Z
UID:10297-1633780800-1633798800@durhamrealtors.org
SUMMARY:Triangle Parade of Homes
DESCRIPTION:Due to many factors\, some homes may not be available for viewing.\nPlease check individual homes for availability BEFORE visiting.
URL:https://durhamrealtors.org/event/triangle-parade-of-homes-4/
LOCATION:Triangle NC\, NC\, United States
END:VEVENT
BEGIN:VEVENT
DTSTART;TZID=America/New_York:20211008T120000
DTEND;TZID=America/New_York:20211008T170000
DTSTAMP:20260424T015132
CREATED:20210927T141039Z
LAST-MODIFIED:20210927T141039Z
UID:10295-1633694400-1633712400@durhamrealtors.org
SUMMARY:Triangle Parade of Homes
DESCRIPTION:Due to many factors\, some homes may not be available for viewing.\nPlease check individual homes for availability BEFORE visiting.
URL:https://durhamrealtors.org/event/triangle-parade-of-homes-3/
LOCATION:Triangle NC\, NC\, United States
END:VEVENT
BEGIN:VEVENT
DTSTART;TZID=America/New_York:20211003T120000
DTEND;TZID=America/New_York:20211003T170000
DTSTAMP:20260424T015132
CREATED:20210927T140935Z
LAST-MODIFIED:20210927T140935Z
UID:10293-1633262400-1633280400@durhamrealtors.org
SUMMARY:Triangle Parade of Homes
DESCRIPTION:Due to many factors\, some homes may not be available for viewing.\nPlease check individual homes for availability BEFORE visiting.
URL:https://durhamrealtors.org/event/triangle-parade-of-homes-2/
LOCATION:Triangle NC\, NC\, United States
END:VEVENT
BEGIN:VEVENT
DTSTART;TZID=America/New_York:20211002T120000
DTEND;TZID=America/New_York:20211002T170000
DTSTAMP:20260424T015132
CREATED:20210927T140532Z
LAST-MODIFIED:20210927T140532Z
UID:10289-1633176000-1633194000@durhamrealtors.org
SUMMARY:Triangle Parade of Homes
DESCRIPTION:Due to many factors\, some homes may not be available for viewing.\nPlease check individual homes for availability BEFORE visiting.
URL:https://durhamrealtors.org/event/triangle-parade-of-homes/
LOCATION:Triangle NC\, NC\, United States
END:VEVENT
BEGIN:VEVENT
DTSTART;TZID=America/New_York:20210928T120000
DTEND;TZID=America/New_York:20210928T140000
DTSTAMP:20260424T015132
CREATED:20210909T141651Z
LAST-MODIFIED:20210909T141651Z
UID:10059-1632830400-1632837600@durhamrealtors.org
SUMMARY:Parade of Homes 2021 for REALTORS
DESCRIPTION:REALTORS PLEASE RSVP VIA EMAIL TO:  Services@DurhamRealtors.org
URL:https://durhamrealtors.org/event/parade-of-homes-2021-for-realtors/
LOCATION:Durham\, United States
END:VEVENT
BEGIN:VEVENT
DTSTART;TZID=America/New_York:20210909T123000
DTEND;TZID=America/New_York:20210909T133000
DTSTAMP:20260424T015132
CREATED:20210830T160428Z
LAST-MODIFIED:20210830T160428Z
UID:6771-1631190600-1631194200@durhamrealtors.org
SUMMARY:REALTOR EXPO 2021 - SESSION #2
DESCRIPTION:Limited Seating – FREE for REALTORS®\nOPEN AIR VENUE with Boxed Lunches\n\nTo maintain safe distancing\, there will be 2 sessions capped at 125 members each:\n\nYOU ARE REGISTERING FOR SESSION #2 from 12:30pm – 1:30pm\n\nREGISTER
URL:https://durhamrealtors.org/event/realtor-expo-session-2/
LOCATION:Durham\, United States
END:VEVENT
BEGIN:VEVENT
DTSTART;TZID=America/New_York:20210909T113000
DTEND;TZID=America/New_York:20210909T123000
DTSTAMP:20260424T015132
CREATED:20210830T160134Z
LAST-MODIFIED:20210830T160134Z
UID:6767-1631187000-1631190600@durhamrealtors.org
SUMMARY:REALTOR EXPO 2021 - Session #1
DESCRIPTION:Limited Seating – FREE for REALTORS®\nOPEN AIR VENUE with Boxed Lunches\n\nTo maintain safe distancing\, there will be 2 sessions capped at 125 members each:\n\nYOU ARE REGISTERING FOR SESSION #1 from 11:30am – 12:30pm\n\nREGISTER HERE
URL:https://durhamrealtors.org/event/realtor-expo-2021-session-1/
LOCATION:Durham\, United States
END:VEVENT
END:VCALENDAR