BEGIN:VCALENDAR
VERSION:2.0
PRODID:-//Durham Regional Assc of Realtors - ECPv6.15.16//NONSGML v1.0//EN
CALSCALE:GREGORIAN
METHOD:PUBLISH
X-ORIGINAL-URL:https://durhamrealtors.org
X-WR-CALDESC:Events for Durham Regional Assc of Realtors
REFRESH-INTERVAL;VALUE=DURATION:PT1H
X-Robots-Tag:noindex
X-PUBLISHED-TTL:PT1H
BEGIN:VTIMEZONE
TZID:America/New_York
BEGIN:DAYLIGHT
TZOFFSETFROM:-0500
TZOFFSETTO:-0400
TZNAME:EDT
DTSTART:20200308T070000
END:DAYLIGHT
BEGIN:STANDARD
TZOFFSETFROM:-0400
TZOFFSETTO:-0500
TZNAME:EST
DTSTART:20201101T060000
END:STANDARD
BEGIN:DAYLIGHT
TZOFFSETFROM:-0500
TZOFFSETTO:-0400
TZNAME:EDT
DTSTART:20210314T070000
END:DAYLIGHT
BEGIN:STANDARD
TZOFFSETFROM:-0400
TZOFFSETTO:-0500
TZNAME:EST
DTSTART:20211107T060000
END:STANDARD
BEGIN:DAYLIGHT
TZOFFSETFROM:-0500
TZOFFSETTO:-0400
TZNAME:EDT
DTSTART:20220313T070000
END:DAYLIGHT
BEGIN:STANDARD
TZOFFSETFROM:-0400
TZOFFSETTO:-0500
TZNAME:EST
DTSTART:20221106T060000
END:STANDARD
BEGIN:DAYLIGHT
TZOFFSETFROM:-0500
TZOFFSETTO:-0400
TZNAME:EDT
DTSTART:20230312T070000
END:DAYLIGHT
BEGIN:STANDARD
TZOFFSETFROM:-0400
TZOFFSETTO:-0500
TZNAME:EST
DTSTART:20231105T060000
END:STANDARD
BEGIN:DAYLIGHT
TZOFFSETFROM:-0500
TZOFFSETTO:-0400
TZNAME:EDT
DTSTART:20240310T070000
END:DAYLIGHT
BEGIN:STANDARD
TZOFFSETFROM:-0400
TZOFFSETTO:-0500
TZNAME:EST
DTSTART:20241103T060000
END:STANDARD
BEGIN:DAYLIGHT
TZOFFSETFROM:-0500
TZOFFSETTO:-0400
TZNAME:EDT
DTSTART:20250309T070000
END:DAYLIGHT
BEGIN:STANDARD
TZOFFSETFROM:-0400
TZOFFSETTO:-0500
TZNAME:EST
DTSTART:20251102T060000
END:STANDARD
END:VTIMEZONE
BEGIN:VEVENT
DTSTART;TZID=America/New_York:20240505T080000
DTEND;TZID=America/New_York:20240510T170000
DTSTAMP:20260424T004002
CREATED:20240429T141425Z
LAST-MODIFIED:20240429T141425Z
UID:13877-1714896000-1715360400@durhamrealtors.org
SUMMARY:Legislative Meetings\, Washington DC
DESCRIPTION:https://legislative.realtor/
URL:https://durhamrealtors.org/event/legislative-meetings-washington-dc/
LOCATION:Washington DC\, Washington DC\, United States
END:VEVENT
BEGIN:VEVENT
DTSTART;VALUE=DATE:20231015
DTEND;VALUE=DATE:20231016
DTSTAMP:20260424T004002
CREATED:20230925T110838Z
LAST-MODIFIED:20230925T125001Z
UID:13060-1697328000-1697414399@durhamrealtors.org
SUMMARY:NAR's "Ignite Others" Fin'l Literacy High Schoolers
DESCRIPTION:APPLY \nREALTORS® don’t just sell real estate\, they build communities \nREALTORS® will light the way for high schoolers across the U.S. by bringing financial literacy into classrooms—from budgeting and borrowing to credit scores. \nJoin the Ignite Others High School Financial Literacy Program by October 15\, 2023\, and help shape a stronger future.
URL:https://durhamrealtors.org/event/nars-ignite-others-finl-literacy-high-schoolers/
LOCATION:ZOOM Webinar\, NC\, United States
END:VEVENT
BEGIN:VEVENT
DTSTART;TZID=America/New_York:20230913T130000
DTEND;TZID=America/New_York:20230913T140000
DTSTAMP:20260424T004002
CREATED:20230823T164835Z
LAST-MODIFIED:20230823T164835Z
UID:12956-1694610000-1694613600@durhamrealtors.org
SUMMARY:NAR Safety Webinar
DESCRIPTION:REGISTER \nUnmasking Threats: Enhancing Safety through Situational Awareness \nJoin Keynote speaker Geoff Fahringer\, REALTOR®\, safety instructor\, and law enforcement officer\, in this year’s REALTOR® Safety Month LIVE webinar. Learn to identify potential risks\, anticipate threats\, and respond proactively. Empower yourself with vital knowledge to navigate a dangerous situation\, ensuring your personal safety on the job.
URL:https://durhamrealtors.org/event/nar-safety-webinar/
LOCATION:ZOOM Webinar\, NC\, United States
END:VEVENT
BEGIN:VEVENT
DTSTART;TZID=America/New_York:20230621T130000
DTEND;TZID=America/New_York:20230621T140000
DTSTAMP:20260424T004002
CREATED:20230609T102921Z
LAST-MODIFIED:20230609T102921Z
UID:12748-1687352400-1687356000@durhamrealtors.org
SUMMARY:BICS Power Hour: Risk Reduction
DESCRIPTION:REGISTER (registration closes on 6/20) \n\n\n\n\n\n\nTopics & Speakers: \n\nLitigation Update and Broker Risk Reduction\nLesley Muchow\, NAR’s General Counsel & VP of Legal Affairs & Antitrust Compliance.\n\n\nC2EX Broker Challenge and Platform Updates\nHollie Billero Budlo\, Chair\, C2EX Committee.\n\n\nNAR® ACT! Initiative Updates\nColette Massengale\, NAR’s Senior Policy Representative\, Fair Housing Policy.
URL:https://durhamrealtors.org/event/bics-power-hour-risk-reduction/
LOCATION:ZOOM Webinar\, NC\, United States
END:VEVENT
BEGIN:VEVENT
DTSTART;TZID=America/New_York:20220922T143000
DTEND;TZID=America/New_York:20220922T153000
DTSTAMP:20260424T004002
CREATED:20220915T115454Z
LAST-MODIFIED:20220915T115454Z
UID:11591-1663857000-1663860600@durhamrealtors.org
SUMMARY:NAR: REALTOR® Safety Coast to Coast
DESCRIPTION:How Safety Differs Across the Nation \nREGISTER
URL:https://durhamrealtors.org/event/nar-realtor-safety-coast-to-coast/
LOCATION:ZOOM Webinar\, NC\, United States
END:VEVENT
BEGIN:VEVENT
DTSTART;TZID=America/New_York:20220621T110000
DTEND;TZID=America/New_York:20220621T120000
DTSTAMP:20260424T004002
CREATED:20220609T130805Z
LAST-MODIFIED:20220609T130805Z
UID:11353-1655809200-1655812800@durhamrealtors.org
SUMMARY:NAR Housing Mkt Update Webinar
DESCRIPTION:REGISTER (coming soon) \nJessica Lautz\, VP\, Demographics & Behavioral Insights at the National Association of REALTORS® will offer a virtual briefing on challenges and opportunities in the current housing market.
URL:https://durhamrealtors.org/event/nar-housing-mkt-update-webinar/
LOCATION:ZOOM Webinar\, NC\, United States
END:VEVENT
BEGIN:VEVENT
DTSTART;TZID=America/New_York:20220616T130000
DTEND;TZID=America/New_York:20220616T140000
DTSTAMP:20260424T004002
CREATED:20220616T170000Z
LAST-MODIFIED:20220609T124447Z
UID:11347-1655384400-1655388000@durhamrealtors.org
SUMMARY:Connected Conversations: Homeownership Data
DESCRIPTION:REGISTER FREE to Members \nTopic: How to take all the housing data and make a compelling story out of it. Guest: Jennifer McKim\, Deputy Investigative Reporter for the GBH News Center for Investigative Reporting and former housing reporter for the Boston Globe. \nConnected Conversations is a monthly series with a guest speaker followed by live Q&A brought to you by the National Association of REALTORS® and Realtor.com®
URL:https://durhamrealtors.org/event/connected-conversations-homeownership-data/
LOCATION:ZOOM Webinar\, NC\, United States
END:VEVENT
BEGIN:VEVENT
DTSTART;TZID=America/New_York:20220615T130000
DTEND;TZID=America/New_York:20220615T140000
DTSTAMP:20260424T004002
CREATED:20220609T124408Z
LAST-MODIFIED:20220609T124408Z
UID:11350-1655298000-1655301600@durhamrealtors.org
SUMMARY:Connected Conversations: LGBTQ+
DESCRIPTION:REGISTER  FREE to Members \nTopic: How LGBTQ+ discrimination can hinder the path to homeownership and what the LGBTQ+ Real Estate Alliance is doing to impact change. \nConnected Conversations is a monthly series with a guest speaker followed by live Q&A brought to you by the National Association of REALTORS® and Realtor.com®
URL:https://durhamrealtors.org/event/connected-conversations-lgbtq/
LOCATION:ZOOM Webinar\, NC\, United States
END:VEVENT
BEGIN:VEVENT
DTSTART;TZID=America/New_York:20220607T120000
DTEND;TZID=America/New_York:20220607T130000
DTSTAMP:20260424T004002
CREATED:20220531T111311Z
LAST-MODIFIED:20220531T111311Z
UID:11297-1654603200-1654606800@durhamrealtors.org
SUMMARY:NAR's Broker Power Hour
DESCRIPTION:REGISTER
URL:https://durhamrealtors.org/event/nars-broker-power-hour/
LOCATION:ZOOM Webinar\, NC\, United States
END:VEVENT
BEGIN:VEVENT
DTSTART;TZID=America/New_York:20211215T130000
DTEND;TZID=America/New_York:20211215T150000
DTSTAMP:20260424T004002
CREATED:20211215T180000Z
LAST-MODIFIED:20211122T171417Z
UID:10446-1639573200-1639580400@durhamrealtors.org
SUMMARY:FREE: NAR Real Estate Summit
DESCRIPTION:REGISTER \nLawrence Yun Chief Economist\, NAR\n  \n \nWhat should we expect for real estate in 2022? NAR will hold a virtual Economic and Real Estate Summit that will provide a year-end review of 2021 and outlook on the real estate market and the economy for the year to come.
URL:https://durhamrealtors.org/event/free-nar-real-estate-summit/
LOCATION:ZOOM Webinar\, NC\, United States
END:VEVENT
END:VCALENDAR