BEGIN:VCALENDAR
VERSION:2.0
PRODID:-//Durham Regional Assc of Realtors - ECPv6.15.16//NONSGML v1.0//EN
CALSCALE:GREGORIAN
METHOD:PUBLISH
X-WR-CALNAME:Durham Regional Assc of Realtors
X-ORIGINAL-URL:https://durhamrealtors.org
X-WR-CALDESC:Events for Durham Regional Assc of Realtors
REFRESH-INTERVAL;VALUE=DURATION:PT1H
X-Robots-Tag:noindex
X-PUBLISHED-TTL:PT1H
BEGIN:VTIMEZONE
TZID:America/New_York
BEGIN:DAYLIGHT
TZOFFSETFROM:-0500
TZOFFSETTO:-0400
TZNAME:EDT
DTSTART:20210314T070000
END:DAYLIGHT
BEGIN:STANDARD
TZOFFSETFROM:-0400
TZOFFSETTO:-0500
TZNAME:EST
DTSTART:20211107T060000
END:STANDARD
BEGIN:DAYLIGHT
TZOFFSETFROM:-0500
TZOFFSETTO:-0400
TZNAME:EDT
DTSTART:20220313T070000
END:DAYLIGHT
BEGIN:STANDARD
TZOFFSETFROM:-0400
TZOFFSETTO:-0500
TZNAME:EST
DTSTART:20221106T060000
END:STANDARD
BEGIN:DAYLIGHT
TZOFFSETFROM:-0500
TZOFFSETTO:-0400
TZNAME:EDT
DTSTART:20230312T070000
END:DAYLIGHT
BEGIN:STANDARD
TZOFFSETFROM:-0400
TZOFFSETTO:-0500
TZNAME:EST
DTSTART:20231105T060000
END:STANDARD
END:VTIMEZONE
BEGIN:VEVENT
DTSTART;TZID=America/New_York:20220913T130000
DTEND;TZID=America/New_York:20220913T160000
DTSTAMP:20260424T080209
CREATED:20220913T170000Z
LAST-MODIFIED:20220730T120200Z
UID:11393-1663074000-1663084800@durhamrealtors.org
SUMMARY:NC Carolina Core Summit in Sanford
DESCRIPTION:REGISTER \nAGENDA \nDRAR is one of the hosting Associations for this event\, an information-packed afternoon about the growth opportunities in the NC Carolina Core. \nThe Carolina Core is home to 4 strategically-located certified mega sites that offer advanced manufacturers room to grow. These sites\, coupled with the lowest corporate income tax in the U.S.\, a future-ready workforce\, and convenient access to major markets\, position the Carolina Core as the ideal location for your company’s next big move. \nEconomic Growth creates jobs\, housing needs\, and development potential and helps everyone in the area prosper.
URL:https://durhamrealtors.org/event/nc-carolina-core-summit/
LOCATION:Dennis R. Wicker Civic Center\, 1801 Nash Street\, SANFORD\, NC\, 27330\, United States
END:VEVENT
END:VCALENDAR