BEGIN:VCALENDAR
VERSION:2.0
PRODID:-//Durham Regional Assc of Realtors - ECPv6.15.16//NONSGML v1.0//EN
CALSCALE:GREGORIAN
METHOD:PUBLISH
X-WR-CALNAME:Durham Regional Assc of Realtors
X-ORIGINAL-URL:https://durhamrealtors.org
X-WR-CALDESC:Events for Durham Regional Assc of Realtors
REFRESH-INTERVAL;VALUE=DURATION:PT1H
X-Robots-Tag:noindex
X-PUBLISHED-TTL:PT1H
BEGIN:VTIMEZONE
TZID:America/New_York
BEGIN:DAYLIGHT
TZOFFSETFROM:-0500
TZOFFSETTO:-0400
TZNAME:EDT
DTSTART:20240310T070000
END:DAYLIGHT
BEGIN:STANDARD
TZOFFSETFROM:-0400
TZOFFSETTO:-0500
TZNAME:EST
DTSTART:20241103T060000
END:STANDARD
BEGIN:DAYLIGHT
TZOFFSETFROM:-0500
TZOFFSETTO:-0400
TZNAME:EDT
DTSTART:20250309T070000
END:DAYLIGHT
BEGIN:STANDARD
TZOFFSETFROM:-0400
TZOFFSETTO:-0500
TZNAME:EST
DTSTART:20251102T060000
END:STANDARD
BEGIN:DAYLIGHT
TZOFFSETFROM:-0500
TZOFFSETTO:-0400
TZNAME:EDT
DTSTART:20260308T070000
END:DAYLIGHT
BEGIN:STANDARD
TZOFFSETFROM:-0400
TZOFFSETTO:-0500
TZNAME:EST
DTSTART:20261101T060000
END:STANDARD
END:VTIMEZONE
BEGIN:VTIMEZONE
TZID:America/New_York
BEGIN:DAYLIGHT
TZOFFSETFROM:-0500
TZOFFSETTO:-0400
TZNAME:EDT
DTSTART:20210314T070000
END:DAYLIGHT
BEGIN:STANDARD
TZOFFSETFROM:-0400
TZOFFSETTO:-0500
TZNAME:EST
DTSTART:20211107T060000
END:STANDARD
BEGIN:DAYLIGHT
TZOFFSETFROM:-0500
TZOFFSETTO:-0400
TZNAME:EDT
DTSTART:20220313T070000
END:DAYLIGHT
BEGIN:STANDARD
TZOFFSETFROM:-0400
TZOFFSETTO:-0500
TZNAME:EST
DTSTART:20221106T060000
END:STANDARD
BEGIN:DAYLIGHT
TZOFFSETFROM:-0500
TZOFFSETTO:-0400
TZNAME:EDT
DTSTART:20230312T070000
END:DAYLIGHT
BEGIN:STANDARD
TZOFFSETFROM:-0400
TZOFFSETTO:-0500
TZNAME:EST
DTSTART:20231105T060000
END:STANDARD
BEGIN:DAYLIGHT
TZOFFSETFROM:-0500
TZOFFSETTO:-0400
TZNAME:EDT
DTSTART:20240310T070000
END:DAYLIGHT
BEGIN:STANDARD
TZOFFSETFROM:-0400
TZOFFSETTO:-0500
TZNAME:EST
DTSTART:20241103T060000
END:STANDARD
BEGIN:DAYLIGHT
TZOFFSETFROM:-0500
TZOFFSETTO:-0400
TZNAME:EDT
DTSTART:20250309T070000
END:DAYLIGHT
BEGIN:STANDARD
TZOFFSETFROM:-0400
TZOFFSETTO:-0500
TZNAME:EST
DTSTART:20251102T060000
END:STANDARD
END:VTIMEZONE
BEGIN:VEVENT
DTSTART;VALUE=DATE:20251020
DTEND;VALUE=DATE:20251024
DTSTAMP:20260423T200049
CREATED:20250708T144448Z
LAST-MODIFIED:20250905T145620Z
UID:15510-1760918400-1761263999@durhamrealtors.org
SUMMARY:NC REALTORS Convention
DESCRIPTION:It’s the one time a year the whole REALTOR® family comes together statewide. Whether you’re brand new or a seasoned leader\, you’ll find value in the sessions\, the connections\, and the fun. Plus\, this year’s location is Harrah’s Cherokee Resort & Casino. It’s the perfect mix of business and leisure with great accommodations\, beautiful scenery\, and plenty to do after sessions end. \nFIND OUT MORE
URL:https://durhamrealtors.org/event/nc-realtors-convention/
LOCATION:Harrah’s Cherokee Resort & Casino\, 777 Casino Dr\, Cherokee\, 28719\, United States
END:VEVENT
BEGIN:VEVENT
DTSTART;VALUE=DATE:20250127
DTEND;VALUE=DATE:20250201
DTSTAMP:20260423T200049
CREATED:20250109T222503Z
LAST-MODIFIED:20250109T222503Z
UID:14774-1737936000-1738367999@durhamrealtors.org
SUMMARY:NCR Vision Quest
DESCRIPTION:
URL:https://durhamrealtors.org/event/ncr-vision-quest-2/
LOCATION:Marriott Winston-Salem/Benton Convention Center\, Winston-Salem\, United States
END:VEVENT
BEGIN:VEVENT
DTSTART;VALUE=DATE:20241019
DTEND;VALUE=DATE:20241023
DTSTAMP:20260423T200049
CREATED:20231020T110016Z
LAST-MODIFIED:20231020T110016Z
UID:13133-1729296000-1729641599@durhamrealtors.org
SUMMARY:NC REALTORS® Convention & Expo
DESCRIPTION:Event | NC REALTORS® Convention & Expo
URL:https://durhamrealtors.org/event/nc-realtors-convention-expo/
LOCATION:Wilmington Convention Center\, Wilmington\, NC\, United States
END:VEVENT
BEGIN:VEVENT
DTSTART;VALUE=DATE:20240122
DTEND;VALUE=DATE:20240127
DTSTAMP:20260423T200049
CREATED:20240111T152953Z
LAST-MODIFIED:20240111T152953Z
UID:13497-1705881600-1706313599@durhamrealtors.org
SUMMARY:NCR Vision Quest
DESCRIPTION:
URL:https://durhamrealtors.org/event/ncr-vision-quest/
LOCATION:Washington Duke Inn & Golf Club\,  3001 Cameron Blvd\, Durham\, NC\, 27705\, United States
GEO:35.9933038;-78.9484094
X-APPLE-STRUCTURED-LOCATION;VALUE=URI;X-ADDRESS=Washington Duke Inn & Golf Club  3001 Cameron Blvd Durham NC 27705 United States;X-APPLE-RADIUS=500;X-TITLE=3001 Cameron Blvd:geo:-78.9484094,35.9933038
END:VEVENT
BEGIN:VEVENT
DTSTART;VALUE=DATE:20231016
DTEND;VALUE=DATE:20231020
DTSTAMP:20260423T200049
CREATED:20231020T105835Z
LAST-MODIFIED:20231020T105835Z
UID:13130-1697414400-1697759999@durhamrealtors.org
SUMMARY:NC REALTORS® Region 4 Convention & Expo
DESCRIPTION:The Region 4 REALTORS® Conference & Expo is replacing our annual Convention this year. \n  \nConvention & Expo
URL:https://durhamrealtors.org/event/nc-realtors-region-4-convention-expo/
LOCATION:NC REALTORS\, Savannah\, GA\, United States
END:VEVENT
BEGIN:VEVENT
DTSTART;VALUE=DATE:20230821
DTEND;VALUE=DATE:20230825
DTSTAMP:20260423T200049
CREATED:20230711T110604Z
LAST-MODIFIED:20230711T110604Z
UID:12834-1692576000-1692921599@durhamrealtors.org
SUMMARY:NC REALTORS® 2024 Officers - Online Election
DESCRIPTION:CLICK HERE FOR INFO \n\n2024 Officers\nFinance and Budget Committee members\nNAR Directors\nIssues Mobilization Committee member\n\nOnline Polls will be open 24 hours a day\, Eastern Standard Time\, from 12:00:01 am on Monday\, August 21\, 2023 to 11:59:59 pm on Thursday\, August 24\, 2023. \nThe electronic method of voting is the only means by which voters may vote in the annual election. Only REALTOR® members in good standing in the Association and Association Executives—who have provided NC REALTORS® with a valid email address—shall have the right to vote in any annual election.
URL:https://durhamrealtors.org/event/nc-realtors-2024-officers-online-election/
LOCATION:Online\, Durham\, NC\, United States
END:VEVENT
BEGIN:VEVENT
DTSTART;TZID=America/New_York:20230717T130000
DTEND;TZID=America/New_York:20230717T140000
DTSTAMP:20260423T200049
CREATED:20230531T095027Z
LAST-MODIFIED:20230531T095027Z
UID:12712-1689598800-1689602400@durhamrealtors.org
SUMMARY:NCR Mobile Monday - FORM CHANGES
DESCRIPTION:CLICK TO JOIN \nHave Questions on the  NC REALTORS® Forms Changes that Take Effect July 1\, 2023? \nAsk JOHN WAIT\, NCR General Counsel during NCR’s Mobile Monday’s FACEBOOK GROUP \nA list of the forms that changed and a detailed summary of those changes are available via these links: \nSummary of Residential Forms Changes \nSummary of Commercial Forms Changes \n 
URL:https://durhamrealtors.org/event/ncr-mobile-monday-form-changes/
LOCATION:ZOOM Webinar\, NC\, United States
END:VEVENT
BEGIN:VEVENT
DTSTART;TZID=America/New_York:20230629T130000
DTEND;TZID=America/New_York:20230629T160000
DTSTAMP:20260423T200049
CREATED:20230228T143858Z
LAST-MODIFIED:20230517T122714Z
UID:12322-1688043600-1688054400@durhamrealtors.org
SUMMARY:National Real Estate Ethics Day w/ Leigh Brown
DESCRIPTION:REGISTER \n\nMeet NAR’s Code of Ethics Requirement for the cycle ending Dec 2024\nNo cost to DRAR members\nDoes not fulfill CE requirements\nLive Stream Broadcast\n\nJoin Leigh Brown\, a dynamic and engaging speaker who will deliver a training session that’s fun and informative!
URL:https://durhamrealtors.org/event/national-real-estate-ethics-day-w-leigh-brown/
LOCATION:ZOOM Webinar\, NC\, United States
END:VEVENT
BEGIN:VEVENT
DTSTART;TZID=America/New_York:20220711T130000
DTEND;TZID=America/New_York:20220711T140000
DTSTAMP:20260423T200049
CREATED:20220630T132114Z
LAST-MODIFIED:20220630T132114Z
UID:11402-1657544400-1657548000@durhamrealtors.org
SUMMARY:NCR Form Changes
DESCRIPTION:CLICK HERE to join Facebook Group (must answer questions) \nJoin NC REALTOR® General Counsel Will Martin in the Mobile Mondays Facebook Group to learn more about the forms changes that are effective Friday\, July 1\, 2022.
URL:https://durhamrealtors.org/event/ncr-form-changes/
LOCATION:Facebook Private Group\, Durham\, NC\, United States
END:VEVENT
BEGIN:VEVENT
DTSTART;TZID=America/New_York:20220707T130000
DTEND;TZID=America/New_York:20220707T160000
DTSTAMP:20260423T200049
CREATED:20220707T170000Z
LAST-MODIFIED:20220622T122835Z
UID:11390-1657198800-1657209600@durhamrealtors.org
SUMMARY:Nat'l Ethics Day w/Leigh Brown
DESCRIPTION:REGISTER \nFor Class Materials\, click HERE \nRealtor Members will earn their Code of Ethics requirement for NAR’s 3-year cycle
URL:https://durhamrealtors.org/event/natl-ethics-day-w-leigh-brown/
LOCATION:ZOOM Webinar\, NC\, United States
END:VEVENT
BEGIN:VEVENT
DTSTART;VALUE=DATE:20220624
DTEND;VALUE=DATE:20220625
DTSTAMP:20260423T200049
CREATED:20220512T160900Z
LAST-MODIFIED:20220512T160900Z
UID:11255-1656028800-1656115199@durhamrealtors.org
SUMMARY:REALTOR® Give Back Day - DONATE today
DESCRIPTION:DONATE \nTornados! Hurricanes! Housing disasters! \nAssistance is provided to NC citizens on a regular basis by the NC Housing Foundation. They match grants to charities DRAR has supported\, most recently $4\,000 to our Habitat House. \nGive back. Help your neighbors and our communities by making a contribution to the NC Housing Foundation.
URL:https://durhamrealtors.org/event/realtor-give-back-day-donate-today/
LOCATION:NC REALTORS Housing Fdn\, 4511 Weybridge Lane\, Greensboro\, NC\, 27407\, United States
END:VEVENT
BEGIN:VEVENT
DTSTART;TZID=America/New_York:20220511T120000
DTEND;TZID=America/New_York:20220511T130000
DTSTAMP:20260423T200049
CREATED:20220505T133334Z
LAST-MODIFIED:20220505T133334Z
UID:11230-1652270400-1652274000@durhamrealtors.org
SUMMARY:FREE: Zip Forms Workshop
DESCRIPTION:REGISTER \nThis workshop will cover:\n*  the new HW feature\n*  zipForm Edition fundamentals\n*  Updater\, Earnnest and Sellers Shield \nFundamentals\, include: \n*  Profile Settings\n*  Software Navigation\n*  Creating a Transaction\n*  Navigating a Transaction\n*  Title/Home Warranty\n*  The Marketplace
URL:https://durhamrealtors.org/event/free-zip-forms-workshop/
LOCATION:ZOOM Webinar\, NC\, United States
END:VEVENT
END:VCALENDAR