BEGIN:VCALENDAR
VERSION:2.0
PRODID:-//Durham Regional Assc of Realtors - ECPv6.15.16//NONSGML v1.0//EN
CALSCALE:GREGORIAN
METHOD:PUBLISH
X-ORIGINAL-URL:https://durhamrealtors.org
X-WR-CALDESC:Events for Durham Regional Assc of Realtors
REFRESH-INTERVAL;VALUE=DURATION:PT1H
X-Robots-Tag:noindex
X-PUBLISHED-TTL:PT1H
BEGIN:VTIMEZONE
TZID:America/New_York
BEGIN:DAYLIGHT
TZOFFSETFROM:-0500
TZOFFSETTO:-0400
TZNAME:EDT
DTSTART:20220313T070000
END:DAYLIGHT
BEGIN:STANDARD
TZOFFSETFROM:-0400
TZOFFSETTO:-0500
TZNAME:EST
DTSTART:20221106T060000
END:STANDARD
BEGIN:DAYLIGHT
TZOFFSETFROM:-0500
TZOFFSETTO:-0400
TZNAME:EDT
DTSTART:20230312T070000
END:DAYLIGHT
BEGIN:STANDARD
TZOFFSETFROM:-0400
TZOFFSETTO:-0500
TZNAME:EST
DTSTART:20231105T060000
END:STANDARD
BEGIN:DAYLIGHT
TZOFFSETFROM:-0500
TZOFFSETTO:-0400
TZNAME:EDT
DTSTART:20240310T070000
END:DAYLIGHT
BEGIN:STANDARD
TZOFFSETFROM:-0400
TZOFFSETTO:-0500
TZNAME:EST
DTSTART:20241103T060000
END:STANDARD
END:VTIMEZONE
BEGIN:VEVENT
DTSTART;TZID=America/New_York:20230504T180000
DTEND;TZID=America/New_York:20230504T210000
DTSTAMP:20260424T080629
CREATED:20230327T144039Z
LAST-MODIFIED:20230417T121743Z
UID:12446-1683223200-1683234000@durhamrealtors.org
SUMMARY:RPAC Cinco de Mayo Eve Invest Celebration!
DESCRIPTION:CLICK HERE to invest \nInvest $30 RPAC Entry ticket – includes 1-drink\, appetizers\, concert by The Hallicasters. \n \nMEMBER OFFICES  will be recognized at this event if part of Bert Woodall’s 100% RPAC Investment Club. Join this Cinco-de-Mayo celebration for $30 entry.
URL:https://durhamrealtors.org/event/rpac-cinco-de-mayo-eve-invest-celebration/
LOCATION:The Blue Note Grill\, 709 Washington Street\, Durham\, NC\, 27701\, United States
END:VEVENT
END:VCALENDAR