BEGIN:VCALENDAR
VERSION:2.0
PRODID:-//Durham Regional Assc of Realtors - ECPv6.15.16//NONSGML v1.0//EN
CALSCALE:GREGORIAN
METHOD:PUBLISH
X-ORIGINAL-URL:https://durhamrealtors.org
X-WR-CALDESC:Events for Durham Regional Assc of Realtors
REFRESH-INTERVAL;VALUE=DURATION:PT1H
X-Robots-Tag:noindex
X-PUBLISHED-TTL:PT1H
BEGIN:VTIMEZONE
TZID:America/New_York
BEGIN:DAYLIGHT
TZOFFSETFROM:-0500
TZOFFSETTO:-0400
TZNAME:EDT
DTSTART:20230312T070000
END:DAYLIGHT
BEGIN:STANDARD
TZOFFSETFROM:-0400
TZOFFSETTO:-0500
TZNAME:EST
DTSTART:20231105T060000
END:STANDARD
BEGIN:DAYLIGHT
TZOFFSETFROM:-0500
TZOFFSETTO:-0400
TZNAME:EDT
DTSTART:20240310T070000
END:DAYLIGHT
BEGIN:STANDARD
TZOFFSETFROM:-0400
TZOFFSETTO:-0500
TZNAME:EST
DTSTART:20241103T060000
END:STANDARD
BEGIN:DAYLIGHT
TZOFFSETFROM:-0500
TZOFFSETTO:-0400
TZNAME:EDT
DTSTART:20250309T070000
END:DAYLIGHT
BEGIN:STANDARD
TZOFFSETFROM:-0400
TZOFFSETTO:-0500
TZNAME:EST
DTSTART:20251102T060000
END:STANDARD
END:VTIMEZONE
BEGIN:VEVENT
DTSTART;TZID=America/New_York:20240912T090000
DTEND;TZID=America/New_York:20240912T120000
DTSTAMP:20260424T030057
CREATED:20240826T122820Z
LAST-MODIFIED:20240826T123852Z
UID:14250-1726131600-1726142400@durhamrealtors.org
SUMMARY:Flexmls Training @JCAR
DESCRIPTION:Learn Flexmls \nSessions offered at DRAR (September 10)\, RRAR (September 11)\, or JCAR (September 12) \nREGISTER for JCAR \nTopics: \nGetting started with Flexmls\nSubscriptions and Portals\nFlexmls Pro (Mobile)
URL:https://durhamrealtors.org/event/flexmls-jcar/
LOCATION:Johnston County Association of REALTORS\, 709 S. Third Street\, Smithfield\, United States
END:VEVENT
BEGIN:VEVENT
DTSTART;TZID=America/New_York:20240911T090000
DTEND;TZID=America/New_York:20240911T120000
DTSTAMP:20260424T030057
CREATED:20240826T123713Z
LAST-MODIFIED:20240826T123713Z
UID:14255-1726045200-1726056000@durhamrealtors.org
SUMMARY:Flexmls Training @RRAR
DESCRIPTION:Learn Flexmls \nSessions offered at DRAR (September 10)\, RRAR (September 11)\, or JCAR (September 12) \nREGISTER for RRAR \nTopics: \nGetting started with Flexmls\nSubscriptions and Portals\nFlexmls Pro (Mobile)
URL:https://durhamrealtors.org/event/flexmls-training-rrar-2/
LOCATION:Raleigh Regional Association of REALTORS\, 111 Realtors Way\, Cary\, NC\, 27513\, United States
END:VEVENT
END:VCALENDAR