BEGIN:VCALENDAR
VERSION:2.0
PRODID:-//Durham Regional Assc of Realtors - ECPv6.15.16//NONSGML v1.0//EN
CALSCALE:GREGORIAN
METHOD:PUBLISH
X-ORIGINAL-URL:https://durhamrealtors.org
X-WR-CALDESC:Events for Durham Regional Assc of Realtors
REFRESH-INTERVAL;VALUE=DURATION:PT1H
X-Robots-Tag:noindex
X-PUBLISHED-TTL:PT1H
BEGIN:VTIMEZONE
TZID:America/New_York
BEGIN:DAYLIGHT
TZOFFSETFROM:-0500
TZOFFSETTO:-0400
TZNAME:EDT
DTSTART:20170312T070000
END:DAYLIGHT
BEGIN:STANDARD
TZOFFSETFROM:-0400
TZOFFSETTO:-0500
TZNAME:EST
DTSTART:20171105T060000
END:STANDARD
BEGIN:DAYLIGHT
TZOFFSETFROM:-0500
TZOFFSETTO:-0400
TZNAME:EDT
DTSTART:20180311T070000
END:DAYLIGHT
BEGIN:STANDARD
TZOFFSETFROM:-0400
TZOFFSETTO:-0500
TZNAME:EST
DTSTART:20181104T060000
END:STANDARD
BEGIN:DAYLIGHT
TZOFFSETFROM:-0500
TZOFFSETTO:-0400
TZNAME:EDT
DTSTART:20190310T070000
END:DAYLIGHT
BEGIN:STANDARD
TZOFFSETFROM:-0400
TZOFFSETTO:-0500
TZNAME:EST
DTSTART:20191103T060000
END:STANDARD
BEGIN:DAYLIGHT
TZOFFSETFROM:-0500
TZOFFSETTO:-0400
TZNAME:EDT
DTSTART:20200308T070000
END:DAYLIGHT
BEGIN:STANDARD
TZOFFSETFROM:-0400
TZOFFSETTO:-0500
TZNAME:EST
DTSTART:20201101T060000
END:STANDARD
END:VTIMEZONE
BEGIN:VEVENT
DTSTART;TZID=America/New_York:20190925T113000
DTEND;TZID=America/New_York:20190925T123000
DTSTAMP:20260424T092633
CREATED:20190801T141810Z
LAST-MODIFIED:20190801T141810Z
UID:9459-1569411000-1569414600@durhamrealtors.org
SUMMARY:REALTY Home Dedication: Coley Family Habitat Home
DESCRIPTION:Register at:  http://www.durhamrealtors.org/mmsi
URL:https://durhamrealtors.org/event/realty-home-dedication-coley-family-habitat-home/
END:VEVENT
BEGIN:VEVENT
DTSTART;TZID=America/New_York:20190923T160000
DTEND;TZID=America/New_York:20190923T180000
DTSTAMP:20260424T092633
CREATED:20190801T142158Z
LAST-MODIFIED:20190801T142158Z
UID:9460-1569254400-1569261600@durhamrealtors.org
SUMMARY:TMLA Food Truck Rodeo
DESCRIPTION:
URL:https://durhamrealtors.org/event/tmla-bbq-fundraiser/
LOCATION:REALTOR® Square at DRAR\, 4236 University Drive\, Durham\, NC\, 27707\, United States
GEO:35.9626463;-78.9610398
X-APPLE-STRUCTURED-LOCATION;VALUE=URI;X-ADDRESS=REALTOR® Square at DRAR 4236 University Drive Durham NC 27707 United States;X-APPLE-RADIUS=500;X-TITLE=4236 University Drive:geo:-78.9610398,35.9626463
END:VEVENT
BEGIN:VEVENT
DTSTART;TZID=America/New_York:20190523T150000
DTEND;TZID=America/New_York:20190523T173000
DTSTAMP:20260424T092633
CREATED:20190506T162538Z
LAST-MODIFIED:20190506T162538Z
UID:9430-1558623600-1558632600@durhamrealtors.org
SUMMARY:Serving Ronald McDonald House Meal
DESCRIPTION:Community Service Committee & Volunteers. Sponsor: TMLA
URL:https://durhamrealtors.org/event/serving-ronald-mcdonald-house-meal/
LOCATION:Ronald McDonald House of Durham\, 506 Alexander Ave\, Durham\, NC\, 27705\, United States
GEO:36.0015628;-78.9275753
X-APPLE-STRUCTURED-LOCATION;VALUE=URI;X-ADDRESS=Ronald McDonald House of Durham 506 Alexander Ave Durham NC 27705 United States;X-APPLE-RADIUS=500;X-TITLE=506 Alexander Ave:geo:-78.9275753,36.0015628
END:VEVENT
BEGIN:VEVENT
DTSTART;TZID=America/New_York:20181018T120000
DTEND;TZID=America/New_York:20181018T140000
DTSTAMP:20260424T092633
CREATED:20180709T152508Z
LAST-MODIFIED:20180709T152508Z
UID:9336-1539864000-1539871200@durhamrealtors.org
SUMMARY:DRAR/TMLA Annual Charity Auction to Benefit Habitat for Humanity of Durham
DESCRIPTION:Reserve Seats Contact DRAR: Services@DurhamRealtors.org or call – 919-403-2117 \n \n\n \nhttp://www.durhamrealtors.org/wp-content/uploads/2018/07/finalVideo.mp4\nALL funds raised from our Auction will be donated to Habitat for Humanity of Durham. \nTo Reserve Seats Contact DRAR:  \n Services@DurhamRealtors.org \nor call – 919-403-2117 \n  \n  \n  \n 
URL:https://durhamrealtors.org/event/drar-tmls-annual-charity-auction-to-benefit-habitat-of-humanity-of-durham/
LOCATION:Hope Valley Country Club\, 3803 Dover Rd\, NC 27707\, Durham\, 27707\, United States
GEO:35.9470063;-78.9518792
X-APPLE-STRUCTURED-LOCATION;VALUE=URI;X-ADDRESS=Hope Valley Country Club 3803 Dover Rd NC 27707 Durham 27707 United States;X-APPLE-RADIUS=500;X-TITLE=3803 Dover Rd\, NC 27707:geo:-78.9518792,35.9470063
END:VEVENT
BEGIN:VEVENT
DTSTART;TZID=America/New_York:20180920T000000
DTEND;TZID=America/New_York:20180920T000000
DTSTAMP:20260424T092633
CREATED:20180802T153822Z
LAST-MODIFIED:20180802T153822Z
UID:9341-1537401600-1537401600@durhamrealtors.org
SUMMARY:TMLA Pig Roast Cook-Out to Benefit Habitat for Humanity of Durham
DESCRIPTION:Save The Date\n\nTriangle Mortgage Lenders Association & DRAR bringing together the best pig\, the best fixin’s \nand when you attend we’ve got the best people! \nWe will be raising money for the best cause: Affordable Housing for a Durham Family! \n 
URL:https://durhamrealtors.org/event/pig-roast-cook-out-to-benefit-habitat-for-humanity-of-durham/
LOCATION:REALTOR® Square at DRAR\, 4236 University Drive\, Durham\, NC\, 27707\, United States
GEO:35.9626463;-78.9610398
X-APPLE-STRUCTURED-LOCATION;VALUE=URI;X-ADDRESS=REALTOR® Square at DRAR 4236 University Drive Durham NC 27707 United States;X-APPLE-RADIUS=500;X-TITLE=4236 University Drive:geo:-78.9610398,35.9626463
END:VEVENT
BEGIN:VEVENT
DTSTART;TZID=America/New_York:20180521T130000
DTEND;TZID=America/New_York:20180521T180000
DTSTAMP:20260424T092633
CREATED:20180412T173511Z
LAST-MODIFIED:20180412T173511Z
UID:9328-1526907600-1526925600@durhamrealtors.org
SUMMARY:2018 DRAR/TMLA Golf Tournament
DESCRIPTION:2018 DRAR/TMLA Golf Tournament\nMonday\, May 21st – 1pm shotgun start\nGolf Registration:\n$80 and includes buffet dinner following tournament. \n Click Here to view print golf registration form\n\nThank you to our 2018 Golf Sponsors \nBeverage Cart Sponsorship\nLou Ann Craven – Investor’s Title Company\nUnion Home Mortgage\nHole Sponsorship\nRick Soles Property Management – Rick Soles\nRealPrice – Dick Moss\nPickett-Sprouse Real Estate – In Memory of Judson Pickett\nMarie Austin Realty – Joan Austin\nCorporate Investors Mortgage Group – Chris Holt\nArges Law Firm – Jim Arges\nFirst Citizens Bank – James McDuffie\n\nDoor Prizes\nBenefits of Sponsorship\nBeverage Cart Sponsor(s) will have company name displayed on Beverage Cart\nHole Sponsors will have company name displayed on individual hole\nSponsor Recognition weekly to DRAR members in REALtalk\nTournament rules and sponsors flier distributed at event\nHomes & Land Magazine full page ad recognition\nClick Here to view/print sponsor form
URL:https://durhamrealtors.org/event/2018-drar-tmla-golf-tournament/
LOCATION:Governors Club\, 11000 Governors Drive\, Chapel Hill\, 27517\, United States
GEO:35.8540763;-79.033719
X-APPLE-STRUCTURED-LOCATION;VALUE=URI;X-ADDRESS=Governors Club 11000 Governors Drive Chapel Hill 27517 United States;X-APPLE-RADIUS=500;X-TITLE=11000 Governors Drive:geo:-79.033719,35.8540763
END:VEVENT
BEGIN:VEVENT
DTSTART;TZID=America/New_York:20180425T150000
DTEND;TZID=America/New_York:20180425T170000
DTSTAMP:20260424T092633
CREATED:20180406T162509Z
LAST-MODIFIED:20180406T162509Z
UID:9319-1524668400-1524675600@durhamrealtors.org
SUMMARY:A Day in the Life of A Loan
DESCRIPTION:Triangle Mortgage Lenders Association Presents…\nA Day in the Life of a Loan \n3pm Seminar\n4pm Social \nNetworking to follow with adult beverages and hors d’oeuvres \nRegister for this event \nCome learn from your local industry experts\, members of the Triangle Mortgage Lenders Association: \n\nWhat goes on behind the scenes from start to finish\n\n\nThe mortgage process is so complicated  – why?\n\n\nWhy does the mortgage process  take so long?\n\n\nHow can I better prepare my clients?\n\n\nVarious topics related to the current lending environment\n\n  \n 
URL:https://durhamrealtors.org/event/a-day-in-the-life-of-a-loan/
LOCATION:REALTOR® Square at DRAR\, 4236 University Drive\, Durham\, NC\, 27707\, United States
GEO:35.9626463;-78.9610398
X-APPLE-STRUCTURED-LOCATION;VALUE=URI;X-ADDRESS=REALTOR® Square at DRAR 4236 University Drive Durham NC 27707 United States;X-APPLE-RADIUS=500;X-TITLE=4236 University Drive:geo:-78.9610398,35.9626463
END:VEVENT
END:VCALENDAR