BEGIN:VCALENDAR
VERSION:2.0
PRODID:-//Durham Regional Assc of Realtors - ECPv6.15.16//NONSGML v1.0//EN
CALSCALE:GREGORIAN
METHOD:PUBLISH
X-WR-CALNAME:Durham Regional Assc of Realtors
X-ORIGINAL-URL:https://durhamrealtors.org
X-WR-CALDESC:Events for Durham Regional Assc of Realtors
REFRESH-INTERVAL;VALUE=DURATION:PT1H
X-Robots-Tag:noindex
X-PUBLISHED-TTL:PT1H
BEGIN:VTIMEZONE
TZID:America/New_York
BEGIN:DAYLIGHT
TZOFFSETFROM:-0500
TZOFFSETTO:-0400
TZNAME:EDT
DTSTART:20210314T070000
END:DAYLIGHT
BEGIN:STANDARD
TZOFFSETFROM:-0400
TZOFFSETTO:-0500
TZNAME:EST
DTSTART:20211107T060000
END:STANDARD
BEGIN:DAYLIGHT
TZOFFSETFROM:-0500
TZOFFSETTO:-0400
TZNAME:EDT
DTSTART:20220313T070000
END:DAYLIGHT
BEGIN:STANDARD
TZOFFSETFROM:-0400
TZOFFSETTO:-0500
TZNAME:EST
DTSTART:20221106T060000
END:STANDARD
BEGIN:DAYLIGHT
TZOFFSETFROM:-0500
TZOFFSETTO:-0400
TZNAME:EDT
DTSTART:20230312T070000
END:DAYLIGHT
BEGIN:STANDARD
TZOFFSETFROM:-0400
TZOFFSETTO:-0500
TZNAME:EST
DTSTART:20231105T060000
END:STANDARD
BEGIN:DAYLIGHT
TZOFFSETFROM:-0500
TZOFFSETTO:-0400
TZNAME:EDT
DTSTART:20240310T070000
END:DAYLIGHT
BEGIN:STANDARD
TZOFFSETFROM:-0400
TZOFFSETTO:-0500
TZNAME:EST
DTSTART:20241103T060000
END:STANDARD
END:VTIMEZONE
BEGIN:VEVENT
DTSTART;TZID=America/New_York:20231013T170000
DTEND;TZID=America/New_York:20231013T230000
DTSTAMP:20260424T030057
CREATED:20230906T113218Z
LAST-MODIFIED:20230906T113218Z
UID:13010-1697216400-1697238000@durhamrealtors.org
SUMMARY:TRIBOR 10th Anniversary DInner & Casino
DESCRIPTION:REGISTER \nThere is a $110-$225 fee for this event
URL:https://durhamrealtors.org/event/tribor-10th-anniversary-dinner-casino/
LOCATION:Hampton Inn & Suites\, 8021 Arco Corporate Drive\, Raleigh\, NC\, 27617\, United States
END:VEVENT
BEGIN:VEVENT
DTSTART;TZID=America/New_York:20230928T120000
DTEND;TZID=America/New_York:20230928T133000
DTSTAMP:20260424T030057
CREATED:20230906T112550Z
LAST-MODIFIED:20230906T112550Z
UID:13008-1695902400-1695907800@durhamrealtors.org
SUMMARY:TRIBOR: Power of Emotional Intelligence to Win
DESCRIPTION:REGISTER \nThere is a $10 fee for this event
URL:https://durhamrealtors.org/event/tribor-power-of-emotional-intelligence-to-win/
LOCATION:Raleigh Regional Association of REALTORS\, 111 Realtors Way\, Cary\, NC\, 27513\, United States
END:VEVENT
BEGIN:VEVENT
DTSTART;TZID=America/New_York:20230914T180000
DTEND;TZID=America/New_York:20230914T200000
DTSTAMP:20260424T030057
CREATED:20230906T111459Z
LAST-MODIFIED:20230906T111459Z
UID:13005-1694714400-1694721600@durhamrealtors.org
SUMMARY:TRIBOR Member Mixer
DESCRIPTION:REGISTER \n 
URL:https://durhamrealtors.org/event/tribor-member-mixer/
LOCATION:Sports & Social\, 301 Fenton Gateway Drive\, Cary\, NC\, 27511\, United States
END:VEVENT
BEGIN:VEVENT
DTSTART;TZID=America/New_York:20230824T120000
DTEND;TZID=America/New_York:20230824T140000
DTSTAMP:20260424T030057
CREATED:20230804T150057Z
LAST-MODIFIED:20230804T150057Z
UID:12910-1692878400-1692885600@durhamrealtors.org
SUMMARY:Tribor: Lead Generation with Homes.com
DESCRIPTION:REGISTER $10 \nBrandon Riddick introduces the new Homes.com. No more confusion as to who the Listing Agent on a property is\, and no more bombarding calls from robo-dialers. \nSome of what will be covered: \n1. Proven strategy to get seller/buyer leads for FREE! \n2. New Agent/Consumer collaboration \n3. How agents will be able to save more time and make more money! \n4. Our plans to spend hundreds of millions to drive FREE leads to agents this year \n5. How agents can take advantage right now before everyone else!
URL:https://durhamrealtors.org/event/tribor-lead-generation-with-homes-com/
LOCATION:REALTOR® Square at DRAR\, 4236 University Drive\, Durham\, NC\, 27707\, United States
GEO:35.9626463;-78.9610398
X-APPLE-STRUCTURED-LOCATION;VALUE=URI;X-ADDRESS=REALTOR® Square at DRAR 4236 University Drive Durham NC 27707 United States;X-APPLE-RADIUS=500;X-TITLE=4236 University Drive:geo:-78.9610398,35.9626463
END:VEVENT
BEGIN:VEVENT
DTSTART;TZID=America/New_York:20230810T183000
DTEND;TZID=America/New_York:20230810T213000
DTSTAMP:20260424T030057
CREATED:20230710T112444Z
LAST-MODIFIED:20230710T112444Z
UID:12829-1691692200-1691703000@durhamrealtors.org
SUMMARY:TRIBOR REALTIST - Durham Bulls Game
DESCRIPTION:INFO & REGISTER – $25
URL:https://durhamrealtors.org/event/tribor-realtist-durham-bulls-game/
LOCATION:Durham Bulls Athletic Park\, 409 Blackwell St\, Durham\, NC\, 27701\, United States
END:VEVENT
BEGIN:VEVENT
DTSTART;TZID=America/New_York:20230525T120000
DTEND;TZID=America/New_York:20230525T130000
DTSTAMP:20260424T030057
CREATED:20230518T121609Z
LAST-MODIFIED:20230518T121609Z
UID:12630-1685016000-1685019600@durhamrealtors.org
SUMMARY:TRIBOR: Rockval real estate technology (via Zoom)
DESCRIPTION:REGISTER \n \nTo preview Rockval\, CLICK HERE
URL:https://durhamrealtors.org/event/tribor-rockval-real-estate-technology-via-zoom/
LOCATION:ZOOM Webinar\, NC\, United States
END:VEVENT
BEGIN:VEVENT
DTSTART;TZID=America/New_York:20230415T100000
DTEND;TZID=America/New_York:20230415T140000
DTSTAMP:20260424T030057
CREATED:20230322T120611Z
LAST-MODIFIED:20230322T123605Z
UID:12422-1681552800-1681567200@durhamrealtors.org
SUMMARY:TRIBOR: Community Day
DESCRIPTION:REGISTER
URL:https://durhamrealtors.org/event/tribor-community-day/
LOCATION:Sheraton Imperial Hotel\, 4700 Emperor Blvd\, Durham\, NC\, United States
END:VEVENT
BEGIN:VEVENT
DTSTART;TZID=America/New_York:20230414T180000
DTEND;TZID=America/New_York:20230414T210000
DTSTAMP:20260424T030057
CREATED:20230322T120328Z
LAST-MODIFIED:20230322T123838Z
UID:12418-1681495200-1681506000@durhamrealtors.org
SUMMARY:TRIBOR: Women in Real Estate (WIRE)
DESCRIPTION:REGISTER
URL:https://durhamrealtors.org/event/tribor-women-in-real-estate-wire/
LOCATION:The West Room\, 6405 Westgate Road\, RALEIGH\, NC\, United States
END:VEVENT
BEGIN:VEVENT
DTSTART;TZID=America/New_York:20230413T123000
DTEND;TZID=America/New_York:20230413T153000
DTSTAMP:20260424T030057
CREATED:20230322T120028Z
LAST-MODIFIED:20230322T123948Z
UID:12415-1681389000-1681399800@durhamrealtors.org
SUMMARY:TRIBOR: Fair Housing Lunch & Learn
DESCRIPTION:REGISTER
URL:https://durhamrealtors.org/event/tribor-fair-housing-lunch-learn/
LOCATION:Raleigh Regional Association of REALTORS\, 111 Realtors Way\, Cary\, NC\, 27513\, United States
END:VEVENT
BEGIN:VEVENT
DTSTART;TZID=America/New_York:20230412T110000
DTEND;TZID=America/New_York:20230412T130000
DTSTAMP:20260424T030057
CREATED:20230322T115611Z
LAST-MODIFIED:20230322T115611Z
UID:12411-1681297200-1681304400@durhamrealtors.org
SUMMARY:TRIBOR: Community Service Day
DESCRIPTION:REGISTER
URL:https://durhamrealtors.org/event/tribor-community-service-day/
LOCATION:Oak City Cares\, 1430 S. Wilmington St\, RALEIGH\, NC\, United States
END:VEVENT
BEGIN:VEVENT
DTSTART;TZID=America/New_York:20230411T090000
DTEND;TZID=America/New_York:20230411T103000
DTSTAMP:20260424T030057
CREATED:20230322T115313Z
LAST-MODIFIED:20230322T115313Z
UID:12408-1681203600-1681209000@durhamrealtors.org
SUMMARY:TRIBOR: Political Advocacy Day
DESCRIPTION:REGISTER
URL:https://durhamrealtors.org/event/tribor-political-advocacy-day/
LOCATION:Raleigh Regional Association of REALTORS\, 111 Realtors Way\, Cary\, NC\, 27513\, United States
END:VEVENT
BEGIN:VEVENT
DTSTART;TZID=America/New_York:20230410T170000
DTEND;TZID=America/New_York:20230410T200000
DTSTAMP:20260424T030057
CREATED:20230322T114515Z
LAST-MODIFIED:20230322T114515Z
UID:12401-1681146000-1681156800@durhamrealtors.org
SUMMARY:TRIBOR: Health is Wealth
DESCRIPTION:REGISTER
URL:https://durhamrealtors.org/event/tribor-health-is-wealth/
LOCATION:Dorothea Dix Park\, 1030 Richardson Drive\, RALEIGH\, NC\, United States
END:VEVENT
BEGIN:VEVENT
DTSTART;TZID=America/New_York:20230409T080000
DTEND;TZID=America/New_York:20230409T113000
DTSTAMP:20260424T030057
CREATED:20230322T114002Z
LAST-MODIFIED:20230322T141454Z
UID:12397-1681027200-1681039800@durhamrealtors.org
SUMMARY:TRIBOR: Service & Brunch
DESCRIPTION:REGISTER FOR CHURCH SERVICE 8:00am @ Union Baptist Church\, 904 N. Roxboro\, Durham \nREGISTER FOR BRUNCH @ 10:00am @ Dame’s Chicken & Waffles\, 530 Foster St. Durham
URL:https://durhamrealtors.org/event/realtist-service-brunch/
LOCATION:Union Baptist Church\, 904 N Roxboro St\, Durham\, NC\, United States
END:VEVENT
BEGIN:VEVENT
DTSTART;TZID=America/New_York:20230323T120000
DTEND;TZID=America/New_York:20230323T140000
DTSTAMP:20260424T030057
CREATED:20230306T114312Z
LAST-MODIFIED:20230306T114312Z
UID:12342-1679572800-1679580000@durhamrealtors.org
SUMMARY:TRIBOR Lunch & Learn:  Lender Panel
DESCRIPTION:REGISTER
URL:https://durhamrealtors.org/event/tribor-lunch-learn-lender-panel/
LOCATION:REALTOR® Square at DRAR\, 4236 University Drive\, Durham\, NC\, 27707\, United States
GEO:35.9626463;-78.9610398
X-APPLE-STRUCTURED-LOCATION;VALUE=URI;X-ADDRESS=REALTOR® Square at DRAR 4236 University Drive Durham NC 27707 United States;X-APPLE-RADIUS=500;X-TITLE=4236 University Drive:geo:-78.9610398,35.9626463
END:VEVENT
BEGIN:VEVENT
DTSTART;TZID=America/New_York:20230323T113000
DTEND;TZID=America/New_York:20230323T140000
DTSTAMP:20260424T030057
CREATED:20230201T144856Z
LAST-MODIFIED:20230201T144856Z
UID:12166-1679571000-1679580000@durhamrealtors.org
SUMMARY:TRIBOR Members Only Meeting
DESCRIPTION:This is a TRIBOR Member-only event.
URL:https://durhamrealtors.org/event/tribor-members-only-meeting/
LOCATION:REALTOR® Square at DRAR\, 4236 University Drive\, Durham\, NC\, 27707\, United States
GEO:35.9626463;-78.9610398
X-APPLE-STRUCTURED-LOCATION;VALUE=URI;X-ADDRESS=REALTOR® Square at DRAR 4236 University Drive Durham NC 27707 United States;X-APPLE-RADIUS=500;X-TITLE=4236 University Drive:geo:-78.9610398,35.9626463
END:VEVENT
BEGIN:VEVENT
DTSTART;TZID=America/New_York:20230309T180000
DTEND;TZID=America/New_York:20230309T200000
DTSTAMP:20260424T030057
CREATED:20230306T114606Z
LAST-MODIFIED:20230306T114606Z
UID:12345-1678384800-1678392000@durhamrealtors.org
SUMMARY:TRIBOR Social Mixer @ The Goat!
DESCRIPTION:REGISTER
URL:https://durhamrealtors.org/event/tribor-social-mixer-the-goat/
LOCATION:The Goat Durham\, 5600 Primary Drive\, Durham\, NC\, 27560\, United States
END:VEVENT
BEGIN:VEVENT
DTSTART;TZID=America/New_York:20230216T120000
DTEND;TZID=America/New_York:20230216T140000
DTSTAMP:20260424T030057
CREATED:20230130T160218Z
LAST-MODIFIED:20230130T160328Z
UID:12158-1676548800-1676556000@durhamrealtors.org
SUMMARY:TRIBOR Lunch & Learn: What the Appraisal?
DESCRIPTION:REGISTER \n \nThe Triangle Board of Realtist (TRIBOR) is a local affiliate of the National Association of Real Estate Brokers (NAREB) – the nation’s oldest and most historic Black real estate trade association. TRIBOR is a group of professionals working together to make homeownership affordable\, sustainable\, and attainable for homebuyers in the Triangle. For more information\, visit https://www.tribornareb.com.
URL:https://durhamrealtors.org/event/lunch-learn-what-the-appraisal/
LOCATION:Raleigh Regional Association of REALTORS\, 111 Realtors Way\, Cary\, NC\, 27513\, United States
END:VEVENT
BEGIN:VEVENT
DTSTART;TZID=America/New_York:20230209T180000
DTEND;TZID=America/New_York:20230209T200000
DTSTAMP:20260424T030057
CREATED:20230130T155939Z
LAST-MODIFIED:20230130T155945Z
UID:12154-1675965600-1675972800@durhamrealtors.org
SUMMARY:TRIBOR Bowling Mixer
DESCRIPTION:REGISTER \n \nThe Triangle Board of Realtist (TRIBOR) is a local affiliate of the National Association of Real Estate Brokers (NAREB) – the nation’s oldest and most historic Black real estate trade association. TRIBOR is a group of professionals working together to make homeownership affordable\, sustainable\, and attainable for homebuyers in the Triangle. For more information\, visit https://www.tribornareb.com.
URL:https://durhamrealtors.org/event/tribor-bowling-mixer/
LOCATION:Stars and Strikes\, 4020 Capital Blvd\, Raleigh\, NC\, 27604\, United States
END:VEVENT
BEGIN:VEVENT
DTSTART;TZID=America/New_York:20221112T110000
DTEND;TZID=America/New_York:20221112T120000
DTSTAMP:20260424T030057
CREATED:20221105T104248Z
LAST-MODIFIED:20221105T104248Z
UID:11706-1668250800-1668254400@durhamrealtors.org
SUMMARY:Veteran Appreciation by REALTORS
DESCRIPTION:REGISTER
URL:https://durhamrealtors.org/event/veteran-appreciation-by-realtors/
LOCATION:St Joseph AME Church\, 2521 Fayetteville St\, Durham\, NC\, 27707\, United States
END:VEVENT
BEGIN:VEVENT
DTSTART;TZID=America/New_York:20221105T140000
DTEND;TZID=America/New_York:20221105T150000
DTSTAMP:20260424T030057
CREATED:20221105T104627Z
LAST-MODIFIED:20221105T104627Z
UID:11711-1667656800-1667660400@durhamrealtors.org
SUMMARY:Health is Wealth
DESCRIPTION:REGISTER
URL:https://durhamrealtors.org/event/health-is-wealth/
LOCATION:Durham Southwest Regional Library\, 3605 Shannon Road\, Durham\, NC\, 27707\, United States
END:VEVENT
BEGIN:VEVENT
DTSTART;TZID=America/New_York:20221030T123000
DTEND;TZID=America/New_York:20221030T140000
DTSTAMP:20260424T030057
CREATED:20221105T105704Z
LAST-MODIFIED:20221105T105704Z
UID:11721-1667133000-1667138400@durhamrealtors.org
SUMMARY:OrangeTheory Exercise & Lunch
DESCRIPTION:REGISTER
URL:https://durhamrealtors.org/event/orangetheory-exercise-lunch/
LOCATION:orangetheory Southpoint\, Orangetheory Fitness www.orangetheory.com 202 W North Carolina 54\, Ste 503\, Durham\, NC\, 27713\, United States
END:VEVENT
END:VCALENDAR