BEGIN:VCALENDAR
VERSION:2.0
PRODID:-//Durham Regional Assc of Realtors - ECPv6.15.16//NONSGML v1.0//EN
CALSCALE:GREGORIAN
METHOD:PUBLISH
X-WR-CALNAME:Durham Regional Assc of Realtors
X-ORIGINAL-URL:https://durhamrealtors.org
X-WR-CALDESC:Events for Durham Regional Assc of Realtors
REFRESH-INTERVAL;VALUE=DURATION:PT1H
X-Robots-Tag:noindex
X-PUBLISHED-TTL:PT1H
BEGIN:VTIMEZONE
TZID:America/New_York
BEGIN:DAYLIGHT
TZOFFSETFROM:-0500
TZOFFSETTO:-0400
TZNAME:EDT
DTSTART:20210314T070000
END:DAYLIGHT
BEGIN:STANDARD
TZOFFSETFROM:-0400
TZOFFSETTO:-0500
TZNAME:EST
DTSTART:20211107T060000
END:STANDARD
BEGIN:DAYLIGHT
TZOFFSETFROM:-0500
TZOFFSETTO:-0400
TZNAME:EDT
DTSTART:20220313T070000
END:DAYLIGHT
BEGIN:STANDARD
TZOFFSETFROM:-0400
TZOFFSETTO:-0500
TZNAME:EST
DTSTART:20221106T060000
END:STANDARD
BEGIN:DAYLIGHT
TZOFFSETFROM:-0500
TZOFFSETTO:-0400
TZNAME:EDT
DTSTART:20230312T070000
END:DAYLIGHT
BEGIN:STANDARD
TZOFFSETFROM:-0400
TZOFFSETTO:-0500
TZNAME:EST
DTSTART:20231105T060000
END:STANDARD
END:VTIMEZONE
BEGIN:VEVENT
DTSTART;TZID=America/New_York:20220817T093000
DTEND;TZID=America/New_York:20220817T110000
DTSTAMP:20260424T080452
CREATED:20220811T133000Z
LAST-MODIFIED:20220811T104814Z
UID:11493-1660728600-1660734000@durhamrealtors.org
SUMMARY:Alamance MLS Vote in Burlington NC
DESCRIPTION:*For Alamance MLS MEMBERS Only* \nIf you are not a member of the Alamance MLS\, then you cannot vote. Voting is IN-PERSON only. \nREGISTER \nEarlier this year\, the Triangle MLS Board invited Alamance MLS to join Triangle as the 5th  stakeholder. A few weeks ago they voted to accept the proposal and hold a participant’s vote. To make a reservation\, please e-mail the Alamance Association at amls@triadbiz.rr.com or call 336-227-3518 by Wednesday\, August 3\, 2022.
URL:https://durhamrealtors.org/event/alamance-mls-vote/
LOCATION:Best Western Burlington\, 770 Huffman Mill Road\, Burlington\, NC\, 27215\, United States
END:VEVENT
END:VCALENDAR