BEGIN:VCALENDAR
VERSION:2.0
PRODID:-//Durham Regional Assc of Realtors - ECPv6.15.16//NONSGML v1.0//EN
CALSCALE:GREGORIAN
METHOD:PUBLISH
X-ORIGINAL-URL:https://durhamrealtors.org
X-WR-CALDESC:Events for Durham Regional Assc of Realtors
REFRESH-INTERVAL;VALUE=DURATION:PT1H
X-Robots-Tag:noindex
X-PUBLISHED-TTL:PT1H
BEGIN:VTIMEZONE
TZID:America/New_York
BEGIN:DAYLIGHT
TZOFFSETFROM:-0500
TZOFFSETTO:-0400
TZNAME:EDT
DTSTART:20170312T070000
END:DAYLIGHT
BEGIN:STANDARD
TZOFFSETFROM:-0400
TZOFFSETTO:-0500
TZNAME:EST
DTSTART:20171105T060000
END:STANDARD
BEGIN:DAYLIGHT
TZOFFSETFROM:-0500
TZOFFSETTO:-0400
TZNAME:EDT
DTSTART:20180311T070000
END:DAYLIGHT
BEGIN:STANDARD
TZOFFSETFROM:-0400
TZOFFSETTO:-0500
TZNAME:EST
DTSTART:20181104T060000
END:STANDARD
BEGIN:DAYLIGHT
TZOFFSETFROM:-0500
TZOFFSETTO:-0400
TZNAME:EDT
DTSTART:20190310T070000
END:DAYLIGHT
BEGIN:STANDARD
TZOFFSETFROM:-0400
TZOFFSETTO:-0500
TZNAME:EST
DTSTART:20191103T060000
END:STANDARD
END:VTIMEZONE
BEGIN:VEVENT
DTSTART;TZID=America/New_York:20180906T173000
DTEND;TZID=America/New_York:20180906T203000
DTSTAMP:20260424T162345
CREATED:20180816T150538Z
LAST-MODIFIED:20180816T150538Z
UID:9344-1536255000-1536265800@durhamrealtors.org
SUMMARY:REALTOR® Appreciation Night @ Carrabba's Durham
DESCRIPTION:
URL:https://durhamrealtors.org/event/realtor-appreciation-night-carrabbas-durham/
LOCATION:Carrabba’s Durham\, 5312 New Hope Commons Drive\, Durham\, NC\, 27707\, United States
GEO:35.9558131;-78.9928096
X-APPLE-STRUCTURED-LOCATION;VALUE=URI;X-ADDRESS=Carrabba’s Durham 5312 New Hope Commons Drive Durham NC 27707 United States;X-APPLE-RADIUS=500;X-TITLE=5312 New Hope Commons Drive:geo:-78.9928096,35.9558131
END:VEVENT
END:VCALENDAR