BEGIN:VCALENDAR
VERSION:2.0
PRODID:-//Durham Regional Assc of Realtors - ECPv6.15.16//NONSGML v1.0//EN
CALSCALE:GREGORIAN
METHOD:PUBLISH
X-ORIGINAL-URL:https://durhamrealtors.org
X-WR-CALDESC:Events for Durham Regional Assc of Realtors
REFRESH-INTERVAL;VALUE=DURATION:PT1H
X-Robots-Tag:noindex
X-PUBLISHED-TTL:PT1H
BEGIN:VTIMEZONE
TZID:America/New_York
BEGIN:DAYLIGHT
TZOFFSETFROM:-0500
TZOFFSETTO:-0400
TZNAME:EDT
DTSTART:20210314T070000
END:DAYLIGHT
BEGIN:STANDARD
TZOFFSETFROM:-0400
TZOFFSETTO:-0500
TZNAME:EST
DTSTART:20211107T060000
END:STANDARD
BEGIN:DAYLIGHT
TZOFFSETFROM:-0500
TZOFFSETTO:-0400
TZNAME:EDT
DTSTART:20220313T070000
END:DAYLIGHT
BEGIN:STANDARD
TZOFFSETFROM:-0400
TZOFFSETTO:-0500
TZNAME:EST
DTSTART:20221106T060000
END:STANDARD
BEGIN:DAYLIGHT
TZOFFSETFROM:-0500
TZOFFSETTO:-0400
TZNAME:EDT
DTSTART:20230312T070000
END:DAYLIGHT
BEGIN:STANDARD
TZOFFSETFROM:-0400
TZOFFSETTO:-0500
TZNAME:EST
DTSTART:20231105T060000
END:STANDARD
BEGIN:DAYLIGHT
TZOFFSETFROM:-0500
TZOFFSETTO:-0400
TZNAME:EDT
DTSTART:20240310T070000
END:DAYLIGHT
BEGIN:STANDARD
TZOFFSETFROM:-0400
TZOFFSETTO:-0500
TZNAME:EST
DTSTART:20241103T060000
END:STANDARD
END:VTIMEZONE
BEGIN:VEVENT
DTSTART;TZID=America/New_York:20230917T120000
DTEND;TZID=America/New_York:20230917T180000
DTSTAMP:20260424T032038
CREATED:20230714T113449Z
LAST-MODIFIED:20230714T113449Z
UID:12857-1694952000-1694973600@durhamrealtors.org
SUMMARY:La Fiesta del Pueblo!
DESCRIPTION:No Registration Required \nDRAR & RRAR are partnering & will share a booth to inform consumers of our commitment to Fair Housing and the importance of housing assistance to the Latin American community. \nTo our Hispanic\, Latino\, and Latinx members\, please know that we care about you and your success.
URL:https://durhamrealtors.org/event/la-fiesta-del-pueblo/
LOCATION:City Plaza – Fayetteville Street – Raleigh\, NC\, 400 Fayetteville Street\, Raleigh\, NC\, 27601\, United States
GEO:35.7754019;-78.6398799
X-APPLE-STRUCTURED-LOCATION;VALUE=URI;X-ADDRESS=City Plaza – Fayetteville Street – Raleigh NC 400 Fayetteville Street Raleigh NC 27601 United States;X-APPLE-RADIUS=500;X-TITLE=400 Fayetteville Street:geo:-78.6398799,35.7754019
END:VEVENT
BEGIN:VEVENT
DTSTART;TZID=America/New_York:20220918T120000
DTEND;TZID=America/New_York:20220918T180000
DTSTAMP:20260424T032038
CREATED:20220727T154544Z
LAST-MODIFIED:20220727T154544Z
UID:11462-1663502400-1663524000@durhamrealtors.org
SUMMARY:La Fiesta del Pueblo - with RRAR
DESCRIPTION:DRAR & RRAR are partnering and will have a booth at this event – the Triangle’s largest and most diverse festival of Latin American culture\, which attracts over 22\,000 people. \nThis event will feature live music and dance  performances\, visual and folk art exhibits\, educational booths\, and activities for the whole family.
URL:https://durhamrealtors.org/event/la-fiesta-del-pueblo-with-rrar/
LOCATION:City Plaza – Fayetteville Street – Raleigh\, NC\, 400 Fayetteville Street\, Raleigh\, NC\, 27601\, United States
GEO:35.7754019;-78.6398799
X-APPLE-STRUCTURED-LOCATION;VALUE=URI;X-ADDRESS=City Plaza – Fayetteville Street – Raleigh NC 400 Fayetteville Street Raleigh NC 27601 United States;X-APPLE-RADIUS=500;X-TITLE=400 Fayetteville Street:geo:-78.6398799,35.7754019
END:VEVENT
END:VCALENDAR