BEGIN:VCALENDAR
VERSION:2.0
PRODID:-//Durham Regional Assc of Realtors - ECPv6.15.16//NONSGML v1.0//EN
CALSCALE:GREGORIAN
METHOD:PUBLISH
X-ORIGINAL-URL:https://durhamrealtors.org
X-WR-CALDESC:Events for Durham Regional Assc of Realtors
REFRESH-INTERVAL;VALUE=DURATION:PT1H
X-Robots-Tag:noindex
X-PUBLISHED-TTL:PT1H
BEGIN:VTIMEZONE
TZID:America/New_York
BEGIN:DAYLIGHT
TZOFFSETFROM:-0500
TZOFFSETTO:-0400
TZNAME:EDT
DTSTART:20220313T070000
END:DAYLIGHT
BEGIN:STANDARD
TZOFFSETFROM:-0400
TZOFFSETTO:-0500
TZNAME:EST
DTSTART:20221106T060000
END:STANDARD
BEGIN:DAYLIGHT
TZOFFSETFROM:-0500
TZOFFSETTO:-0400
TZNAME:EDT
DTSTART:20230312T070000
END:DAYLIGHT
BEGIN:STANDARD
TZOFFSETFROM:-0400
TZOFFSETTO:-0500
TZNAME:EST
DTSTART:20231105T060000
END:STANDARD
BEGIN:DAYLIGHT
TZOFFSETFROM:-0500
TZOFFSETTO:-0400
TZNAME:EDT
DTSTART:20240310T070000
END:DAYLIGHT
BEGIN:STANDARD
TZOFFSETFROM:-0400
TZOFFSETTO:-0500
TZNAME:EST
DTSTART:20241103T060000
END:STANDARD
END:VTIMEZONE
BEGIN:VTIMEZONE
TZID:America/New_York
BEGIN:DAYLIGHT
TZOFFSETFROM:-0500
TZOFFSETTO:-0400
TZNAME:EDT
DTSTART:20170312T070000
END:DAYLIGHT
BEGIN:STANDARD
TZOFFSETFROM:-0400
TZOFFSETTO:-0500
TZNAME:EST
DTSTART:20171105T060000
END:STANDARD
BEGIN:DAYLIGHT
TZOFFSETFROM:-0500
TZOFFSETTO:-0400
TZNAME:EDT
DTSTART:20180311T070000
END:DAYLIGHT
BEGIN:STANDARD
TZOFFSETFROM:-0400
TZOFFSETTO:-0500
TZNAME:EST
DTSTART:20181104T060000
END:STANDARD
BEGIN:DAYLIGHT
TZOFFSETFROM:-0500
TZOFFSETTO:-0400
TZNAME:EDT
DTSTART:20190310T070000
END:DAYLIGHT
BEGIN:STANDARD
TZOFFSETFROM:-0400
TZOFFSETTO:-0500
TZNAME:EST
DTSTART:20191103T060000
END:STANDARD
END:VTIMEZONE
BEGIN:VEVENT
DTSTART;TZID=America/New_York:20230302T090000
DTEND;TZID=America/New_York:20230302T120000
DTSTAMP:20260424T030553
CREATED:20230208T170305Z
LAST-MODIFIED:20230224T154509Z
UID:12210-1677747600-1677758400@durhamrealtors.org
SUMMARY:CANCELLED - DPS HUB Farm Volunteer Day
DESCRIPTION:
URL:https://durhamrealtors.org/event/hub-farm-volunteer-day/
LOCATION:DPS Hub Farm\, 117 Milton Road\, Durham\, NC\, 27712\, United States
END:VEVENT
BEGIN:VEVENT
DTSTART;TZID=America/New_York:20180418T140000
DTEND;TZID=America/New_York:20180418T170000
DTSTAMP:20260424T030553
CREATED:20180302T185712Z
LAST-MODIFIED:20180302T185712Z
UID:9309-1524060000-1524070800@durhamrealtors.org
SUMMARY:Volunteer Day at the DPS Hub Farm
DESCRIPTION:VOLUNTEER DAY AT THE DPS HUB FARM \nPick your time slot! \n2:00pm – 3:30pm \n3:30pm – 5:00pm \n2:00pm – 5:00pm \n 
URL:https://durhamrealtors.org/event/3176/
LOCATION:DPS Hub Farm\, 117 Milton Road\, Durham\, NC\, 27712\, United States
END:VEVENT
END:VCALENDAR