BEGIN:VCALENDAR
VERSION:2.0
PRODID:-//Durham Regional Assc of Realtors - ECPv6.15.16//NONSGML v1.0//EN
CALSCALE:GREGORIAN
METHOD:PUBLISH
X-WR-CALNAME:Durham Regional Assc of Realtors
X-ORIGINAL-URL:https://durhamrealtors.org
X-WR-CALDESC:Events for Durham Regional Assc of Realtors
REFRESH-INTERVAL;VALUE=DURATION:PT1H
X-Robots-Tag:noindex
X-PUBLISHED-TTL:PT1H
BEGIN:VTIMEZONE
TZID:America/New_York
BEGIN:DAYLIGHT
TZOFFSETFROM:-0500
TZOFFSETTO:-0400
TZNAME:EDT
DTSTART:20180311T070000
END:DAYLIGHT
BEGIN:STANDARD
TZOFFSETFROM:-0400
TZOFFSETTO:-0500
TZNAME:EST
DTSTART:20181104T060000
END:STANDARD
BEGIN:DAYLIGHT
TZOFFSETFROM:-0500
TZOFFSETTO:-0400
TZNAME:EDT
DTSTART:20190310T070000
END:DAYLIGHT
BEGIN:STANDARD
TZOFFSETFROM:-0400
TZOFFSETTO:-0500
TZNAME:EST
DTSTART:20191103T060000
END:STANDARD
BEGIN:DAYLIGHT
TZOFFSETFROM:-0500
TZOFFSETTO:-0400
TZNAME:EDT
DTSTART:20200308T070000
END:DAYLIGHT
BEGIN:STANDARD
TZOFFSETFROM:-0400
TZOFFSETTO:-0500
TZNAME:EST
DTSTART:20201101T060000
END:STANDARD
BEGIN:DAYLIGHT
TZOFFSETFROM:-0500
TZOFFSETTO:-0400
TZNAME:EDT
DTSTART:20210314T070000
END:DAYLIGHT
BEGIN:STANDARD
TZOFFSETFROM:-0400
TZOFFSETTO:-0500
TZNAME:EST
DTSTART:20211107T060000
END:STANDARD
BEGIN:DAYLIGHT
TZOFFSETFROM:-0500
TZOFFSETTO:-0400
TZNAME:EDT
DTSTART:20220313T070000
END:DAYLIGHT
BEGIN:STANDARD
TZOFFSETFROM:-0400
TZOFFSETTO:-0500
TZNAME:EST
DTSTART:20221106T060000
END:STANDARD
BEGIN:DAYLIGHT
TZOFFSETFROM:-0500
TZOFFSETTO:-0400
TZNAME:EDT
DTSTART:20230312T070000
END:DAYLIGHT
BEGIN:STANDARD
TZOFFSETFROM:-0400
TZOFFSETTO:-0500
TZNAME:EST
DTSTART:20231105T060000
END:STANDARD
BEGIN:DAYLIGHT
TZOFFSETFROM:-0500
TZOFFSETTO:-0400
TZNAME:EDT
DTSTART:20240310T070000
END:DAYLIGHT
BEGIN:STANDARD
TZOFFSETFROM:-0400
TZOFFSETTO:-0500
TZNAME:EST
DTSTART:20241103T060000
END:STANDARD
BEGIN:DAYLIGHT
TZOFFSETFROM:-0500
TZOFFSETTO:-0400
TZNAME:EDT
DTSTART:20250309T070000
END:DAYLIGHT
BEGIN:STANDARD
TZOFFSETFROM:-0400
TZOFFSETTO:-0500
TZNAME:EST
DTSTART:20251102T060000
END:STANDARD
BEGIN:DAYLIGHT
TZOFFSETFROM:-0500
TZOFFSETTO:-0400
TZNAME:EDT
DTSTART:20260308T070000
END:DAYLIGHT
BEGIN:STANDARD
TZOFFSETFROM:-0400
TZOFFSETTO:-0500
TZNAME:EST
DTSTART:20261101T060000
END:STANDARD
END:VTIMEZONE
BEGIN:VTIMEZONE
TZID:America/New_York
BEGIN:DAYLIGHT
TZOFFSETFROM:-0500
TZOFFSETTO:-0400
TZNAME:EDT
DTSTART:20220313T070000
END:DAYLIGHT
BEGIN:STANDARD
TZOFFSETFROM:-0400
TZOFFSETTO:-0500
TZNAME:EST
DTSTART:20221106T060000
END:STANDARD
BEGIN:DAYLIGHT
TZOFFSETFROM:-0500
TZOFFSETTO:-0400
TZNAME:EDT
DTSTART:20230312T070000
END:DAYLIGHT
BEGIN:STANDARD
TZOFFSETFROM:-0400
TZOFFSETTO:-0500
TZNAME:EST
DTSTART:20231105T060000
END:STANDARD
BEGIN:DAYLIGHT
TZOFFSETFROM:-0500
TZOFFSETTO:-0400
TZNAME:EDT
DTSTART:20240310T070000
END:DAYLIGHT
BEGIN:STANDARD
TZOFFSETFROM:-0400
TZOFFSETTO:-0500
TZNAME:EST
DTSTART:20241103T060000
END:STANDARD
BEGIN:DAYLIGHT
TZOFFSETFROM:-0500
TZOFFSETTO:-0400
TZNAME:EDT
DTSTART:20250309T070000
END:DAYLIGHT
BEGIN:STANDARD
TZOFFSETFROM:-0400
TZOFFSETTO:-0500
TZNAME:EST
DTSTART:20251102T060000
END:STANDARD
END:VTIMEZONE
BEGIN:VEVENT
DTSTART;TZID=America/New_York:20250225T100000
DTEND;TZID=America/New_York:20250225T143000
DTSTAMP:20260423T233258
CREATED:20241231T162948Z
LAST-MODIFIED:20241231T162948Z
UID:14746-1740477600-1740493800@durhamrealtors.org
SUMMARY:Dr. Anthony S. Lewis\, DPS Superintendent
DESCRIPTION:Schedule for the Day: \n10 a.m. – Meet at the Staff Development Center and board the bus \n10:30 a.m. – Tour of the new Northern High School. Tour will end in the culinary kitchen\, where you will pick up boxed lunches made by the students. \n11:45 a.m. – Lunch at Lucas Middle School \n12:15 p.m. – Program with Dr. Anthony S. Lewis\, Superintendent \n1:15 p.m. – Tour of Lucas Middle School \n2:30 p.m. – Arrive back at the Staff Development Center \nREGISTER
URL:https://durhamrealtors.org/event/dr-anthony-s-lewis-dps-superintendent/
LOCATION:DPS Staff Development Center\, 2107 Hillandale Road\, Durham\, NC\, 27705\, United States
GEO:36.0359411;-78.9368494
X-APPLE-STRUCTURED-LOCATION;VALUE=URI;X-ADDRESS=DPS Staff Development Center 2107 Hillandale Road Durham NC 27705 United States;X-APPLE-RADIUS=500;X-TITLE=2107 Hillandale Road:geo:-78.9368494,36.0359411
END:VEVENT
BEGIN:VEVENT
DTSTART;TZID=America/New_York:20240405T083000
DTEND;TZID=America/New_York:20240405T110000
DTSTAMP:20260423T233258
CREATED:20240109T135451Z
LAST-MODIFIED:20240307T122336Z
UID:13490-1712305800-1712314800@durhamrealtors.org
SUMMARY:Dr. King\, DPS Deputy Superintendent
DESCRIPTION:REGISTER \nDr. King will share updates on Durham Public School system. \nPlease attend In-Person at DPS Staff Development Center\, 2107 Hillandale Rd\, Durham 27705 \nStarts promptly at 9:00 AM.  Refreshments provided courtesy of Evette Carpenter\, Truist at 8:30 AM.
URL:https://durhamrealtors.org/event/dr-mubenga-dps-superintendent/
LOCATION:DPS Staff Development Center\, 2107 Hillandale Road\, Durham\, NC\, 27705\, United States
GEO:36.0359411;-78.9368494
X-APPLE-STRUCTURED-LOCATION;VALUE=URI;X-ADDRESS=DPS Staff Development Center 2107 Hillandale Road Durham NC 27705 United States;X-APPLE-RADIUS=500;X-TITLE=2107 Hillandale Road:geo:-78.9368494,36.0359411
END:VEVENT
BEGIN:VEVENT
DTSTART;TZID=America/New_York:20230203T083000
DTEND;TZID=America/New_York:20230203T110000
DTSTAMP:20260423T233258
CREATED:20221221T164329Z
LAST-MODIFIED:20230130T161124Z
UID:11860-1675413000-1675422000@durhamrealtors.org
SUMMARY:Dr. Pascal Mubenga\, DPS Superintendent
DESCRIPTION:REGISTER \n8:30-9am: Light breakfast sponsored by Evette Carpenter\, NMLSR# 113010 \n9-11am Join Dr. Mubenga as he shares information on 3 new DPS schools\, priorities for DPS and other important updates! \n  \n 
URL:https://durhamrealtors.org/event/dr-pascal-mubenga-dps-superintendent/
LOCATION:DPS Staff Development Center\, 2107 Hillandale Road\, Durham\, NC\, 27705\, United States
GEO:36.0359411;-78.9368494
X-APPLE-STRUCTURED-LOCATION;VALUE=URI;X-ADDRESS=DPS Staff Development Center 2107 Hillandale Road Durham NC 27705 United States;X-APPLE-RADIUS=500;X-TITLE=2107 Hillandale Road:geo:-78.9368494,36.0359411
END:VEVENT
BEGIN:VEVENT
DTSTART;TZID=America/New_York:20200306T090000
DTEND;TZID=America/New_York:20200306T103000
DTSTAMP:20260423T233258
CREATED:20200214T181411Z
LAST-MODIFIED:20200214T181411Z
UID:9527-1583485200-1583490600@durhamrealtors.org
SUMMARY:Spring Ahead with Durham Public Schools
DESCRIPTION:Spring Ahead with Durham Public Schools\nAn exclusive conversation with the leadership of DPS\nFriday\, March 6\, 9 am – 10:30 am\nBreakfast & Discussion\nBreakfast Sponsor:  Evette Carpenter\n\nClick Here to Register\n\n\n\nDr. Pascal Mubenga was sworn in as superintendent of DPS at the end of 2017\, and immediately set to “ignite the limitless potential” of its students.\n\nDPS NOW has Higher-performing schools\, strong academic growth\, and fewer schools labeled as “low-performing! A growing number of students are not only moving the needle academically but are also increasing our enrollment. Student enrollment is now not only be above our planners’ expectations but also reverses a trend of declining student numbers in DPS.\n\nDPS Staff Development Center at 2107 Hillandale Rd\, Durham\, NC 27705
URL:https://durhamrealtors.org/event/spring-ahead-with-durham-public-schools/
LOCATION:DPS Staff Development Center\, 2107 Hillandale Road\, Durham\, NC\, 27705\, United States
GEO:36.0359411;-78.9368494
X-APPLE-STRUCTURED-LOCATION;VALUE=URI;X-ADDRESS=DPS Staff Development Center 2107 Hillandale Road Durham NC 27705 United States;X-APPLE-RADIUS=500;X-TITLE=2107 Hillandale Road:geo:-78.9368494,36.0359411
END:VEVENT
BEGIN:VEVENT
DTSTART;TZID=America/New_York:20190306T090000
DTEND;TZID=America/New_York:20190306T103000
DTSTAMP:20260423T233258
CREATED:20190204T145106Z
LAST-MODIFIED:20190204T145106Z
UID:9383-1551862800-1551868200@durhamrealtors.org
SUMMARY:Durham Public Schools Update Breakfast
DESCRIPTION:Click Here to Register
URL:https://durhamrealtors.org/event/durham-public-schools-update-breakfast/
LOCATION:DPS Staff Development Center\, 2107 Hillandale Road\, Durham\, NC\, 27705\, United States
GEO:36.0359411;-78.9368494
X-APPLE-STRUCTURED-LOCATION;VALUE=URI;X-ADDRESS=DPS Staff Development Center 2107 Hillandale Road Durham NC 27705 United States;X-APPLE-RADIUS=500;X-TITLE=2107 Hillandale Road:geo:-78.9368494,36.0359411
END:VEVENT
END:VCALENDAR