BEGIN:VCALENDAR
VERSION:2.0
PRODID:-//Durham Regional Assc of Realtors - ECPv6.15.16//NONSGML v1.0//EN
CALSCALE:GREGORIAN
METHOD:PUBLISH
X-WR-CALNAME:Durham Regional Assc of Realtors
X-ORIGINAL-URL:https://durhamrealtors.org
X-WR-CALDESC:Events for Durham Regional Assc of Realtors
REFRESH-INTERVAL;VALUE=DURATION:PT1H
X-Robots-Tag:noindex
X-PUBLISHED-TTL:PT1H
BEGIN:VTIMEZONE
TZID:America/New_York
BEGIN:DAYLIGHT
TZOFFSETFROM:-0500
TZOFFSETTO:-0400
TZNAME:EDT
DTSTART:20250309T070000
END:DAYLIGHT
BEGIN:STANDARD
TZOFFSETFROM:-0400
TZOFFSETTO:-0500
TZNAME:EST
DTSTART:20251102T060000
END:STANDARD
BEGIN:DAYLIGHT
TZOFFSETFROM:-0500
TZOFFSETTO:-0400
TZNAME:EDT
DTSTART:20260308T070000
END:DAYLIGHT
BEGIN:STANDARD
TZOFFSETFROM:-0400
TZOFFSETTO:-0500
TZNAME:EST
DTSTART:20261101T060000
END:STANDARD
BEGIN:DAYLIGHT
TZOFFSETFROM:-0500
TZOFFSETTO:-0400
TZNAME:EDT
DTSTART:20270314T070000
END:DAYLIGHT
BEGIN:STANDARD
TZOFFSETFROM:-0400
TZOFFSETTO:-0500
TZNAME:EST
DTSTART:20271107T060000
END:STANDARD
END:VTIMEZONE
BEGIN:VEVENT
DTSTART;TZID=America/New_York:20260514T130000
DTEND;TZID=America/New_York:20260514T143000
DTSTAMP:20260423T123319
CREATED:20260422T162853Z
LAST-MODIFIED:20260422T162951Z
UID:16321-1778763600-1778769000@durhamrealtors.org
SUMMARY:FlexMLS In-Person Training
DESCRIPTION:In-Person Flexmls Trainings: Coming May 14th!\nIn-person Flexmls training is coming to DRAR on May 14th\, 2026! Learn how to maximize your Flexmls experience in this interactive\, hands-on session. Feel free to bring your laptop and follow along during the training! \nYou have two sessions to choose from: \nPM Session: 1 – 2:30 PM \nTopics include: \n\nSubscriptions\, the portal\, and contact activity\nFlexmls Pro app\n\n🔗 Register here! https://tinyurl.com/37fr5hwu  \nSeating is limited\, so register early! 
URL:https://durhamrealtors.org/event/flexmls-in-person-training/
LOCATION:DRAR
END:VEVENT
END:VCALENDAR