BEGIN:VCALENDAR
VERSION:2.0
PRODID:-//Durham Regional Assc of Realtors - ECPv6.15.16//NONSGML v1.0//EN
CALSCALE:GREGORIAN
METHOD:PUBLISH
X-WR-CALNAME:Durham Regional Assc of Realtors
X-ORIGINAL-URL:https://durhamrealtors.org
X-WR-CALDESC:Events for Durham Regional Assc of Realtors
REFRESH-INTERVAL;VALUE=DURATION:PT1H
X-Robots-Tag:noindex
X-PUBLISHED-TTL:PT1H
BEGIN:VTIMEZONE
TZID:America/New_York
BEGIN:DAYLIGHT
TZOFFSETFROM:-0500
TZOFFSETTO:-0400
TZNAME:EDT
DTSTART:20210314T070000
END:DAYLIGHT
BEGIN:STANDARD
TZOFFSETFROM:-0400
TZOFFSETTO:-0500
TZNAME:EST
DTSTART:20211107T060000
END:STANDARD
BEGIN:DAYLIGHT
TZOFFSETFROM:-0500
TZOFFSETTO:-0400
TZNAME:EDT
DTSTART:20220313T070000
END:DAYLIGHT
BEGIN:STANDARD
TZOFFSETFROM:-0400
TZOFFSETTO:-0500
TZNAME:EST
DTSTART:20221106T060000
END:STANDARD
BEGIN:DAYLIGHT
TZOFFSETFROM:-0500
TZOFFSETTO:-0400
TZNAME:EDT
DTSTART:20230312T070000
END:DAYLIGHT
BEGIN:STANDARD
TZOFFSETFROM:-0400
TZOFFSETTO:-0500
TZNAME:EST
DTSTART:20231105T060000
END:STANDARD
END:VTIMEZONE
BEGIN:VEVENT
DTSTART;TZID=America/New_York:20221107T100000
DTEND;TZID=America/New_York:20221107T230000
DTSTAMP:20260424T080059
CREATED:20221105T103717Z
LAST-MODIFIED:20221105T103717Z
UID:11704-1667815200-1667862000@durhamrealtors.org
SUMMARY:Githens Middle - Breakfast & Learn
DESCRIPTION:REGISTER \nREALTORS®\, \nThank you for your dedication to the Durham Community and working to support growing families in The Bull City! \nJoin Principal Dr. Sheldon Lanier\, the Githens Instructional Leadership Team\, and Githens PRIDE Ambassadors for breakfast. \n\nLearn why your clients should choose Durham Public Schools and Githens Middle as their school of choice.\nGreat things are happening in Durham Public Schools and at Githens Middle School.\nAll attendees will leave with brochures and postcards regarding information about Githens Middle School.
URL:https://durhamrealtors.org/event/githens-middle-breakfast-learn/
LOCATION:Githens Middle School\, 4800 Old Chapel Hill Rd\, Durham\, NC\, 27707\, United States
GEO:35.9449766;-78.9808994
X-APPLE-STRUCTURED-LOCATION;VALUE=URI;X-ADDRESS=Githens Middle School 4800 Old Chapel Hill Rd Durham NC 27707 United States;X-APPLE-RADIUS=500;X-TITLE=4800 Old Chapel Hill Rd:geo:-78.9808994,35.9449766
END:VEVENT
END:VCALENDAR