BEGIN:VCALENDAR
VERSION:2.0
PRODID:-//Durham Regional Assc of Realtors - ECPv6.15.16//NONSGML v1.0//EN
CALSCALE:GREGORIAN
METHOD:PUBLISH
X-ORIGINAL-URL:https://durhamrealtors.org
X-WR-CALDESC:Events for Durham Regional Assc of Realtors
REFRESH-INTERVAL;VALUE=DURATION:PT1H
X-Robots-Tag:noindex
X-PUBLISHED-TTL:PT1H
BEGIN:VTIMEZONE
TZID:America/New_York
BEGIN:DAYLIGHT
TZOFFSETFROM:-0500
TZOFFSETTO:-0400
TZNAME:EDT
DTSTART:20170312T070000
END:DAYLIGHT
BEGIN:STANDARD
TZOFFSETFROM:-0400
TZOFFSETTO:-0500
TZNAME:EST
DTSTART:20171105T060000
END:STANDARD
BEGIN:DAYLIGHT
TZOFFSETFROM:-0500
TZOFFSETTO:-0400
TZNAME:EDT
DTSTART:20180311T070000
END:DAYLIGHT
BEGIN:STANDARD
TZOFFSETFROM:-0400
TZOFFSETTO:-0500
TZNAME:EST
DTSTART:20181104T060000
END:STANDARD
BEGIN:DAYLIGHT
TZOFFSETFROM:-0500
TZOFFSETTO:-0400
TZNAME:EDT
DTSTART:20190310T070000
END:DAYLIGHT
BEGIN:STANDARD
TZOFFSETFROM:-0400
TZOFFSETTO:-0500
TZNAME:EST
DTSTART:20191103T060000
END:STANDARD
BEGIN:DAYLIGHT
TZOFFSETFROM:-0500
TZOFFSETTO:-0400
TZNAME:EDT
DTSTART:20200308T070000
END:DAYLIGHT
BEGIN:STANDARD
TZOFFSETFROM:-0400
TZOFFSETTO:-0500
TZNAME:EST
DTSTART:20201101T060000
END:STANDARD
END:VTIMEZONE
BEGIN:VEVENT
DTSTART;TZID=America/New_York:20190617T130000
DTEND;TZID=America/New_York:20190617T170000
DTSTAMP:20260424T081645
CREATED:20190610T172016Z
LAST-MODIFIED:20190610T172016Z
UID:9436-1560776400-1560790800@durhamrealtors.org
SUMMARY:Golf Tournament at the Governors Club
DESCRIPTION:Rescheduled from June 10 – the Golf Tournament will take place at 1 pm on Monday\, June 17.
URL:https://durhamrealtors.org/event/golf-tournament-at-the-governors-club/
LOCATION:Governors Club\, 11000 Governors Drive\, Chapel Hill\, 27517\, United States
GEO:35.8540763;-79.033719
X-APPLE-STRUCTURED-LOCATION;VALUE=URI;X-ADDRESS=Governors Club 11000 Governors Drive Chapel Hill 27517 United States;X-APPLE-RADIUS=500;X-TITLE=11000 Governors Drive:geo:-79.033719,35.8540763
END:VEVENT
BEGIN:VEVENT
DTSTART;TZID=America/New_York:20180521T130000
DTEND;TZID=America/New_York:20180521T180000
DTSTAMP:20260424T081645
CREATED:20180412T173511Z
LAST-MODIFIED:20180412T173511Z
UID:9328-1526907600-1526925600@durhamrealtors.org
SUMMARY:2018 DRAR/TMLA Golf Tournament
DESCRIPTION:2018 DRAR/TMLA Golf Tournament\nMonday\, May 21st – 1pm shotgun start\nGolf Registration:\n$80 and includes buffet dinner following tournament. \n Click Here to view print golf registration form\n\nThank you to our 2018 Golf Sponsors \nBeverage Cart Sponsorship\nLou Ann Craven – Investor’s Title Company\nUnion Home Mortgage\nHole Sponsorship\nRick Soles Property Management – Rick Soles\nRealPrice – Dick Moss\nPickett-Sprouse Real Estate – In Memory of Judson Pickett\nMarie Austin Realty – Joan Austin\nCorporate Investors Mortgage Group – Chris Holt\nArges Law Firm – Jim Arges\nFirst Citizens Bank – James McDuffie\n\nDoor Prizes\nBenefits of Sponsorship\nBeverage Cart Sponsor(s) will have company name displayed on Beverage Cart\nHole Sponsors will have company name displayed on individual hole\nSponsor Recognition weekly to DRAR members in REALtalk\nTournament rules and sponsors flier distributed at event\nHomes & Land Magazine full page ad recognition\nClick Here to view/print sponsor form
URL:https://durhamrealtors.org/event/2018-drar-tmla-golf-tournament/
LOCATION:Governors Club\, 11000 Governors Drive\, Chapel Hill\, 27517\, United States
GEO:35.8540763;-79.033719
X-APPLE-STRUCTURED-LOCATION;VALUE=URI;X-ADDRESS=Governors Club 11000 Governors Drive Chapel Hill 27517 United States;X-APPLE-RADIUS=500;X-TITLE=11000 Governors Drive:geo:-79.033719,35.8540763
END:VEVENT
END:VCALENDAR