BEGIN:VCALENDAR
VERSION:2.0
PRODID:-//Durham Regional Assc of Realtors - ECPv6.15.16//NONSGML v1.0//EN
CALSCALE:GREGORIAN
METHOD:PUBLISH
X-WR-CALNAME:Durham Regional Assc of Realtors
X-ORIGINAL-URL:https://durhamrealtors.org
X-WR-CALDESC:Events for Durham Regional Assc of Realtors
REFRESH-INTERVAL;VALUE=DURATION:PT1H
X-Robots-Tag:noindex
X-PUBLISHED-TTL:PT1H
BEGIN:VTIMEZONE
TZID:America/New_York
BEGIN:DAYLIGHT
TZOFFSETFROM:-0500
TZOFFSETTO:-0400
TZNAME:EDT
DTSTART:20170312T070000
END:DAYLIGHT
BEGIN:STANDARD
TZOFFSETFROM:-0400
TZOFFSETTO:-0500
TZNAME:EST
DTSTART:20171105T060000
END:STANDARD
BEGIN:DAYLIGHT
TZOFFSETFROM:-0500
TZOFFSETTO:-0400
TZNAME:EDT
DTSTART:20180311T070000
END:DAYLIGHT
BEGIN:STANDARD
TZOFFSETFROM:-0400
TZOFFSETTO:-0500
TZNAME:EST
DTSTART:20181104T060000
END:STANDARD
BEGIN:DAYLIGHT
TZOFFSETFROM:-0500
TZOFFSETTO:-0400
TZNAME:EDT
DTSTART:20190310T070000
END:DAYLIGHT
BEGIN:STANDARD
TZOFFSETFROM:-0400
TZOFFSETTO:-0500
TZNAME:EST
DTSTART:20191103T060000
END:STANDARD
BEGIN:DAYLIGHT
TZOFFSETFROM:-0500
TZOFFSETTO:-0400
TZNAME:EDT
DTSTART:20200308T070000
END:DAYLIGHT
BEGIN:STANDARD
TZOFFSETFROM:-0400
TZOFFSETTO:-0500
TZNAME:EST
DTSTART:20201101T060000
END:STANDARD
END:VTIMEZONE
BEGIN:VEVENT
DTSTART;TZID=America/New_York:20190904T120000
DTEND;TZID=America/New_York:20190904T133000
DTSTAMP:20260424T103705
CREATED:20190819T164358Z
LAST-MODIFIED:20190819T164358Z
UID:9469-1567598400-1567603800@durhamrealtors.org
SUMMARY:Kerr Lake Luncheon
DESCRIPTION:
URL:https://durhamrealtors.org/event/kerr-lake-luncheon-3/
LOCATION:Henderson Country Club\, 300 Country Club Drive\, Henderson\, NC\, 27536\, United States
GEO:36.3164219;-78.435967
X-APPLE-STRUCTURED-LOCATION;VALUE=URI;X-ADDRESS=Henderson Country Club 300 Country Club Drive Henderson NC 27536 United States;X-APPLE-RADIUS=500;X-TITLE=300 Country Club Drive:geo:-78.435967,36.3164219
END:VEVENT
BEGIN:VEVENT
DTSTART;TZID=America/New_York:20190605T120000
DTEND;TZID=America/New_York:20190605T130000
DTSTAMP:20260424T103705
CREATED:20190507T131638Z
LAST-MODIFIED:20190507T131638Z
UID:9432-1559736000-1559739600@durhamrealtors.org
SUMMARY:Kerr Lake Luncheon
DESCRIPTION:
URL:https://durhamrealtors.org/event/kerr-lake-luncheon-2/
LOCATION:Henderson Country Club\, 300 Country Club Drive\, Henderson\, NC\, 27536\, United States
GEO:36.3164219;-78.435967
X-APPLE-STRUCTURED-LOCATION;VALUE=URI;X-ADDRESS=Henderson Country Club 300 Country Club Drive Henderson NC 27536 United States;X-APPLE-RADIUS=500;X-TITLE=300 Country Club Drive:geo:-78.435967,36.3164219
END:VEVENT
BEGIN:VEVENT
DTSTART;TZID=America/New_York:20180905T113000
DTEND;TZID=America/New_York:20180905T133000
DTSTAMP:20260424T103705
CREATED:20180816T134543Z
LAST-MODIFIED:20180816T134543Z
UID:9342-1536147000-1536154200@durhamrealtors.org
SUMMARY:Kerr Lake Luncheon (Free to Members)
DESCRIPTION:To Register Email Joy@DurhamRealtors.org
URL:https://durhamrealtors.org/event/kerr-lake-luncheon-free-to-members/
LOCATION:Henderson Country Club\, 300 Country Club Drive\, Henderson\, NC\, 27536\, United States
GEO:36.3164219;-78.435967
X-APPLE-STRUCTURED-LOCATION;VALUE=URI;X-ADDRESS=Henderson Country Club 300 Country Club Drive Henderson NC 27536 United States;X-APPLE-RADIUS=500;X-TITLE=300 Country Club Drive:geo:-78.435967,36.3164219
END:VEVENT
BEGIN:VEVENT
DTSTART;TZID=America/New_York:20180606T113000
DTEND;TZID=America/New_York:20180606T133000
DTSTAMP:20260424T103705
CREATED:20180529T174646Z
LAST-MODIFIED:20180529T174646Z
UID:9330-1528284600-1528291800@durhamrealtors.org
SUMMARY:Kerr Lake Luncheon
DESCRIPTION:
URL:https://durhamrealtors.org/event/kerr-lake-luncheon/
LOCATION:Henderson Country Club\, 300 Country Club Drive\, Henderson\, NC\, 27536\, United States
GEO:36.3164219;-78.435967
X-APPLE-STRUCTURED-LOCATION;VALUE=URI;X-ADDRESS=Henderson Country Club 300 Country Club Drive Henderson NC 27536 United States;X-APPLE-RADIUS=500;X-TITLE=300 Country Club Drive:geo:-78.435967,36.3164219
END:VEVENT
END:VCALENDAR