BEGIN:VCALENDAR
VERSION:2.0
PRODID:-//Durham Regional Assc of Realtors - ECPv6.15.16//NONSGML v1.0//EN
CALSCALE:GREGORIAN
METHOD:PUBLISH
X-ORIGINAL-URL:https://durhamrealtors.org
X-WR-CALDESC:Events for Durham Regional Assc of Realtors
REFRESH-INTERVAL;VALUE=DURATION:PT1H
X-Robots-Tag:noindex
X-PUBLISHED-TTL:PT1H
BEGIN:VTIMEZONE
TZID:America/New_York
BEGIN:DAYLIGHT
TZOFFSETFROM:-0500
TZOFFSETTO:-0400
TZNAME:EDT
DTSTART:20180311T070000
END:DAYLIGHT
BEGIN:STANDARD
TZOFFSETFROM:-0400
TZOFFSETTO:-0500
TZNAME:EST
DTSTART:20181104T060000
END:STANDARD
BEGIN:DAYLIGHT
TZOFFSETFROM:-0500
TZOFFSETTO:-0400
TZNAME:EDT
DTSTART:20190310T070000
END:DAYLIGHT
BEGIN:STANDARD
TZOFFSETFROM:-0400
TZOFFSETTO:-0500
TZNAME:EST
DTSTART:20191103T060000
END:STANDARD
BEGIN:DAYLIGHT
TZOFFSETFROM:-0500
TZOFFSETTO:-0400
TZNAME:EDT
DTSTART:20200308T070000
END:DAYLIGHT
BEGIN:STANDARD
TZOFFSETFROM:-0400
TZOFFSETTO:-0500
TZNAME:EST
DTSTART:20201101T060000
END:STANDARD
BEGIN:DAYLIGHT
TZOFFSETFROM:-0500
TZOFFSETTO:-0400
TZNAME:EDT
DTSTART:20210314T070000
END:DAYLIGHT
BEGIN:STANDARD
TZOFFSETFROM:-0400
TZOFFSETTO:-0500
TZNAME:EST
DTSTART:20211107T060000
END:STANDARD
BEGIN:DAYLIGHT
TZOFFSETFROM:-0500
TZOFFSETTO:-0400
TZNAME:EDT
DTSTART:20220313T070000
END:DAYLIGHT
BEGIN:STANDARD
TZOFFSETFROM:-0400
TZOFFSETTO:-0500
TZNAME:EST
DTSTART:20221106T060000
END:STANDARD
BEGIN:DAYLIGHT
TZOFFSETFROM:-0500
TZOFFSETTO:-0400
TZNAME:EDT
DTSTART:20230312T070000
END:DAYLIGHT
BEGIN:STANDARD
TZOFFSETFROM:-0400
TZOFFSETTO:-0500
TZNAME:EST
DTSTART:20231105T060000
END:STANDARD
BEGIN:DAYLIGHT
TZOFFSETFROM:-0500
TZOFFSETTO:-0400
TZNAME:EDT
DTSTART:20240310T070000
END:DAYLIGHT
BEGIN:STANDARD
TZOFFSETFROM:-0400
TZOFFSETTO:-0500
TZNAME:EST
DTSTART:20241103T060000
END:STANDARD
BEGIN:DAYLIGHT
TZOFFSETFROM:-0500
TZOFFSETTO:-0400
TZNAME:EDT
DTSTART:20250309T070000
END:DAYLIGHT
BEGIN:STANDARD
TZOFFSETFROM:-0400
TZOFFSETTO:-0500
TZNAME:EST
DTSTART:20251102T060000
END:STANDARD
BEGIN:DAYLIGHT
TZOFFSETFROM:-0500
TZOFFSETTO:-0400
TZNAME:EDT
DTSTART:20260308T070000
END:DAYLIGHT
BEGIN:STANDARD
TZOFFSETFROM:-0400
TZOFFSETTO:-0500
TZNAME:EST
DTSTART:20261101T060000
END:STANDARD
BEGIN:DAYLIGHT
TZOFFSETFROM:-0500
TZOFFSETTO:-0400
TZNAME:EDT
DTSTART:20270314T070000
END:DAYLIGHT
BEGIN:STANDARD
TZOFFSETFROM:-0400
TZOFFSETTO:-0500
TZNAME:EST
DTSTART:20271107T060000
END:STANDARD
END:VTIMEZONE
BEGIN:VTIMEZONE
TZID:America/New_York
BEGIN:DAYLIGHT
TZOFFSETFROM:-0500
TZOFFSETTO:-0400
TZNAME:EDT
DTSTART:20210314T070000
END:DAYLIGHT
BEGIN:STANDARD
TZOFFSETFROM:-0400
TZOFFSETTO:-0500
TZNAME:EST
DTSTART:20211107T060000
END:STANDARD
BEGIN:DAYLIGHT
TZOFFSETFROM:-0500
TZOFFSETTO:-0400
TZNAME:EDT
DTSTART:20220313T070000
END:DAYLIGHT
BEGIN:STANDARD
TZOFFSETFROM:-0400
TZOFFSETTO:-0500
TZNAME:EST
DTSTART:20221106T060000
END:STANDARD
BEGIN:DAYLIGHT
TZOFFSETFROM:-0500
TZOFFSETTO:-0400
TZNAME:EDT
DTSTART:20230312T070000
END:DAYLIGHT
BEGIN:STANDARD
TZOFFSETFROM:-0400
TZOFFSETTO:-0500
TZNAME:EST
DTSTART:20231105T060000
END:STANDARD
BEGIN:DAYLIGHT
TZOFFSETFROM:-0500
TZOFFSETTO:-0400
TZNAME:EDT
DTSTART:20240310T070000
END:DAYLIGHT
BEGIN:STANDARD
TZOFFSETFROM:-0400
TZOFFSETTO:-0500
TZNAME:EST
DTSTART:20241103T060000
END:STANDARD
BEGIN:DAYLIGHT
TZOFFSETFROM:-0500
TZOFFSETTO:-0400
TZNAME:EDT
DTSTART:20250309T070000
END:DAYLIGHT
BEGIN:STANDARD
TZOFFSETFROM:-0400
TZOFFSETTO:-0500
TZNAME:EST
DTSTART:20251102T060000
END:STANDARD
END:VTIMEZONE
BEGIN:VEVENT
DTSTART;TZID=America/New_York:20260304T113000
DTEND;TZID=America/New_York:20260304T133000
DTSTAMP:20260423T172944
CREATED:20260303T141201Z
LAST-MODIFIED:20260303T141201Z
UID:16179-1772623800-1772631000@durhamrealtors.org
SUMMARY:Kerr Lake Quarterly Luncheon
DESCRIPTION:Registration is closed \n \n 
URL:https://durhamrealtors.org/event/kerr-lake-quarterly-luncheon-6/
LOCATION:Ribeyes Henderson\, 2002 Graham Avenue\, Henderson\, NC\, 27536\, United States
END:VEVENT
BEGIN:VEVENT
DTSTART;TZID=America/New_York:20251203T113000
DTEND;TZID=America/New_York:20251203T133000
DTSTAMP:20260423T172944
CREATED:20251107T084138Z
LAST-MODIFIED:20251107T084138Z
UID:15807-1764761400-1764768600@durhamrealtors.org
SUMMARY:Kerr Lake Holiday Luncheon
DESCRIPTION:
URL:https://durhamrealtors.org/event/kerr-lake-holiday-luncheon-3/
LOCATION:Ribeyes Henderson\, 2002 Graham Avenue\, Henderson\, NC\, 27536\, United States
END:VEVENT
BEGIN:VEVENT
DTSTART;TZID=America/New_York:20250903T113000
DTEND;TZID=America/New_York:20250903T130000
DTSTAMP:20260423T172944
CREATED:20250808T173017Z
LAST-MODIFIED:20250808T173017Z
UID:15604-1756899000-1756904400@durhamrealtors.org
SUMMARY:Kerr Lake Luncheon with Doorify MLS
DESCRIPTION:REGISTER
URL:https://durhamrealtors.org/event/kerr-lake-luncheon-with-doorify-mls/
LOCATION:Ribeyes Henderson\, 2002 Graham Avenue\, Henderson\, NC\, 27536\, United States
END:VEVENT
BEGIN:VEVENT
DTSTART;TZID=America/New_York:20250310T113000
DTEND;TZID=America/New_York:20250310T130000
DTSTAMP:20260423T172944
CREATED:20250305T143514Z
LAST-MODIFIED:20250305T143514Z
UID:15131-1741606200-1741611600@durhamrealtors.org
SUMMARY:Kerr Lake Quarterly Luncheon
DESCRIPTION:This event was rescheduled from Wednesday\, March 5. If you were registered to attend that event\, you’re registered to attend this event. If you cannot attend on March 10\, please cancel with services@durhamrealtors.org. \nGuest Speaker: Mark Chamberlain\, Senior Mortgage Advisor\, Motto Mortgage \nTopics:\nWhy a lender partner can be critical to REALTORS® success\nNavigating the loan approval process with clients\nAccess to co-branding and creation of marketing materials
URL:https://durhamrealtors.org/event/kerr-lake-quarterly-luncheon-5/
LOCATION:Ribeyes Henderson\, 2002 Graham Avenue\, Henderson\, NC\, 27536\, United States
END:VEVENT
BEGIN:VEVENT
DTSTART;TZID=America/New_York:20240807T120000
DTEND;TZID=America/New_York:20240807T133000
DTSTAMP:20260423T172944
CREATED:20240718T114638Z
LAST-MODIFIED:20240718T202414Z
UID:14100-1723032000-1723037400@durhamrealtors.org
SUMMARY:KERR LAKE Quarterly Luncheon
DESCRIPTION:August 7\, 2024 @ 12:00pm \n@Ribeyes Steakhouse\, Henderson (2002 Graham Ave.) \nREGISTER \nSpeaker: Boys & Girls Clubs of North Central North Carolina CEO Charissa Puryear
URL:https://durhamrealtors.org/event/kerr-lake-luncheon-ribeyes/
LOCATION:Ribeyes Henderson\, 2002 Graham Avenue\, Henderson\, NC\, 27536\, United States
END:VEVENT
BEGIN:VEVENT
DTSTART;TZID=America/New_York:20240403T120000
DTEND;TZID=America/New_York:20240403T133000
DTSTAMP:20260423T172944
CREATED:20240223T150114Z
LAST-MODIFIED:20240223T150114Z
UID:13644-1712145600-1712151000@durhamrealtors.org
SUMMARY:Kerr Lake Quarterly Luncheon
DESCRIPTION:REGISTER
URL:https://durhamrealtors.org/event/kerr-lake-quarterly-luncheon-4/
LOCATION:Ribeyes Henderson\, 2002 Graham Avenue\, Henderson\, NC\, 27536\, United States
END:VEVENT
BEGIN:VEVENT
DTSTART;TZID=America/New_York:20231206T120000
DTEND;TZID=America/New_York:20231206T140000
DTSTAMP:20260423T172944
CREATED:20231121T140320Z
LAST-MODIFIED:20231201T151747Z
UID:13211-1701864000-1701871200@durhamrealtors.org
SUMMARY:Kerr Lake Quarterly Luncheon
DESCRIPTION:Registration has Closed. \nGuest: Mayor Bobby Wheeler\, Creedmoor \nThe $7\,500 Placemaking grant will be presented \nKL 2023 ROTY announced \nLunch is complimentary for DRAR members only
URL:https://durhamrealtors.org/event/kerr-lake-quarterly-luncheon-3/
LOCATION:Ribeyes Henderson\, 2002 Graham Avenue\, Henderson\, NC\, 27536\, United States
END:VEVENT
BEGIN:VEVENT
DTSTART;TZID=America/New_York:20230906T120000
DTEND;TZID=America/New_York:20230906T133000
DTSTAMP:20260423T172944
CREATED:20230818T143622Z
LAST-MODIFIED:20230818T143622Z
UID:12948-1694001600-1694007000@durhamrealtors.org
SUMMARY:Kerr Lake Quarterly Luncheon
DESCRIPTION:REGISTER \nJoin Matt Fowler\, Executive Director of TMLS\, as he shares changes and updates. \n 
URL:https://durhamrealtors.org/event/kerr-lake-quarterly-luncheon-2/
LOCATION:Ribeyes Henderson\, 2002 Graham Avenue\, Henderson\, NC\, 27536\, United States
END:VEVENT
BEGIN:VEVENT
DTSTART;TZID=America/New_York:20230607T120000
DTEND;TZID=America/New_York:20230607T133000
DTSTAMP:20260423T172944
CREATED:20230504T115227Z
LAST-MODIFIED:20230605T105415Z
UID:12584-1686139200-1686144600@durhamrealtors.org
SUMMARY:Kerr Lake Quarterly Luncheon
DESCRIPTION:Registration has closed. \n \nGuest Speaker:  DREW CUMMINGS\, County Manager\, Granville Board of Commissioners \nDrew began his tenure with Granville on Oct 17\, 2022 after 14 years as the Assistant County Manager and Chief of Staff in the Manager’s Office of Durham. Preceding that\, Cummings held several positions in municipal government and worked for 7 years as a middle school teacher. \nAs County Manager\, Drew ensures all ordinances and policies of the Board of Commissioners are implemented; makes recommendations on business matters; recommends an annual budget; and keeps the Board informed on the County’s financial condition. \nDrew serves in the official capacity of budget officer\, personnel officer\, and purchasing official.
URL:https://durhamrealtors.org/event/kerr-lake-quarterly-luncheon/
LOCATION:Ribeyes Henderson\, 2002 Graham Avenue\, Henderson\, NC\, 27536\, United States
END:VEVENT
BEGIN:VEVENT
DTSTART;TZID=America/New_York:20230301T120000
DTEND;TZID=America/New_York:20230301T140000
DTSTAMP:20260423T172944
CREATED:20230210T150245Z
LAST-MODIFIED:20230210T150245Z
UID:12218-1677672000-1677679200@durhamrealtors.org
SUMMARY:Kerr Lake Qtrly Luncheon
DESCRIPTION:REGISTER \n \nGuest Speaker: Maurice Brown\, MBA\nPartner Program Coordinator and DEI Co-Chair at NC REALTORS Association
URL:https://durhamrealtors.org/event/kerr-lake-qtrly-luncheon/
LOCATION:Ribeyes Henderson\, 2002 Graham Avenue\, Henderson\, NC\, 27536\, United States
END:VEVENT
BEGIN:VEVENT
DTSTART;TZID=America/New_York:20221214T120000
DTEND;TZID=America/New_York:20221214T133000
DTSTAMP:20260423T172944
CREATED:20221110T144309Z
LAST-MODIFIED:20221128T134141Z
UID:11744-1671019200-1671024600@durhamrealtors.org
SUMMARY:Kerr Lake Holiday Luncheon
DESCRIPTION:REGISTER \nSpecial Announcements: \n\n2022 Kerr Lake REALTOR of the Year\nJokers Wild Drawing\nDonate new or gently-used coats\, hats\, scarves\, gloves for Drug-Free Coalition
URL:https://durhamrealtors.org/event/kerr-lake-holiday-luncheon-2/
LOCATION:Ribeyes Henderson\, 2002 Graham Avenue\, Henderson\, NC\, 27536\, United States
END:VEVENT
BEGIN:VEVENT
DTSTART;TZID=America/New_York:20220921T120000
DTEND;TZID=America/New_York:20220921T140000
DTSTAMP:20260423T172944
CREATED:20220805T120849Z
LAST-MODIFIED:20220805T120849Z
UID:11510-1663761600-1663768800@durhamrealtors.org
SUMMARY:Kerr Lake Quarterly Meeting
DESCRIPTION:REGISTER \nGuest Speaker:  Harry Mills\, Economic Development Director Granville County
URL:https://durhamrealtors.org/event/kerr-lake-quarterly-meeting-2/
LOCATION:Ribeyes Henderson\, 2002 Graham Avenue\, Henderson\, NC\, 27536\, United States
END:VEVENT
BEGIN:VEVENT
DTSTART;TZID=America/New_York:20220601T120000
DTEND;TZID=America/New_York:20220601T133000
DTSTAMP:20260423T172944
CREATED:20220601T160000Z
LAST-MODIFIED:20220526T140712Z
UID:11270-1654084800-1654090200@durhamrealtors.org
SUMMARY:Kerr Lake Quarterly Meeting
DESCRIPTION:Guest speaker: Donyell “DJ” Jones
URL:https://durhamrealtors.org/event/kerr-lake-quarterly-meeting/
LOCATION:Ribeyes Henderson\, 2002 Graham Avenue\, Henderson\, NC\, 27536\, United States
END:VEVENT
BEGIN:VEVENT
DTSTART;TZID=America/New_York:20200304T120000
DTEND;TZID=America/New_York:20200304T133000
DTSTAMP:20260423T172944
CREATED:20200214T185727Z
LAST-MODIFIED:20200214T185727Z
UID:9528-1583323200-1583328600@durhamrealtors.org
SUMMARY:Kerr Lake Member Luncheon
DESCRIPTION:Kerr Lake Chapter Member Luncheon \nThorndale Oaks Country Club \n105 W. Quail Ridge Road \nOxford\, NC  27565 \nGuest Speaker:  Dennis Jarvis\, the Director of the Henderson Vance Economic Development Commission \nEmail:  Joy@durhamrealtors.org to register.
URL:https://durhamrealtors.org/event/kerr-lake-member-luncheon/
LOCATION:Ribeyes Henderson\, 2002 Graham Avenue\, Henderson\, NC\, 27536\, United States
END:VEVENT
BEGIN:VEVENT
DTSTART;TZID=America/New_York:20191204T120000
DTEND;TZID=America/New_York:20191204T133000
DTSTAMP:20260423T172944
CREATED:20191125T185038Z
LAST-MODIFIED:20191125T185038Z
UID:9475-1575460800-1575466200@durhamrealtors.org
SUMMARY:Annual Kerr Lake Chapter Holiday Luncheon
DESCRIPTION:
URL:https://durhamrealtors.org/event/annual-kerr-lake-chapter-holiday-luncheon/
LOCATION:Ribeyes Henderson\, 2002 Graham Avenue\, Henderson\, NC\, 27536\, United States
END:VEVENT
END:VCALENDAR