BEGIN:VCALENDAR
VERSION:2.0
PRODID:-//Durham Regional Assc of Realtors - ECPv6.15.16//NONSGML v1.0//EN
CALSCALE:GREGORIAN
METHOD:PUBLISH
X-ORIGINAL-URL:https://durhamrealtors.org
X-WR-CALDESC:Events for Durham Regional Assc of Realtors
REFRESH-INTERVAL;VALUE=DURATION:PT1H
X-Robots-Tag:noindex
X-PUBLISHED-TTL:PT1H
BEGIN:VTIMEZONE
TZID:America/New_York
BEGIN:DAYLIGHT
TZOFFSETFROM:-0500
TZOFFSETTO:-0400
TZNAME:EDT
DTSTART:20220313T070000
END:DAYLIGHT
BEGIN:STANDARD
TZOFFSETFROM:-0400
TZOFFSETTO:-0500
TZNAME:EST
DTSTART:20221106T060000
END:STANDARD
BEGIN:DAYLIGHT
TZOFFSETFROM:-0500
TZOFFSETTO:-0400
TZNAME:EDT
DTSTART:20230312T070000
END:DAYLIGHT
BEGIN:STANDARD
TZOFFSETFROM:-0400
TZOFFSETTO:-0500
TZNAME:EST
DTSTART:20231105T060000
END:STANDARD
BEGIN:DAYLIGHT
TZOFFSETFROM:-0500
TZOFFSETTO:-0400
TZNAME:EDT
DTSTART:20240310T070000
END:DAYLIGHT
BEGIN:STANDARD
TZOFFSETFROM:-0400
TZOFFSETTO:-0500
TZNAME:EST
DTSTART:20241103T060000
END:STANDARD
END:VTIMEZONE
BEGIN:VEVENT
DTSTART;TZID=America/New_York:20230304T103000
DTEND;TZID=America/New_York:20230304T130000
DTSTAMP:20260424T030538
CREATED:20230224T142537Z
LAST-MODIFIED:20230224T142537Z
UID:12309-1677925800-1677934800@durhamrealtors.org
SUMMARY:Durham's Comprehensive Plan Open House
DESCRIPTION:REGISTER \nChildcare and snacks will be provided. \nMaterials on the plan in both English and Spanish\, as well as bilingual staff will also be available for the meeting. \nFor more information\, CLICK HERE \n 
URL:https://durhamrealtors.org/event/durhams-comprehensive-plan-open-house/
LOCATION:I.R. Holmes Recreation Center at Campus Hills\, 2000 S. Alston Ave\, Durham\, NC\, 27707\, United States
END:VEVENT
END:VCALENDAR