BEGIN:VCALENDAR
VERSION:2.0
PRODID:-//Durham Regional Assc of Realtors - ECPv6.15.16//NONSGML v1.0//EN
CALSCALE:GREGORIAN
METHOD:PUBLISH
X-ORIGINAL-URL:https://durhamrealtors.org
X-WR-CALDESC:Events for Durham Regional Assc of Realtors
REFRESH-INTERVAL;VALUE=DURATION:PT1H
X-Robots-Tag:noindex
X-PUBLISHED-TTL:PT1H
BEGIN:VTIMEZONE
TZID:America/New_York
BEGIN:DAYLIGHT
TZOFFSETFROM:-0500
TZOFFSETTO:-0400
TZNAME:EDT
DTSTART:20230312T070000
END:DAYLIGHT
BEGIN:STANDARD
TZOFFSETFROM:-0400
TZOFFSETTO:-0500
TZNAME:EST
DTSTART:20231105T060000
END:STANDARD
BEGIN:DAYLIGHT
TZOFFSETFROM:-0500
TZOFFSETTO:-0400
TZNAME:EDT
DTSTART:20240310T070000
END:DAYLIGHT
BEGIN:STANDARD
TZOFFSETFROM:-0400
TZOFFSETTO:-0500
TZNAME:EST
DTSTART:20241103T060000
END:STANDARD
BEGIN:DAYLIGHT
TZOFFSETFROM:-0500
TZOFFSETTO:-0400
TZNAME:EDT
DTSTART:20250309T070000
END:DAYLIGHT
BEGIN:STANDARD
TZOFFSETFROM:-0400
TZOFFSETTO:-0500
TZNAME:EST
DTSTART:20251102T060000
END:STANDARD
END:VTIMEZONE
BEGIN:VEVENT
DTSTART;TZID=America/New_York:20240122T090000
DTEND;TZID=America/New_York:20240122T120000
DTSTAMP:20260424T041758
CREATED:20240124T143736Z
LAST-MODIFIED:20240124T143925Z
UID:13524-1705914000-1705924800@durhamrealtors.org
SUMMARY:Merrick Moore Elementary School Refresh
DESCRIPTION:REGISTER (closed) \nWe are in the home stretch with our DPS Staff Break Room refresh work! \nThe rooms have been painted and the new furniture\, rugs and accessories paid for by DPS Foundation have been delivered! \nAll DRAR members are welcome to help assemble furniture and finish decorating the break rooms. \nPlease bring tools (if you have them) like: \n\nscrewdrivers\nallen wrenches\nbox cutter\nelectric drill
URL:https://durhamrealtors.org/event/merrick-moore-elementary-school-refresh/
LOCATION:Merrick Moore Elementary School\, 2325 Cheek Road\, Durham\, NC\, 27704\, United States
END:VEVENT
END:VCALENDAR