BEGIN:VCALENDAR
VERSION:2.0
PRODID:-//Durham Regional Assc of Realtors - ECPv6.15.16//NONSGML v1.0//EN
CALSCALE:GREGORIAN
METHOD:PUBLISH
X-WR-CALNAME:Durham Regional Assc of Realtors
X-ORIGINAL-URL:https://durhamrealtors.org
X-WR-CALDESC:Events for Durham Regional Assc of Realtors
REFRESH-INTERVAL;VALUE=DURATION:PT1H
X-Robots-Tag:noindex
X-PUBLISHED-TTL:PT1H
BEGIN:VTIMEZONE
TZID:America/New_York
BEGIN:DAYLIGHT
TZOFFSETFROM:-0500
TZOFFSETTO:-0400
TZNAME:EDT
DTSTART:20170312T070000
END:DAYLIGHT
BEGIN:STANDARD
TZOFFSETFROM:-0400
TZOFFSETTO:-0500
TZNAME:EST
DTSTART:20171105T060000
END:STANDARD
BEGIN:DAYLIGHT
TZOFFSETFROM:-0500
TZOFFSETTO:-0400
TZNAME:EDT
DTSTART:20180311T070000
END:DAYLIGHT
BEGIN:STANDARD
TZOFFSETFROM:-0400
TZOFFSETTO:-0500
TZNAME:EST
DTSTART:20181104T060000
END:STANDARD
BEGIN:DAYLIGHT
TZOFFSETFROM:-0500
TZOFFSETTO:-0400
TZNAME:EDT
DTSTART:20190310T070000
END:DAYLIGHT
BEGIN:STANDARD
TZOFFSETFROM:-0400
TZOFFSETTO:-0500
TZNAME:EST
DTSTART:20191103T060000
END:STANDARD
BEGIN:DAYLIGHT
TZOFFSETFROM:-0500
TZOFFSETTO:-0400
TZNAME:EDT
DTSTART:20200308T070000
END:DAYLIGHT
BEGIN:STANDARD
TZOFFSETFROM:-0400
TZOFFSETTO:-0500
TZNAME:EST
DTSTART:20201101T060000
END:STANDARD
BEGIN:DAYLIGHT
TZOFFSETFROM:-0500
TZOFFSETTO:-0400
TZNAME:EDT
DTSTART:20210314T070000
END:DAYLIGHT
BEGIN:STANDARD
TZOFFSETFROM:-0400
TZOFFSETTO:-0500
TZNAME:EST
DTSTART:20211107T060000
END:STANDARD
BEGIN:DAYLIGHT
TZOFFSETFROM:-0500
TZOFFSETTO:-0400
TZNAME:EDT
DTSTART:20220313T070000
END:DAYLIGHT
BEGIN:STANDARD
TZOFFSETFROM:-0400
TZOFFSETTO:-0500
TZNAME:EST
DTSTART:20221106T060000
END:STANDARD
BEGIN:DAYLIGHT
TZOFFSETFROM:-0500
TZOFFSETTO:-0400
TZNAME:EDT
DTSTART:20230312T070000
END:DAYLIGHT
BEGIN:STANDARD
TZOFFSETFROM:-0400
TZOFFSETTO:-0500
TZNAME:EST
DTSTART:20231105T060000
END:STANDARD
BEGIN:DAYLIGHT
TZOFFSETFROM:-0500
TZOFFSETTO:-0400
TZNAME:EDT
DTSTART:20240310T070000
END:DAYLIGHT
BEGIN:STANDARD
TZOFFSETFROM:-0400
TZOFFSETTO:-0500
TZNAME:EST
DTSTART:20241103T060000
END:STANDARD
BEGIN:DAYLIGHT
TZOFFSETFROM:-0500
TZOFFSETTO:-0400
TZNAME:EDT
DTSTART:20250309T070000
END:DAYLIGHT
BEGIN:STANDARD
TZOFFSETFROM:-0400
TZOFFSETTO:-0500
TZNAME:EST
DTSTART:20251102T060000
END:STANDARD
BEGIN:DAYLIGHT
TZOFFSETFROM:-0500
TZOFFSETTO:-0400
TZNAME:EDT
DTSTART:20260308T070000
END:DAYLIGHT
BEGIN:STANDARD
TZOFFSETFROM:-0400
TZOFFSETTO:-0500
TZNAME:EST
DTSTART:20261101T060000
END:STANDARD
END:VTIMEZONE
BEGIN:VTIMEZONE
TZID:America/New_York
BEGIN:DAYLIGHT
TZOFFSETFROM:-0500
TZOFFSETTO:-0400
TZNAME:EDT
DTSTART:20210314T070000
END:DAYLIGHT
BEGIN:STANDARD
TZOFFSETFROM:-0400
TZOFFSETTO:-0500
TZNAME:EST
DTSTART:20211107T060000
END:STANDARD
BEGIN:DAYLIGHT
TZOFFSETFROM:-0500
TZOFFSETTO:-0400
TZNAME:EDT
DTSTART:20220313T070000
END:DAYLIGHT
BEGIN:STANDARD
TZOFFSETFROM:-0400
TZOFFSETTO:-0500
TZNAME:EST
DTSTART:20221106T060000
END:STANDARD
BEGIN:DAYLIGHT
TZOFFSETFROM:-0500
TZOFFSETTO:-0400
TZNAME:EDT
DTSTART:20230312T070000
END:DAYLIGHT
BEGIN:STANDARD
TZOFFSETFROM:-0400
TZOFFSETTO:-0500
TZNAME:EST
DTSTART:20231105T060000
END:STANDARD
BEGIN:DAYLIGHT
TZOFFSETFROM:-0500
TZOFFSETTO:-0400
TZNAME:EDT
DTSTART:20240310T070000
END:DAYLIGHT
BEGIN:STANDARD
TZOFFSETFROM:-0400
TZOFFSETTO:-0500
TZNAME:EST
DTSTART:20241103T060000
END:STANDARD
BEGIN:DAYLIGHT
TZOFFSETFROM:-0500
TZOFFSETTO:-0400
TZNAME:EDT
DTSTART:20250309T070000
END:DAYLIGHT
BEGIN:STANDARD
TZOFFSETFROM:-0400
TZOFFSETTO:-0500
TZNAME:EST
DTSTART:20251102T060000
END:STANDARD
END:VTIMEZONE
BEGIN:VEVENT
DTSTART;VALUE=DATE:20250407
DTEND;VALUE=DATE:20250410
DTSTAMP:20260424T063828
CREATED:20250127T144734Z
LAST-MODIFIED:20250207T172920Z
UID:15001-1743984000-1744243199@durhamrealtors.org
SUMMARY:NCR Legislative Meetings - Raleigh
DESCRIPTION:
URL:https://durhamrealtors.org/event/ncr-raleigh-visits/
LOCATION:NC Legislative Building – Raleigh\, NC\, 16 W Jones St \, Raleigh\, NC\, 27601\, United States
GEO:35.7832233;-78.6389527
X-APPLE-STRUCTURED-LOCATION;VALUE=URI;X-ADDRESS=NC Legislative Building – Raleigh NC 16 W Jones St  Raleigh NC 27601 United States;X-APPLE-RADIUS=500;X-TITLE=16 W Jones St:geo:-78.6389527,35.7832233
END:VEVENT
BEGIN:VEVENT
DTSTART;TZID=America/New_York:20240605T080000
DTEND;TZID=America/New_York:20240605T130000
DTSTAMP:20260424T063828
CREATED:20240604T111917Z
LAST-MODIFIED:20240604T111917Z
UID:13973-1717574400-1717592400@durhamrealtors.org
SUMMARY:NC REALTORS® Legislative Meetings\, Raleigh
DESCRIPTION:REGISTER (please note if you’d like to ride the bus) \nDRAR has arranged to have a private room to meet with our local legislators during this time. Talking Points will be provided. \nBus departs at 8:15 AM sharp from DRAR parking lot \nBus returns to DRAR parking lot around 1 pm. \nRegister to attend North Carolina Realtors® Legislative Meetings June 2 – 5
URL:https://durhamrealtors.org/event/nc-realtors-legislative-meetings-raleigh-2/
LOCATION:NC Legislative Building – Raleigh\, NC\, 16 W Jones St \, Raleigh\, NC\, 27601\, United States
GEO:35.7832233;-78.6389527
X-APPLE-STRUCTURED-LOCATION;VALUE=URI;X-ADDRESS=NC Legislative Building – Raleigh NC 16 W Jones St  Raleigh NC 27601 United States;X-APPLE-RADIUS=500;X-TITLE=16 W Jones St:geo:-78.6389527,35.7832233
END:VEVENT
BEGIN:VEVENT
DTSTART;TZID=America/New_York:20230329T080000
DTEND;TZID=America/New_York:20230329T130000
DTSTAMP:20260424T063828
CREATED:20230301T142331Z
LAST-MODIFIED:20230301T143829Z
UID:12325-1680076800-1680094800@durhamrealtors.org
SUMMARY:REALTOR® Meeting with Legislators in Raleigh
DESCRIPTION:REGISTER \nMust register to ride the bus!\nBus departs DRAR at 8am sharp and will return around 1pm.\nSenator Woodard has provided DRAR a private room for members to meet with our government legislators
URL:https://durhamrealtors.org/event/realtor-meeting-with-legislators-in-raleigh/
LOCATION:NC Legislative Building – Raleigh\, NC\, 16 W Jones St \, Raleigh\, NC\, 27601\, United States
GEO:35.7832233;-78.6389527
X-APPLE-STRUCTURED-LOCATION;VALUE=URI;X-ADDRESS=NC Legislative Building – Raleigh NC 16 W Jones St  Raleigh NC 27601 United States;X-APPLE-RADIUS=500;X-TITLE=16 W Jones St:geo:-78.6389527,35.7832233
END:VEVENT
BEGIN:VEVENT
DTSTART;TZID=America/New_York:20220615T080000
DTEND;TZID=America/New_York:20220615T120000
DTSTAMP:20260424T063828
CREATED:20220615T120000Z
LAST-MODIFIED:20220523T185108Z
UID:11283-1655280000-1655294400@durhamrealtors.org
SUMMARY:Legislative Mtgs: Raleigh
DESCRIPTION:REGISTER \nCome to Raleigh and meet with our Government Legislators! \nTransportation departs DRAR parking lot at 8:00am\, (must register to ride) and returns around noon. \n 
URL:https://durhamrealtors.org/event/11283/
LOCATION:NC Legislative Building – Raleigh\, NC\, 16 W Jones St \, Raleigh\, NC\, 27601\, United States
GEO:35.7832233;-78.6389527
X-APPLE-STRUCTURED-LOCATION;VALUE=URI;X-ADDRESS=NC Legislative Building – Raleigh NC 16 W Jones St  Raleigh NC 27601 United States;X-APPLE-RADIUS=500;X-TITLE=16 W Jones St:geo:-78.6389527,35.7832233
END:VEVENT
BEGIN:VEVENT
DTSTART;TZID=America/New_York:20180604T000000
DTEND;TZID=America/New_York:20180606T235959
DTSTAMP:20260424T063828
CREATED:20180529T174851Z
LAST-MODIFIED:20180529T174851Z
UID:9331-1528070400-1528329599@durhamrealtors.org
SUMMARY:NC REALTORS® Legislative Meetings - Raleigh
DESCRIPTION:
URL:https://durhamrealtors.org/event/nc-realtors-legislative-meetings-raleigh/
LOCATION:NC Legislative Building – Raleigh\, NC\, 16 W Jones St \, Raleigh\, NC\, 27601\, United States
GEO:35.7832233;-78.6389527
X-APPLE-STRUCTURED-LOCATION;VALUE=URI;X-ADDRESS=NC Legislative Building – Raleigh NC 16 W Jones St  Raleigh NC 27601 United States;X-APPLE-RADIUS=500;X-TITLE=16 W Jones St:geo:-78.6389527,35.7832233
END:VEVENT
END:VCALENDAR