BEGIN:VCALENDAR
VERSION:2.0
PRODID:-//Durham Regional Assc of Realtors - ECPv6.15.16//NONSGML v1.0//EN
CALSCALE:GREGORIAN
METHOD:PUBLISH
X-ORIGINAL-URL:https://durhamrealtors.org
X-WR-CALDESC:Events for Durham Regional Assc of Realtors
REFRESH-INTERVAL;VALUE=DURATION:PT1H
X-Robots-Tag:noindex
X-PUBLISHED-TTL:PT1H
BEGIN:VTIMEZONE
TZID:America/New_York
BEGIN:DAYLIGHT
TZOFFSETFROM:-0500
TZOFFSETTO:-0400
TZNAME:EDT
DTSTART:20170312T070000
END:DAYLIGHT
BEGIN:STANDARD
TZOFFSETFROM:-0400
TZOFFSETTO:-0500
TZNAME:EST
DTSTART:20171105T060000
END:STANDARD
BEGIN:DAYLIGHT
TZOFFSETFROM:-0500
TZOFFSETTO:-0400
TZNAME:EDT
DTSTART:20180311T070000
END:DAYLIGHT
BEGIN:STANDARD
TZOFFSETFROM:-0400
TZOFFSETTO:-0500
TZNAME:EST
DTSTART:20181104T060000
END:STANDARD
BEGIN:DAYLIGHT
TZOFFSETFROM:-0500
TZOFFSETTO:-0400
TZNAME:EDT
DTSTART:20190310T070000
END:DAYLIGHT
BEGIN:STANDARD
TZOFFSETFROM:-0400
TZOFFSETTO:-0500
TZNAME:EST
DTSTART:20191103T060000
END:STANDARD
END:VTIMEZONE
BEGIN:VEVENT
DTSTART;TZID=America/New_York:20180425T160000
DTEND;TZID=America/New_York:20180425T170000
DTSTAMP:20260424T140022
CREATED:20180406T165904Z
LAST-MODIFIED:20180406T165904Z
UID:9320-1524672000-1524675600@durhamrealtors.org
SUMMARY:NC REALTORS Mixer at Ponysarus in Durham
DESCRIPTION:Another round of MIXers is being served in a region near you\nDurham/Chapel Hill\nWednesday\, April 25 \nPonysaurus Brewing\n219 Hood Street\, Durham\, NC 27701 \n\nNC REALTORS® serves up a flight of MIXers across the state\, and the drinks are on us! This time\, we’re checking out the local flair across the state\, hosting events at breweries and inviting food trucks.  Stop by\, meet fellow members and staff\, and grab some grub!\nSpace is limited! Register today – before your not-yous take all the spots. And the alcohol.
URL:https://durhamrealtors.org/event/3312/
LOCATION:Ponysarus\, 219 Hood Street\, Durham\, NC\, 27701\, United States
GEO:35.9895631;-78.8952487
X-APPLE-STRUCTURED-LOCATION;VALUE=URI;X-ADDRESS=Ponysarus 219 Hood Street Durham NC 27701 United States;X-APPLE-RADIUS=500;X-TITLE=219 Hood Street:geo:-78.8952487,35.9895631
END:VEVENT
END:VCALENDAR