BEGIN:VCALENDAR
VERSION:2.0
PRODID:-//Durham Regional Assc of Realtors - ECPv6.15.16//NONSGML v1.0//EN
CALSCALE:GREGORIAN
METHOD:PUBLISH
X-WR-CALNAME:Durham Regional Assc of Realtors
X-ORIGINAL-URL:https://durhamrealtors.org
X-WR-CALDESC:Events for Durham Regional Assc of Realtors
REFRESH-INTERVAL;VALUE=DURATION:PT1H
X-Robots-Tag:noindex
X-PUBLISHED-TTL:PT1H
BEGIN:VTIMEZONE
TZID:America/New_York
BEGIN:DAYLIGHT
TZOFFSETFROM:-0500
TZOFFSETTO:-0400
TZNAME:EDT
DTSTART:20240310T070000
END:DAYLIGHT
BEGIN:STANDARD
TZOFFSETFROM:-0400
TZOFFSETTO:-0500
TZNAME:EST
DTSTART:20241103T060000
END:STANDARD
BEGIN:DAYLIGHT
TZOFFSETFROM:-0500
TZOFFSETTO:-0400
TZNAME:EDT
DTSTART:20250309T070000
END:DAYLIGHT
BEGIN:STANDARD
TZOFFSETFROM:-0400
TZOFFSETTO:-0500
TZNAME:EST
DTSTART:20251102T060000
END:STANDARD
BEGIN:DAYLIGHT
TZOFFSETFROM:-0500
TZOFFSETTO:-0400
TZNAME:EDT
DTSTART:20260308T070000
END:DAYLIGHT
BEGIN:STANDARD
TZOFFSETFROM:-0400
TZOFFSETTO:-0500
TZNAME:EST
DTSTART:20261101T060000
END:STANDARD
END:VTIMEZONE
BEGIN:VTIMEZONE
TZID:America/New_York
BEGIN:DAYLIGHT
TZOFFSETFROM:-0500
TZOFFSETTO:-0400
TZNAME:EDT
DTSTART:20200308T070000
END:DAYLIGHT
BEGIN:STANDARD
TZOFFSETFROM:-0400
TZOFFSETTO:-0500
TZNAME:EST
DTSTART:20201101T060000
END:STANDARD
BEGIN:DAYLIGHT
TZOFFSETFROM:-0500
TZOFFSETTO:-0400
TZNAME:EDT
DTSTART:20210314T070000
END:DAYLIGHT
BEGIN:STANDARD
TZOFFSETFROM:-0400
TZOFFSETTO:-0500
TZNAME:EST
DTSTART:20211107T060000
END:STANDARD
BEGIN:DAYLIGHT
TZOFFSETFROM:-0500
TZOFFSETTO:-0400
TZNAME:EDT
DTSTART:20220313T070000
END:DAYLIGHT
BEGIN:STANDARD
TZOFFSETFROM:-0400
TZOFFSETTO:-0500
TZNAME:EST
DTSTART:20221106T060000
END:STANDARD
BEGIN:DAYLIGHT
TZOFFSETFROM:-0500
TZOFFSETTO:-0400
TZNAME:EDT
DTSTART:20230312T070000
END:DAYLIGHT
BEGIN:STANDARD
TZOFFSETFROM:-0400
TZOFFSETTO:-0500
TZNAME:EST
DTSTART:20231105T060000
END:STANDARD
BEGIN:DAYLIGHT
TZOFFSETFROM:-0500
TZOFFSETTO:-0400
TZNAME:EDT
DTSTART:20240310T070000
END:DAYLIGHT
BEGIN:STANDARD
TZOFFSETFROM:-0400
TZOFFSETTO:-0500
TZNAME:EST
DTSTART:20241103T060000
END:STANDARD
BEGIN:DAYLIGHT
TZOFFSETFROM:-0500
TZOFFSETTO:-0400
TZNAME:EDT
DTSTART:20250309T070000
END:DAYLIGHT
BEGIN:STANDARD
TZOFFSETFROM:-0400
TZOFFSETTO:-0500
TZNAME:EST
DTSTART:20251102T060000
END:STANDARD
END:VTIMEZONE
BEGIN:VEVENT
DTSTART;TZID=America/New_York:20250807T113000
DTEND;TZID=America/New_York:20250807T123000
DTSTAMP:20260423T222711
CREATED:20250714T142838Z
LAST-MODIFIED:20250714T154152Z
UID:15544-1754566200-1754569800@durhamrealtors.org
SUMMARY:Built to Lead: The YPN Power Panel
DESCRIPTION:Hosted by Raleigh Regional Association of REALTORS®. \nREGISTER
URL:https://durhamrealtors.org/event/built-to-lead-the-ypn-power-panel/
LOCATION:Raleigh Regional Association of REALTORS\, 111 Realtors Way\, Cary\, NC\, 27513\, United States
END:VEVENT
BEGIN:VEVENT
DTSTART;TZID=America/New_York:20240911T090000
DTEND;TZID=America/New_York:20240911T120000
DTSTAMP:20260423T222711
CREATED:20240826T123713Z
LAST-MODIFIED:20240826T123713Z
UID:14255-1726045200-1726056000@durhamrealtors.org
SUMMARY:Flexmls Training @RRAR
DESCRIPTION:Learn Flexmls \nSessions offered at DRAR (September 10)\, RRAR (September 11)\, or JCAR (September 12) \nREGISTER for RRAR \nTopics: \nGetting started with Flexmls\nSubscriptions and Portals\nFlexmls Pro (Mobile)
URL:https://durhamrealtors.org/event/flexmls-training-rrar-2/
LOCATION:Raleigh Regional Association of REALTORS\, 111 Realtors Way\, Cary\, NC\, 27513\, United States
END:VEVENT
BEGIN:VEVENT
DTSTART;TZID=America/New_York:20240820T090000
DTEND;TZID=America/New_York:20240820T163000
DTSTAMP:20260423T222711
CREATED:20240513T120318Z
LAST-MODIFIED:20240513T162108Z
UID:13916-1724144400-1724171400@durhamrealtors.org
SUMMARY:Part 2 of 2: ABR Certification / 4-hour CE Elective
DESCRIPTION:COST $10 \nRegistration coming soon \nInstructor: Patrice Willetts \nEarn your ABR Certification AND receive your CE Elective for 2024/25
URL:https://durhamrealtors.org/event/abr-certification-4-hour-ce-elective/
LOCATION:Raleigh Regional Association of REALTORS\, 111 Realtors Way\, Cary\, NC\, 27513\, United States
END:VEVENT
BEGIN:VEVENT
DTSTART;TZID=America/New_York:20240819T090000
DTEND;TZID=America/New_York:20240819T163000
DTSTAMP:20260423T222711
CREATED:20240513T120226Z
LAST-MODIFIED:20240513T162044Z
UID:13914-1724058000-1724085000@durhamrealtors.org
SUMMARY:Part 1 of 2:  ABR Certification / 4-hr CE elective
DESCRIPTION:COST $10 \nRegistration coming soon \nInstructor: Patrice Willetts \nEarn your ABR Certification AND receive your CE Elective for 2024/25
URL:https://durhamrealtors.org/event/abr-certification-4-hr-ce-elective/
LOCATION:Raleigh Regional Association of REALTORS\, 111 Realtors Way\, Cary\, NC\, 27513\, United States
END:VEVENT
BEGIN:VEVENT
DTSTART;TZID=America/New_York:20240610T130000
DTEND;TZID=America/New_York:20240610T140000
DTSTAMP:20260423T222711
CREATED:20240606T144552Z
LAST-MODIFIED:20240826T123230Z
UID:13997-1718024400-1718028000@durhamrealtors.org
SUMMARY:FREE Flexmls Training @ RRAR
DESCRIPTION:AFTERNOON SESSION\nREGISTER\n1:00 – 2:00 – Auto Emails\, Client Portal\, Contact Activity\n2:00 – 3:00 – Flexmls Pro App
URL:https://durhamrealtors.org/event/free-flexmls-training-rrar-2/
LOCATION:Raleigh Regional Association of REALTORS\, 111 Realtors Way\, Cary\, NC\, 27513\, United States
ORGANIZER;CN="Triangle Multiple Listing Service":MAILTO:RachelW@TriangleMLS.com
END:VEVENT
BEGIN:VEVENT
DTSTART;TZID=America/New_York:20240610T100000
DTEND;TZID=America/New_York:20240610T120000
DTSTAMP:20260423T222711
CREATED:20240606T144324Z
LAST-MODIFIED:20240607T125235Z
UID:13995-1718013600-1718020800@durhamrealtors.org
SUMMARY:FREE Flexmls Training @ RRAR
DESCRIPTION:MORNING SESSION\nREGISTER\n10:00 – 10:45 AM – Listing Manager\n10:45 – 12:00 PM – Getting Started in Flexmls \n 
URL:https://durhamrealtors.org/event/free-flexmls-training-rrar/
LOCATION:Raleigh Regional Association of REALTORS\, 111 Realtors Way\, Cary\, NC\, 27513\, United States
ORGANIZER;CN="Triangle Multiple Listing Service":MAILTO:RachelW@TriangleMLS.com
END:VEVENT
BEGIN:VEVENT
DTSTART;TZID=America/New_York:20230928T120000
DTEND;TZID=America/New_York:20230928T133000
DTSTAMP:20260423T222711
CREATED:20230906T112550Z
LAST-MODIFIED:20230906T112550Z
UID:13008-1695902400-1695907800@durhamrealtors.org
SUMMARY:TRIBOR: Power of Emotional Intelligence to Win
DESCRIPTION:REGISTER \nThere is a $10 fee for this event
URL:https://durhamrealtors.org/event/tribor-power-of-emotional-intelligence-to-win/
LOCATION:Raleigh Regional Association of REALTORS\, 111 Realtors Way\, Cary\, NC\, 27513\, United States
END:VEVENT
BEGIN:VEVENT
DTSTART;TZID=America/New_York:20230413T123000
DTEND;TZID=America/New_York:20230413T153000
DTSTAMP:20260423T222711
CREATED:20230322T120028Z
LAST-MODIFIED:20230322T123948Z
UID:12415-1681389000-1681399800@durhamrealtors.org
SUMMARY:TRIBOR: Fair Housing Lunch & Learn
DESCRIPTION:REGISTER
URL:https://durhamrealtors.org/event/tribor-fair-housing-lunch-learn/
LOCATION:Raleigh Regional Association of REALTORS\, 111 Realtors Way\, Cary\, NC\, 27513\, United States
END:VEVENT
BEGIN:VEVENT
DTSTART;TZID=America/New_York:20230411T090000
DTEND;TZID=America/New_York:20230411T103000
DTSTAMP:20260423T222711
CREATED:20230322T115313Z
LAST-MODIFIED:20230322T115313Z
UID:12408-1681203600-1681209000@durhamrealtors.org
SUMMARY:TRIBOR: Political Advocacy Day
DESCRIPTION:REGISTER
URL:https://durhamrealtors.org/event/tribor-political-advocacy-day/
LOCATION:Raleigh Regional Association of REALTORS\, 111 Realtors Way\, Cary\, NC\, 27513\, United States
END:VEVENT
BEGIN:VEVENT
DTSTART;TZID=America/New_York:20230216T120000
DTEND;TZID=America/New_York:20230216T140000
DTSTAMP:20260423T222711
CREATED:20230130T160218Z
LAST-MODIFIED:20230130T160328Z
UID:12158-1676548800-1676556000@durhamrealtors.org
SUMMARY:TRIBOR Lunch & Learn: What the Appraisal?
DESCRIPTION:REGISTER \n \nThe Triangle Board of Realtist (TRIBOR) is a local affiliate of the National Association of Real Estate Brokers (NAREB) – the nation’s oldest and most historic Black real estate trade association. TRIBOR is a group of professionals working together to make homeownership affordable\, sustainable\, and attainable for homebuyers in the Triangle. For more information\, visit https://www.tribornareb.com.
URL:https://durhamrealtors.org/event/lunch-learn-what-the-appraisal/
LOCATION:Raleigh Regional Association of REALTORS\, 111 Realtors Way\, Cary\, NC\, 27513\, United States
END:VEVENT
BEGIN:VEVENT
DTSTART;TZID=America/New_York:20221101T160000
DTEND;TZID=America/New_York:20221101T180000
DTSTAMP:20260423T222711
CREATED:20221105T105346Z
LAST-MODIFIED:20221105T105346Z
UID:11718-1667318400-1667325600@durhamrealtors.org
SUMMARY:International Festival
DESCRIPTION:REGISTER
URL:https://durhamrealtors.org/event/international-festival/
LOCATION:Raleigh Regional Association of REALTORS\, 111 Realtors Way\, Cary\, NC\, 27513\, United States
END:VEVENT
BEGIN:VEVENT
DTSTART;TZID=America/New_York:20220630T090000
DTEND;TZID=America/New_York:20220630T123000
DTSTAMP:20260423T222711
CREATED:20220623T135956Z
LAST-MODIFIED:20220623T135956Z
UID:11398-1656579600-1656592200@durhamrealtors.org
SUMMARY:IN PERSON: Bias Override @ RRAR
DESCRIPTION:REGISTER
URL:https://durhamrealtors.org/event/in-person-bias-override-rrar/
LOCATION:Raleigh Regional Association of REALTORS\, 111 Realtors Way\, Cary\, NC\, 27513\, United States
END:VEVENT
BEGIN:VEVENT
DTSTART;TZID=America/New_York:20220413T113000
DTEND;TZID=America/New_York:20220413T130000
DTSTAMP:20260423T222711
CREATED:20220325T111459Z
LAST-MODIFIED:20220325T111459Z
UID:11034-1649849400-1649854800@durhamrealtors.org
SUMMARY:RRAR Lunch & Learn: Fair Housing (FREE)
DESCRIPTION:REGISTER \nJoin Raleigh Regional Association of Realtors at this event and hear from guest speakers who will be discussing the topic of Fair Housing. Enjoy lunch and network with other top-level real estate professionals who share your passion to better our industry. \n11:30 AM | Lunch & Networking\n12:00 PM | Speakers\nFree:  Lunch \nSpecial thanks to our sponsors:   Triangle MLS  |  North Carolina Homeowners Alliance  |  Landis
URL:https://durhamrealtors.org/event/rrar-lunch-learn-fair-housing-free/
LOCATION:Raleigh Regional Association of REALTORS\, 111 Realtors Way\, Cary\, NC\, 27513\, United States
END:VEVENT
BEGIN:VEVENT
DTSTART;TZID=America/New_York:20211214T084500
DTEND;TZID=America/New_York:20211214T163000
DTSTAMP:20260423T222711
CREATED:20211214T134500Z
LAST-MODIFIED:20211022T132251Z
UID:10380-1639471500-1639499400@durhamrealtors.org
SUMMARY:2022 Board of Directors Orientation
DESCRIPTION:
URL:https://durhamrealtors.org/event/2022-board-of-directors-orientation/
LOCATION:Raleigh Regional Association of REALTORS\, 111 Realtors Way\, Cary\, NC\, 27513\, United States
END:VEVENT
BEGIN:VEVENT
DTSTART;TZID=America/New_York:20211015T100000
DTEND;TZID=America/New_York:20211015T140000
DTSTAMP:20260423T222711
CREATED:20211015T140000Z
LAST-MODIFIED:20210922T141207Z
UID:10215-1634292000-1634306400@durhamrealtors.org
SUMMARY:Triangle Real Estate Engagement Summit
DESCRIPTION:Guest Speaker: Sarah Madras\, Certified “Dare to Lead” Facilitator \nGet exposure to other Associations\, various Committees and national ancillary groups like\nWCR\, NAREB and LGBTQ+ Real Estate Alliance\n\nCost is $15\, lunch will be provided \n\n\nREGISTER
URL:https://durhamrealtors.org/event/triangle-real-estate-engagement-summit/
LOCATION:Raleigh Regional Association of REALTORS\, 111 Realtors Way\, Cary\, NC\, 27513\, United States
END:VEVENT
END:VCALENDAR