BEGIN:VCALENDAR
VERSION:2.0
PRODID:-//Durham Regional Assc of Realtors - ECPv6.15.16//NONSGML v1.0//EN
CALSCALE:GREGORIAN
METHOD:PUBLISH
X-WR-CALNAME:Durham Regional Assc of Realtors
X-ORIGINAL-URL:https://durhamrealtors.org
X-WR-CALDESC:Events for Durham Regional Assc of Realtors
REFRESH-INTERVAL;VALUE=DURATION:PT1H
X-Robots-Tag:noindex
X-PUBLISHED-TTL:PT1H
BEGIN:VTIMEZONE
TZID:America/New_York
BEGIN:DAYLIGHT
TZOFFSETFROM:-0500
TZOFFSETTO:-0400
TZNAME:EDT
DTSTART:20230312T070000
END:DAYLIGHT
BEGIN:STANDARD
TZOFFSETFROM:-0400
TZOFFSETTO:-0500
TZNAME:EST
DTSTART:20231105T060000
END:STANDARD
BEGIN:DAYLIGHT
TZOFFSETFROM:-0500
TZOFFSETTO:-0400
TZNAME:EDT
DTSTART:20240310T070000
END:DAYLIGHT
BEGIN:STANDARD
TZOFFSETFROM:-0400
TZOFFSETTO:-0500
TZNAME:EST
DTSTART:20241103T060000
END:STANDARD
BEGIN:DAYLIGHT
TZOFFSETFROM:-0500
TZOFFSETTO:-0400
TZNAME:EDT
DTSTART:20250309T070000
END:DAYLIGHT
BEGIN:STANDARD
TZOFFSETFROM:-0400
TZOFFSETTO:-0500
TZNAME:EST
DTSTART:20251102T060000
END:STANDARD
END:VTIMEZONE
BEGIN:VEVENT
DTSTART;TZID=America/New_York:20241008T150000
DTEND;TZID=America/New_York:20241008T160000
DTSTAMP:20260425T164551
CREATED:20240509T073943Z
LAST-MODIFIED:20240509T073943Z
UID:13908-1728399600-1728403200@durhamrealtors.org
SUMMARY:Community Service Committee Meeting
DESCRIPTION:Interested in attending? \nPlease fill out the 2024 Committee Sign Up Form \nThe strength of the Durham Regional Association of REALTORS® is the involvement of its members. \nYour participation is welcomed and encouraged!
URL:https://durhamrealtors.org/event/community-service-committee-meeting-10/
LOCATION:REALTOR® Square at DRAR\, 4236 University Drive\, Durham\, NC\, 27707\, United States
GEO:35.9626463;-78.9610398
X-APPLE-STRUCTURED-LOCATION;VALUE=URI;X-ADDRESS=REALTOR® Square at DRAR 4236 University Drive Durham NC 27707 United States;X-APPLE-RADIUS=500;X-TITLE=4236 University Drive:geo:-78.9610398,35.9626463
END:VEVENT
BEGIN:VEVENT
DTSTART;TZID=America/New_York:20241007T100000
DTEND;TZID=America/New_York:20241007T110000
DTSTAMP:20260425T164551
CREATED:20231221T153737Z
LAST-MODIFIED:20231221T153737Z
UID:13337-1728295200-1728298800@durhamrealtors.org
SUMMARY:Public Schools Committee Meeting
DESCRIPTION:Interested in attending? \nPlease fill out the 2024 Committee Sign Up Form \nThe strength of the Durham Regional Association of REALTORS® is the involvement of its members. \nYour participation is welcomed and encouraged!
URL:https://durhamrealtors.org/event/public-schools-committee-meeting/2024-10-07/
LOCATION:REALTOR® Square at DRAR\, 4236 University Drive\, Durham\, NC\, 27707\, United States
GEO:35.9626463;-78.9610398
X-APPLE-STRUCTURED-LOCATION;VALUE=URI;X-ADDRESS=REALTOR® Square at DRAR 4236 University Drive Durham NC 27707 United States;X-APPLE-RADIUS=500;X-TITLE=4236 University Drive:geo:-78.9610398,35.9626463
END:VEVENT
BEGIN:VEVENT
DTSTART;TZID=America/New_York:20241003T081500
DTEND;TZID=America/New_York:20241003T111500
DTSTAMP:20260425T164551
CREATED:20240827T140053Z
LAST-MODIFIED:20240827T140053Z
UID:14264-1727943300-1727954100@durhamrealtors.org
SUMMARY:New Member Orientation
DESCRIPTION:8:15am: Check In\, Sponsored Refreshments & Pictures\n9:00am: Welcome\, Pathways to Professionalism and Getting Started\n9:30am: Getting Acquainted with the REALTOR® Organization – Local & State\n10:15am: Sponsor Intro\n10:20am: Break\n10:30am: Upcoming Events\n10:40am: Website & Social Media\n10:50am: COE and Oath\n11:00am: Closing Comments\n11:15am: End time (estimate)
URL:https://durhamrealtors.org/event/new-member-orientation-4/
LOCATION:REALTOR® Square at DRAR\, 4236 University Drive\, Durham\, NC\, 27707\, United States
GEO:35.9626463;-78.9610398
X-APPLE-STRUCTURED-LOCATION;VALUE=URI;X-ADDRESS=REALTOR® Square at DRAR 4236 University Drive Durham NC 27707 United States;X-APPLE-RADIUS=500;X-TITLE=4236 University Drive:geo:-78.9610398,35.9626463
END:VEVENT
BEGIN:VEVENT
DTSTART;TZID=America/New_York:20241002T140000
DTEND;TZID=America/New_York:20241002T153000
DTSTAMP:20260425T164551
CREATED:20240718T120140Z
LAST-MODIFIED:20240823T142502Z
UID:14104-1727877600-1727883000@durhamrealtors.org
SUMMARY:Durham Tax Revaluation Update @DRAR
DESCRIPTION:October 2 @ 2:00pm \nREGISTER \nSpeaker: Keyar Doyle\, Tax Administrator\, Durham County Tax Department \nTopic: Update regarding the Durham County 2025 Revaluation
URL:https://durhamrealtors.org/event/durham-tax-revaluation-update-drar/
LOCATION:REALTOR® Square at DRAR\, 4236 University Drive\, Durham\, NC\, 27707\, United States
GEO:35.9626463;-78.9610398
X-APPLE-STRUCTURED-LOCATION;VALUE=URI;X-ADDRESS=REALTOR® Square at DRAR 4236 University Drive Durham NC 27707 United States;X-APPLE-RADIUS=500;X-TITLE=4236 University Drive:geo:-78.9610398,35.9626463
END:VEVENT
BEGIN:VEVENT
DTSTART;TZID=America/New_York:20241001T140000
DTEND;TZID=America/New_York:20241001T150000
DTSTAMP:20260425T164551
CREATED:20240301T125623Z
LAST-MODIFIED:20240301T125623Z
UID:13749-1727791200-1727794800@durhamrealtors.org
SUMMARY:Property Management Committee
DESCRIPTION:Interested in attending? \nPlease fill out the 2024 Committee Sign Up Form \nThe strength of the Durham Regional Association of REALTORS® is the involvement of its members. \nYour participation is welcomed and encouraged!
URL:https://durhamrealtors.org/event/property-management-committee/2024-10-01/
LOCATION:REALTOR® Square at DRAR\, 4236 University Drive\, Durham\, NC\, 27707\, United States
GEO:35.9626463;-78.9610398
X-APPLE-STRUCTURED-LOCATION;VALUE=URI;X-ADDRESS=REALTOR® Square at DRAR 4236 University Drive Durham NC 27707 United States;X-APPLE-RADIUS=500;X-TITLE=4236 University Drive:geo:-78.9610398,35.9626463
END:VEVENT
BEGIN:VEVENT
DTSTART;TZID=America/New_York:20240927T100000
DTEND;TZID=America/New_York:20240927T143000
DTSTAMP:20260425T164551
CREATED:20240528T134000Z
LAST-MODIFIED:20240528T134000Z
UID:13952-1727431200-1727447400@durhamrealtors.org
SUMMARY:Red Cross Blood Drive @ DRAR
DESCRIPTION:REGISTER \n 
URL:https://durhamrealtors.org/event/red-cross-blood-drive-drar-2/
LOCATION:REALTOR® Square at DRAR\, 4236 University Drive\, Durham\, NC\, 27707\, United States
GEO:35.9626463;-78.9610398
X-APPLE-STRUCTURED-LOCATION;VALUE=URI;X-ADDRESS=REALTOR® Square at DRAR 4236 University Drive Durham NC 27707 United States;X-APPLE-RADIUS=500;X-TITLE=4236 University Drive:geo:-78.9610398,35.9626463
END:VEVENT
BEGIN:VEVENT
DTSTART;TZID=America/New_York:20240926T100000
DTEND;TZID=America/New_York:20240926T110000
DTSTAMP:20260425T164551
CREATED:20240226T132034Z
LAST-MODIFIED:20240226T132034Z
UID:13688-1727344800-1727348400@durhamrealtors.org
SUMMARY:Diversity\, Equity\, Inclusion Committee (DEI)
DESCRIPTION:Interested in attending? \nPlease fill out the 2024 Committee Sign Up Form \nThe strength of the Durham Regional Association of REALTORS® is the involvement of its members. \nYour participation is welcomed and encouraged!
URL:https://durhamrealtors.org/event/diversity-equity-inclusion-committee-dei/2024-09-26/
LOCATION:REALTOR® Square at DRAR\, 4236 University Drive\, Durham\, NC\, 27707\, United States
GEO:35.9626463;-78.9610398
X-APPLE-STRUCTURED-LOCATION;VALUE=URI;X-ADDRESS=REALTOR® Square at DRAR 4236 University Drive Durham NC 27707 United States;X-APPLE-RADIUS=500;X-TITLE=4236 University Drive:geo:-78.9610398,35.9626463
END:VEVENT
BEGIN:VEVENT
DTSTART;TZID=America/New_York:20240925T090000
DTEND;TZID=America/New_York:20240925T100000
DTSTAMP:20260425T164551
CREATED:20240229T160832Z
LAST-MODIFIED:20240229T160832Z
UID:13736-1727254800-1727258400@durhamrealtors.org
SUMMARY:Independent Brokerage Council (IBC) @ DRAR
DESCRIPTION:Is your brokerage a smaller\, non-franchise firm? \nThis Council will provide support\, networking\, and opportunities to exchange business savvy ideas with owners\, BICs\, and Principal Brokers of other small\, non-franchise firms. We will discuss current rule and industry changes\, and technology offerings from DRAR\, TMLS\, and our other partners. Members should be licensed and active real estate professionals of independent (non-national franchise) firms dedicated to the real estate industry\, and passionate about exploring new ways to learn and grow for their firm and brokers. \nAnnual Term: 1|1|24 – 12|31|24\nAnnual Dues: $ 50 per member – Dues will pay for refreshments and any costs associated with this group’s events.\nBI-MONTHLY MEETINGS: Every 4th Wednesday\, 9-10am at DRAR with select industry speakers \nDOWNLOAD APPLICATION: CLICK HERE \nContact Justin Burleson\, IBC Chair\, for questions:  Justin@PremierAgentsNetwork.com
URL:https://durhamrealtors.org/event/independent-brokerage-council-ibc-drar-2/
LOCATION:REALTOR® Square at DRAR\, 4236 University Drive\, Durham\, NC\, 27707\, United States
GEO:35.9626463;-78.9610398
X-APPLE-STRUCTURED-LOCATION;VALUE=URI;X-ADDRESS=REALTOR® Square at DRAR 4236 University Drive Durham NC 27707 United States;X-APPLE-RADIUS=500;X-TITLE=4236 University Drive:geo:-78.9610398,35.9626463
END:VEVENT
BEGIN:VEVENT
DTSTART;TZID=America/New_York:20240918T140000
DTEND;TZID=America/New_York:20240918T153000
DTSTAMP:20260425T164551
CREATED:20240819T135520Z
LAST-MODIFIED:20240827T135401Z
UID:14235-1726668000-1726673400@durhamrealtors.org
SUMMARY:BIC Meeting with John Wait @DRAR
DESCRIPTION:BIC Meeting with John Wait With NC REALTORS Legal Hotline \n@DRAR \nREGISTER \nTopics: \n\nImplementation of Form 220\nNavigating Cooperative Compensation\nBuyer Agency Dos & Don’ts\n\n 
URL:https://durhamrealtors.org/event/bic-meeting-with-john-wait-drar/
LOCATION:REALTOR® Square at DRAR\, 4236 University Drive\, Durham\, NC\, 27707\, United States
GEO:35.9626463;-78.9610398
X-APPLE-STRUCTURED-LOCATION;VALUE=URI;X-ADDRESS=REALTOR® Square at DRAR 4236 University Drive Durham NC 27707 United States;X-APPLE-RADIUS=500;X-TITLE=4236 University Drive:geo:-78.9610398,35.9626463
END:VEVENT
BEGIN:VEVENT
DTSTART;TZID=America/New_York:20240918T093000
DTEND;TZID=America/New_York:20240918T103000
DTSTAMP:20260425T164551
CREATED:20231221T163152Z
LAST-MODIFIED:20231221T163152Z
UID:13460-1726651800-1726655400@durhamrealtors.org
SUMMARY:DRAR Board of Directors Meeting
DESCRIPTION:
URL:https://durhamrealtors.org/event/drar-board-of-directors-meeting-13/
LOCATION:REALTOR® Square at DRAR\, 4236 University Drive\, Durham\, NC\, 27707\, United States
GEO:35.9626463;-78.9610398
X-APPLE-STRUCTURED-LOCATION;VALUE=URI;X-ADDRESS=REALTOR® Square at DRAR 4236 University Drive Durham NC 27707 United States;X-APPLE-RADIUS=500;X-TITLE=4236 University Drive:geo:-78.9610398,35.9626463
END:VEVENT
BEGIN:VEVENT
DTSTART;TZID=America/New_York:20240917T150000
DTEND;TZID=America/New_York:20240917T160000
DTSTAMP:20260425T164551
CREATED:20231221T155758Z
LAST-MODIFIED:20231221T155758Z
UID:13387-1726585200-1726588800@durhamrealtors.org
SUMMARY:Legislative Committee Meeting
DESCRIPTION:Interested in attending? \nPlease fill out the 2024 Committee Sign Up Form \nThe strength of the Durham Regional Association of REALTORS® is the involvement of its members. \nYour participation is welcomed and encouraged!
URL:https://durhamrealtors.org/event/legislative-committee-meeting-4/2024-09-17/
LOCATION:REALTOR® Square at DRAR\, 4236 University Drive\, Durham\, NC\, 27707\, United States
GEO:35.9626463;-78.9610398
X-APPLE-STRUCTURED-LOCATION;VALUE=URI;X-ADDRESS=REALTOR® Square at DRAR 4236 University Drive Durham NC 27707 United States;X-APPLE-RADIUS=500;X-TITLE=4236 University Drive:geo:-78.9610398,35.9626463
END:VEVENT
BEGIN:VEVENT
DTSTART;TZID=America/New_York:20240916T150000
DTEND;TZID=America/New_York:20240916T163000
DTSTAMP:20260425T164551
CREATED:20240814T135641Z
LAST-MODIFIED:20240911T143506Z
UID:14216-1726498800-1726504200@durhamrealtors.org
SUMMARY:The Future of TMLS with Matt Fowler
DESCRIPTION:@DRAR \nSpeaker: TMLS Executive Director Matt Fowler \n\nGet timely updates\nGet questions answered about recent changes\n\nREGISTER
URL:https://durhamrealtors.org/event/the-future-of-tmls/
LOCATION:REALTOR® Square at DRAR\, 4236 University Drive\, Durham\, NC\, 27707\, United States
GEO:35.9626463;-78.9610398
X-APPLE-STRUCTURED-LOCATION;VALUE=URI;X-ADDRESS=REALTOR® Square at DRAR 4236 University Drive Durham NC 27707 United States;X-APPLE-RADIUS=500;X-TITLE=4236 University Drive:geo:-78.9610398,35.9626463
END:VEVENT
BEGIN:VEVENT
DTSTART;VALUE=DATE:20240915
DTEND;VALUE=DATE:20240916
DTSTAMP:20260425T164551
CREATED:20240223T154348Z
LAST-MODIFIED:20240223T154348Z
UID:13666-1726358400-1726444799@durhamrealtors.org
SUMMARY:HISPANIC HERITAGE MONTH BEGINS
DESCRIPTION:
URL:https://durhamrealtors.org/event/hispanic-heritage-month-begins/
LOCATION:REALTOR® Square at DRAR\, 4236 University Drive\, Durham\, NC\, 27707\, United States
GEO:35.9626463;-78.9610398
X-APPLE-STRUCTURED-LOCATION;VALUE=URI;X-ADDRESS=REALTOR® Square at DRAR 4236 University Drive Durham NC 27707 United States;X-APPLE-RADIUS=500;X-TITLE=4236 University Drive:geo:-78.9610398,35.9626463
END:VEVENT
BEGIN:VEVENT
DTSTART;TZID=America/New_York:20240912T133000
DTEND;TZID=America/New_York:20240912T173000
DTSTAMP:20260425T164551
CREATED:20240801T115934Z
LAST-MODIFIED:20240801T115934Z
UID:14172-1726147800-1726162200@durhamrealtors.org
SUMMARY:#1975 Elective REALTORS® Code of Ethics: Our Promise to Professionalism @DRAR
DESCRIPTION:#1975 Elective REALTORS® Code of Ethics: Our Promise to Professionalism \n1:30pm – 5:30pm \n@DRAR \nYour Instructor: Chris Barnette \nRefreshments Included \nREGISTER \nCourse Description: 4-hour NCREC-approved CE elective that also fulfills NAR’s Ethics Requirement
URL:https://durhamrealtors.org/event/1975-elective-realtors-code-of-ethics-our-promise-to-professionalism-drar/
LOCATION:REALTOR® Square at DRAR\, 4236 University Drive\, Durham\, NC\, 27707\, United States
GEO:35.9626463;-78.9610398
X-APPLE-STRUCTURED-LOCATION;VALUE=URI;X-ADDRESS=REALTOR® Square at DRAR 4236 University Drive Durham NC 27707 United States;X-APPLE-RADIUS=500;X-TITLE=4236 University Drive:geo:-78.9610398,35.9626463
END:VEVENT
BEGIN:VEVENT
DTSTART;TZID=America/New_York:20240912T083000
DTEND;TZID=America/New_York:20240912T123000
DTSTAMP:20260425T164551
CREATED:20240801T115629Z
LAST-MODIFIED:20240808T132622Z
UID:14170-1726129800-1726144200@durhamrealtors.org
SUMMARY:#8825 BICUP In-Person @DRAR
DESCRIPTION:@DRAR \nYour Instructor: Chris Barnette \nRefreshments provided \nREGISTER \nTopics: \n\nEnvironmental Material Facts\nNCREC FAQs\nPermits\nEducation Update\nLaw & Rules Updates\nBIC Responsibility and Supervision
URL:https://durhamrealtors.org/event/8825-bicup-in-person-drar-2/
LOCATION:REALTOR® Square at DRAR\, 4236 University Drive\, Durham\, NC\, 27707\, United States
GEO:35.9626463;-78.9610398
X-APPLE-STRUCTURED-LOCATION;VALUE=URI;X-ADDRESS=REALTOR® Square at DRAR 4236 University Drive Durham NC 27707 United States;X-APPLE-RADIUS=500;X-TITLE=4236 University Drive:geo:-78.9610398,35.9626463
END:VEVENT
BEGIN:VEVENT
DTSTART;TZID=America/New_York:20240911T140000
DTEND;TZID=America/New_York:20240911T153000
DTSTAMP:20260425T164551
CREATED:20240821T121458Z
LAST-MODIFIED:20240821T122056Z
UID:14237-1726063200-1726068600@durhamrealtors.org
SUMMARY:Top Producer Panel
DESCRIPTION:@DRAR \nTop Successful agents in the market share helpful tips \nREGISTER \nTopics:\no Insights and tips for new agents\no Steps to increase production\no Set goals and sharpen your skills
URL:https://durhamrealtors.org/event/top-producer-panel/
LOCATION:REALTOR® Square at DRAR\, 4236 University Drive\, Durham\, NC\, 27707\, United States
GEO:35.9626463;-78.9610398
X-APPLE-STRUCTURED-LOCATION;VALUE=URI;X-ADDRESS=REALTOR® Square at DRAR 4236 University Drive Durham NC 27707 United States;X-APPLE-RADIUS=500;X-TITLE=4236 University Drive:geo:-78.9610398,35.9626463
END:VEVENT
BEGIN:VEVENT
DTSTART;TZID=America/New_York:20240911T093000
DTEND;TZID=America/New_York:20240911T103000
DTSTAMP:20260425T164551
CREATED:20231221T162434Z
LAST-MODIFIED:20231221T162434Z
UID:13436-1726047000-1726050600@durhamrealtors.org
SUMMARY:DRAR Executive Committee Meeting
DESCRIPTION:
URL:https://durhamrealtors.org/event/drar-executive-committee-meeting-12/
LOCATION:REALTOR® Square at DRAR\, 4236 University Drive\, Durham\, NC\, 27707\, United States
GEO:35.9626463;-78.9610398
X-APPLE-STRUCTURED-LOCATION;VALUE=URI;X-ADDRESS=REALTOR® Square at DRAR 4236 University Drive Durham NC 27707 United States;X-APPLE-RADIUS=500;X-TITLE=4236 University Drive:geo:-78.9610398,35.9626463
END:VEVENT
BEGIN:VEVENT
DTSTART;TZID=America/New_York:20240910T150000
DTEND;TZID=America/New_York:20240910T160000
DTSTAMP:20260425T164551
CREATED:20240509T073846Z
LAST-MODIFIED:20240509T073846Z
UID:13906-1725980400-1725984000@durhamrealtors.org
SUMMARY:Community Service Committee Meeting
DESCRIPTION:Interested in attending? \nPlease fill out the 2024 Committee Sign Up Form \nThe strength of the Durham Regional Association of REALTORS® is the involvement of its members. \nYour participation is welcomed and encouraged!
URL:https://durhamrealtors.org/event/community-service-committee-meeting-9/
LOCATION:REALTOR® Square at DRAR\, 4236 University Drive\, Durham\, NC\, 27707\, United States
GEO:35.9626463;-78.9610398
X-APPLE-STRUCTURED-LOCATION;VALUE=URI;X-ADDRESS=REALTOR® Square at DRAR 4236 University Drive Durham NC 27707 United States;X-APPLE-RADIUS=500;X-TITLE=4236 University Drive:geo:-78.9610398,35.9626463
END:VEVENT
BEGIN:VEVENT
DTSTART;TZID=America/New_York:20240910T090000
DTEND;TZID=America/New_York:20240910T120000
DTSTAMP:20260425T164551
CREATED:20240819T134835Z
LAST-MODIFIED:20240826T122544Z
UID:14233-1725958800-1725969600@durhamrealtors.org
SUMMARY:Flexmls Training @DRAR
DESCRIPTION:Learn Flexmls \nSessions offered at DRAR (September 10)\, RRAR (September 11)\, or JCAR (September 12) \nREGISTER for DRAR \nTopics: \n\nGetting started with Flexmls\nSubscriptions and Portals\nFlexmls Pro (Mobile)\n\n  \n 
URL:https://durhamrealtors.org/event/tmls-flex-training-drar/
LOCATION:REALTOR® Square at DRAR\, 4236 University Drive\, Durham\, NC\, 27707\, United States
GEO:35.9626463;-78.9610398
X-APPLE-STRUCTURED-LOCATION;VALUE=URI;X-ADDRESS=REALTOR® Square at DRAR 4236 University Drive Durham NC 27707 United States;X-APPLE-RADIUS=500;X-TITLE=4236 University Drive:geo:-78.9610398,35.9626463
END:VEVENT
BEGIN:VEVENT
DTSTART;TZID=America/New_York:20240905T081500
DTEND;TZID=America/New_York:20240905T111500
DTSTAMP:20260425T164551
CREATED:20240827T135835Z
LAST-MODIFIED:20240827T135835Z
UID:14262-1725524100-1725534900@durhamrealtors.org
SUMMARY:New Member Orientation
DESCRIPTION:8:15am: Check In\, Sponsored Refreshments & Pictures\n9:00am: Welcome\, Pathways to Professionalism and Getting Started\n9:30am: Getting Acquainted with the REALTOR® Organization – Local & State\n10:15am: Sponsor Intro\n10:20am: Break\n10:30am: Upcoming Events\n10:40am: Website & Social Media\n10:50am: COE and Oath\n11:00am: Closing Comments\n11:15am: End time (estimate) \n 
URL:https://durhamrealtors.org/event/new-member-orientation-3/
LOCATION:REALTOR® Square at DRAR\, 4236 University Drive\, Durham\, NC\, 27707\, United States
GEO:35.9626463;-78.9610398
X-APPLE-STRUCTURED-LOCATION;VALUE=URI;X-ADDRESS=REALTOR® Square at DRAR 4236 University Drive Durham NC 27707 United States;X-APPLE-RADIUS=500;X-TITLE=4236 University Drive:geo:-78.9610398,35.9626463
END:VEVENT
BEGIN:VEVENT
DTSTART;TZID=America/New_York:20240902T100000
DTEND;TZID=America/New_York:20240902T110000
DTSTAMP:20260425T164551
CREATED:20231221T153737Z
LAST-MODIFIED:20231221T154105Z
UID:13336-1725271200-1725274800@durhamrealtors.org
SUMMARY:CANCELED Public Schools Committee Meeting (holiday)
DESCRIPTION:Interested in attending? \nPlease fill out the 2024 Committee Sign Up Form \nThe strength of the Durham Regional Association of REALTORS® is the involvement of its members. \nYour participation is welcomed and encouraged!
URL:https://durhamrealtors.org/event/public-schools-committee-meeting-2024-09-02/
LOCATION:REALTOR® Square at DRAR\, 4236 University Drive\, Durham\, NC\, 27707\, United States
GEO:35.9626463;-78.9610398
X-APPLE-STRUCTURED-LOCATION;VALUE=URI;X-ADDRESS=REALTOR® Square at DRAR 4236 University Drive Durham NC 27707 United States;X-APPLE-RADIUS=500;X-TITLE=4236 University Drive:geo:-78.9610398,35.9626463
END:VEVENT
BEGIN:VEVENT
DTSTART;VALUE=DATE:20240901
DTEND;VALUE=DATE:20240902
DTSTAMP:20260425T164551
CREATED:20240223T154303Z
LAST-MODIFIED:20240223T154303Z
UID:13664-1725148800-1725235199@durhamrealtors.org
SUMMARY:REALTOR SAFETY MONTH
DESCRIPTION:
URL:https://durhamrealtors.org/event/realtor-safety-month/
LOCATION:REALTOR® Square at DRAR\, 4236 University Drive\, Durham\, NC\, 27707\, United States
GEO:35.9626463;-78.9610398
X-APPLE-STRUCTURED-LOCATION;VALUE=URI;X-ADDRESS=REALTOR® Square at DRAR 4236 University Drive Durham NC 27707 United States;X-APPLE-RADIUS=500;X-TITLE=4236 University Drive:geo:-78.9610398,35.9626463
END:VEVENT
BEGIN:VEVENT
DTSTART;TZID=America/New_York:20240822T100000
DTEND;TZID=America/New_York:20240822T110000
DTSTAMP:20260425T164551
CREATED:20240226T132034Z
LAST-MODIFIED:20240226T132034Z
UID:13687-1724320800-1724324400@durhamrealtors.org
SUMMARY:Diversity\, Equity\, Inclusion Committee (DEI)
DESCRIPTION:Interested in attending? \nPlease fill out the 2024 Committee Sign Up Form \nThe strength of the Durham Regional Association of REALTORS® is the involvement of its members. \nYour participation is welcomed and encouraged!
URL:https://durhamrealtors.org/event/diversity-equity-inclusion-committee-dei/2024-08-22/
LOCATION:REALTOR® Square at DRAR\, 4236 University Drive\, Durham\, NC\, 27707\, United States
GEO:35.9626463;-78.9610398
X-APPLE-STRUCTURED-LOCATION;VALUE=URI;X-ADDRESS=REALTOR® Square at DRAR 4236 University Drive Durham NC 27707 United States;X-APPLE-RADIUS=500;X-TITLE=4236 University Drive:geo:-78.9610398,35.9626463
END:VEVENT
BEGIN:VEVENT
DTSTART;TZID=America/New_York:20240821T133000
DTEND;TZID=America/New_York:20240821T173000
DTSTAMP:20260425T164551
CREATED:20240801T114852Z
LAST-MODIFIED:20240808T131429Z
UID:14168-1724247000-1724261400@durhamrealtors.org
SUMMARY:#8825 BICUP In-Person @DRAR
DESCRIPTION:#8825 BICUP In-Person \n1:30-5:30pm \n@DRAR \nYour Teacher: Chris Barnette \nRefreshments Included \nREGISTER \nTopics: \n\nEnvironmental Material Facts\nNCREC FAQs\nPermits\nEducation Update\nLaw & Rules Updates\nBIC Responsibility and Supervision
URL:https://durhamrealtors.org/event/8825-bicup-in-person-drar/
LOCATION:REALTOR® Square at DRAR\, 4236 University Drive\, Durham\, NC\, 27707\, United States
GEO:35.9626463;-78.9610398
X-APPLE-STRUCTURED-LOCATION;VALUE=URI;X-ADDRESS=REALTOR® Square at DRAR 4236 University Drive Durham NC 27707 United States;X-APPLE-RADIUS=500;X-TITLE=4236 University Drive:geo:-78.9610398,35.9626463
END:VEVENT
BEGIN:VEVENT
DTSTART;TZID=America/New_York:20240821T083000
DTEND;TZID=America/New_York:20240821T123000
DTSTAMP:20260425T164551
CREATED:20240801T114201Z
LAST-MODIFIED:20240808T131319Z
UID:14165-1724229000-1724243400@durhamrealtors.org
SUMMARY:#9925 GENUP In-Person @DRAR
DESCRIPTION:#9925 GENUP In-Person \n8:30am-12:30pm \n@DRAR \nYour Instructor: Chris Barnette \nRefreshments provided \nREGISTER \nTopics: \n\nEnvironmental Material Facts\nNCREC FAQs\nPermits\nEducation Update\nLaw & Rules Updates\n\n 
URL:https://durhamrealtors.org/event/9925-genup-in-person-drar/
LOCATION:REALTOR® Square at DRAR\, 4236 University Drive\, Durham\, NC\, 27707\, United States
GEO:35.9626463;-78.9610398
X-APPLE-STRUCTURED-LOCATION;VALUE=URI;X-ADDRESS=REALTOR® Square at DRAR 4236 University Drive Durham NC 27707 United States;X-APPLE-RADIUS=500;X-TITLE=4236 University Drive:geo:-78.9610398,35.9626463
END:VEVENT
BEGIN:VEVENT
DTSTART;TZID=America/New_York:20240820T150000
DTEND;TZID=America/New_York:20240820T160000
DTSTAMP:20260425T164551
CREATED:20231221T155758Z
LAST-MODIFIED:20240805T124727Z
UID:13386-1724166000-1724169600@durhamrealtors.org
SUMMARY:CANCELED: Legislative Committee Meeting
DESCRIPTION:Interested in attending? \nPlease fill out the 2024 Committee Sign Up Form \nThe strength of the Durham Regional Association of REALTORS® is the involvement of its members. \nYour participation is welcomed and encouraged!
URL:https://durhamrealtors.org/event/legislative-committee-meeting-4-2024-08-20/
LOCATION:REALTOR® Square at DRAR\, 4236 University Drive\, Durham\, NC\, 27707\, United States
GEO:35.9626463;-78.9610398
X-APPLE-STRUCTURED-LOCATION;VALUE=URI;X-ADDRESS=REALTOR® Square at DRAR 4236 University Drive Durham NC 27707 United States;X-APPLE-RADIUS=500;X-TITLE=4236 University Drive:geo:-78.9610398,35.9626463
END:VEVENT
BEGIN:VEVENT
DTSTART;TZID=America/New_York:20240814T093000
DTEND;TZID=America/New_York:20240814T103000
DTSTAMP:20260425T164551
CREATED:20231221T163118Z
LAST-MODIFIED:20231221T163118Z
UID:13458-1723627800-1723631400@durhamrealtors.org
SUMMARY:DRAR Board of Directors Meeting
DESCRIPTION:
URL:https://durhamrealtors.org/event/drar-board-of-directors-meeting-12/
LOCATION:REALTOR® Square at DRAR\, 4236 University Drive\, Durham\, NC\, 27707\, United States
GEO:35.9626463;-78.9610398
X-APPLE-STRUCTURED-LOCATION;VALUE=URI;X-ADDRESS=REALTOR® Square at DRAR 4236 University Drive Durham NC 27707 United States;X-APPLE-RADIUS=500;X-TITLE=4236 University Drive:geo:-78.9610398,35.9626463
END:VEVENT
BEGIN:VEVENT
DTSTART;TZID=America/New_York:20240813T150000
DTEND;TZID=America/New_York:20240813T160000
DTSTAMP:20260425T164551
CREATED:20240509T073736Z
LAST-MODIFIED:20240509T073736Z
UID:13904-1723561200-1723564800@durhamrealtors.org
SUMMARY:Community Service Committee Meeting
DESCRIPTION:Interested in attending? \nPlease fill out the 2024 Committee Sign Up Form \nThe strength of the Durham Regional Association of REALTORS® is the involvement of its members. \nYour participation is welcomed and encouraged!
URL:https://durhamrealtors.org/event/community-service-committee-meeting-8/
LOCATION:REALTOR® Square at DRAR\, 4236 University Drive\, Durham\, NC\, 27707\, United States
GEO:35.9626463;-78.9610398
X-APPLE-STRUCTURED-LOCATION;VALUE=URI;X-ADDRESS=REALTOR® Square at DRAR 4236 University Drive Durham NC 27707 United States;X-APPLE-RADIUS=500;X-TITLE=4236 University Drive:geo:-78.9610398,35.9626463
END:VEVENT
BEGIN:VEVENT
DTSTART;TZID=America/New_York:20240807T093000
DTEND;TZID=America/New_York:20240807T103000
DTSTAMP:20260425T164551
CREATED:20231221T162405Z
LAST-MODIFIED:20231221T162405Z
UID:13434-1723023000-1723026600@durhamrealtors.org
SUMMARY:DRAR Executive Committee Meeting
DESCRIPTION:
URL:https://durhamrealtors.org/event/drar-executive-committee-meeting-11/
LOCATION:REALTOR® Square at DRAR\, 4236 University Drive\, Durham\, NC\, 27707\, United States
GEO:35.9626463;-78.9610398
X-APPLE-STRUCTURED-LOCATION;VALUE=URI;X-ADDRESS=REALTOR® Square at DRAR 4236 University Drive Durham NC 27707 United States;X-APPLE-RADIUS=500;X-TITLE=4236 University Drive:geo:-78.9610398,35.9626463
END:VEVENT
BEGIN:VEVENT
DTSTART;TZID=America/New_York:20240806T140000
DTEND;TZID=America/New_York:20240806T150000
DTSTAMP:20260425T164551
CREATED:20240301T125623Z
LAST-MODIFIED:20240731T150102Z
UID:13747-1722952800-1722956400@durhamrealtors.org
SUMMARY:CANCELED: Property Management Committee
DESCRIPTION:Interested in attending? \nPlease fill out the 2024 Committee Sign Up Form \nThe strength of the Durham Regional Association of REALTORS® is the involvement of its members. \nYour participation is welcomed and encouraged!
URL:https://durhamrealtors.org/event/property-management-committee-2024-08-06/
LOCATION:REALTOR® Square at DRAR\, 4236 University Drive\, Durham\, NC\, 27707\, United States
GEO:35.9626463;-78.9610398
X-APPLE-STRUCTURED-LOCATION;VALUE=URI;X-ADDRESS=REALTOR® Square at DRAR 4236 University Drive Durham NC 27707 United States;X-APPLE-RADIUS=500;X-TITLE=4236 University Drive:geo:-78.9610398,35.9626463
END:VEVENT
END:VCALENDAR