BEGIN:VCALENDAR
VERSION:2.0
PRODID:-//Durham Regional Assc of Realtors - ECPv6.15.16//NONSGML v1.0//EN
CALSCALE:GREGORIAN
METHOD:PUBLISH
X-WR-CALNAME:Durham Regional Assc of Realtors
X-ORIGINAL-URL:https://durhamrealtors.org
X-WR-CALDESC:Events for Durham Regional Assc of Realtors
REFRESH-INTERVAL;VALUE=DURATION:PT1H
X-Robots-Tag:noindex
X-PUBLISHED-TTL:PT1H
BEGIN:VTIMEZONE
TZID:America/New_York
BEGIN:DAYLIGHT
TZOFFSETFROM:-0500
TZOFFSETTO:-0400
TZNAME:EDT
DTSTART:20220313T070000
END:DAYLIGHT
BEGIN:STANDARD
TZOFFSETFROM:-0400
TZOFFSETTO:-0500
TZNAME:EST
DTSTART:20221106T060000
END:STANDARD
BEGIN:DAYLIGHT
TZOFFSETFROM:-0500
TZOFFSETTO:-0400
TZNAME:EDT
DTSTART:20230312T070000
END:DAYLIGHT
BEGIN:STANDARD
TZOFFSETFROM:-0400
TZOFFSETTO:-0500
TZNAME:EST
DTSTART:20231105T060000
END:STANDARD
BEGIN:DAYLIGHT
TZOFFSETFROM:-0500
TZOFFSETTO:-0400
TZNAME:EDT
DTSTART:20240310T070000
END:DAYLIGHT
BEGIN:STANDARD
TZOFFSETFROM:-0400
TZOFFSETTO:-0500
TZNAME:EST
DTSTART:20241103T060000
END:STANDARD
END:VTIMEZONE
BEGIN:VTIMEZONE
TZID:America/New_York
BEGIN:DAYLIGHT
TZOFFSETFROM:-0500
TZOFFSETTO:-0400
TZNAME:EDT
DTSTART:20180311T070000
END:DAYLIGHT
BEGIN:STANDARD
TZOFFSETFROM:-0400
TZOFFSETTO:-0500
TZNAME:EST
DTSTART:20181104T060000
END:STANDARD
BEGIN:DAYLIGHT
TZOFFSETFROM:-0500
TZOFFSETTO:-0400
TZNAME:EDT
DTSTART:20190310T070000
END:DAYLIGHT
BEGIN:STANDARD
TZOFFSETFROM:-0400
TZOFFSETTO:-0500
TZNAME:EST
DTSTART:20191103T060000
END:STANDARD
BEGIN:DAYLIGHT
TZOFFSETFROM:-0500
TZOFFSETTO:-0400
TZNAME:EDT
DTSTART:20200308T070000
END:DAYLIGHT
BEGIN:STANDARD
TZOFFSETFROM:-0400
TZOFFSETTO:-0500
TZNAME:EST
DTSTART:20201101T060000
END:STANDARD
END:VTIMEZONE
BEGIN:VEVENT
DTSTART;TZID=America/New_York:20230427T170000
DTEND;TZID=America/New_York:20230427T190000
DTSTAMP:20260424T080903
CREATED:20230410T143123Z
LAST-MODIFIED:20230410T143123Z
UID:12508-1682614800-1682622000@durhamrealtors.org
SUMMARY:Ronald McDonald House - Dinner Delivery
DESCRIPTION:Community Service Committee
URL:https://durhamrealtors.org/event/ronald-mcdonald-house-dinner-delivery/
LOCATION:Ronald McDonald House of Durham\, 506 Alexander Ave\, Durham\, NC\, 27705\, United States
GEO:36.0015628;-78.9275753
X-APPLE-STRUCTURED-LOCATION;VALUE=URI;X-ADDRESS=Ronald McDonald House of Durham 506 Alexander Ave Durham NC 27705 United States;X-APPLE-RADIUS=500;X-TITLE=506 Alexander Ave:geo:-78.9275753,36.0015628
END:VEVENT
BEGIN:VEVENT
DTSTART;TZID=America/New_York:20190523T150000
DTEND;TZID=America/New_York:20190523T173000
DTSTAMP:20260424T080903
CREATED:20190506T162538Z
LAST-MODIFIED:20190506T162538Z
UID:9430-1558623600-1558632600@durhamrealtors.org
SUMMARY:Serving Ronald McDonald House Meal
DESCRIPTION:Community Service Committee & Volunteers. Sponsor: TMLA
URL:https://durhamrealtors.org/event/serving-ronald-mcdonald-house-meal/
LOCATION:Ronald McDonald House of Durham\, 506 Alexander Ave\, Durham\, NC\, 27705\, United States
GEO:36.0015628;-78.9275753
X-APPLE-STRUCTURED-LOCATION;VALUE=URI;X-ADDRESS=Ronald McDonald House of Durham 506 Alexander Ave Durham NC 27705 United States;X-APPLE-RADIUS=500;X-TITLE=506 Alexander Ave:geo:-78.9275753,36.0015628
END:VEVENT
END:VCALENDAR