BEGIN:VCALENDAR
VERSION:2.0
PRODID:-//Durham Regional Assc of Realtors - ECPv6.15.16//NONSGML v1.0//EN
CALSCALE:GREGORIAN
METHOD:PUBLISH
X-ORIGINAL-URL:https://durhamrealtors.org
X-WR-CALDESC:Events for Durham Regional Assc of Realtors
REFRESH-INTERVAL;VALUE=DURATION:PT1H
X-Robots-Tag:noindex
X-PUBLISHED-TTL:PT1H
BEGIN:VTIMEZONE
TZID:America/New_York
BEGIN:DAYLIGHT
TZOFFSETFROM:-0500
TZOFFSETTO:-0400
TZNAME:EDT
DTSTART:20220313T070000
END:DAYLIGHT
BEGIN:STANDARD
TZOFFSETFROM:-0400
TZOFFSETTO:-0500
TZNAME:EST
DTSTART:20221106T060000
END:STANDARD
BEGIN:DAYLIGHT
TZOFFSETFROM:-0500
TZOFFSETTO:-0400
TZNAME:EDT
DTSTART:20230312T070000
END:DAYLIGHT
BEGIN:STANDARD
TZOFFSETFROM:-0400
TZOFFSETTO:-0500
TZNAME:EST
DTSTART:20231105T060000
END:STANDARD
BEGIN:DAYLIGHT
TZOFFSETFROM:-0500
TZOFFSETTO:-0400
TZNAME:EDT
DTSTART:20240310T070000
END:DAYLIGHT
BEGIN:STANDARD
TZOFFSETFROM:-0400
TZOFFSETTO:-0500
TZNAME:EST
DTSTART:20241103T060000
END:STANDARD
END:VTIMEZONE
BEGIN:VEVENT
DTSTART;TZID=America/New_York:20230219T150000
DTEND;TZID=America/New_York:20230219T163000
DTSTAMP:20260424T030515
CREATED:20230214T140607Z
LAST-MODIFIED:20230214T140607Z
UID:12254-1676818800-1676824200@durhamrealtors.org
SUMMARY:Durham Comprehensive Plan In-Person Mtg
DESCRIPTION:Meeting will be held in the CAFETERIA \nFor more information CLICK HERE \n 
URL:https://durhamrealtors.org/event/durham-comprehensive-plan-in-person-mtg/
LOCATION:Southern School of Energy & Sustainability\, 800 Clayton Road\, Durham\, NC\, 27703\, United States
END:VEVENT
END:VCALENDAR